BEGIN:VCALENDAR
VERSION:2.0
PRODID:-//OSV - ECPv6.15.20//NONSGML v1.0//EN
CALSCALE:GREGORIAN
METHOD:PUBLISH
X-ORIGINAL-URL:https://svosnabrueck.de
X-WR-CALDESC:Veranstaltungen für OSV
REFRESH-INTERVAL;VALUE=DURATION:PT1H
X-Robots-Tag:noindex
X-PUBLISHED-TTL:PT1H
BEGIN:VTIMEZONE
TZID:Europe/Berlin
BEGIN:DAYLIGHT
TZOFFSETFROM:+0100
TZOFFSETTO:+0200
TZNAME:CEST
DTSTART:20240331T010000
END:DAYLIGHT
BEGIN:STANDARD
TZOFFSETFROM:+0200
TZOFFSETTO:+0100
TZNAME:CET
DTSTART:20241027T010000
END:STANDARD
BEGIN:DAYLIGHT
TZOFFSETFROM:+0100
TZOFFSETTO:+0200
TZNAME:CEST
DTSTART:20250330T010000
END:DAYLIGHT
BEGIN:STANDARD
TZOFFSETFROM:+0200
TZOFFSETTO:+0100
TZNAME:CET
DTSTART:20251026T010000
END:STANDARD
BEGIN:DAYLIGHT
TZOFFSETFROM:+0100
TZOFFSETTO:+0200
TZNAME:CEST
DTSTART:20260329T010000
END:DAYLIGHT
BEGIN:STANDARD
TZOFFSETFROM:+0200
TZOFFSETTO:+0100
TZNAME:CET
DTSTART:20261025T010000
END:STANDARD
END:VTIMEZONE
BEGIN:VEVENT
DTSTART;TZID=Europe/Berlin:20250805T193000
DTEND;TZID=Europe/Berlin:20250805T193000
DTSTAMP:20260422T190118
CREATED:20250604T065121Z
LAST-MODIFIED:20250604T065121Z
UID:10626-1754422200-1754422200@svosnabrueck.de
SUMMARY:Blitzcup
DESCRIPTION:
URL:https://svosnabrueck.de/event/blitzcup-42/
END:VEVENT
BEGIN:VEVENT
DTSTART;TZID=Europe/Berlin:20250807T170000
DTEND;TZID=Europe/Berlin:20250807T200000
DTSTAMP:20260422T190118
CREATED:20250604T065333Z
LAST-MODIFIED:20250604T065333Z
UID:10634-1754586000-1754596800@svosnabrueck.de
SUMMARY:Jugendtraining
DESCRIPTION:
URL:https://svosnabrueck.de/event/jugendtraining-171/
END:VEVENT
BEGIN:VEVENT
DTSTART;TZID=Europe/Berlin:20250812T193000
DTEND;TZID=Europe/Berlin:20250812T193000
DTSTAMP:20260422T190118
CREATED:20250604T065158Z
LAST-MODIFIED:20250604T065158Z
UID:10628-1755027000-1755027000@svosnabrueck.de
SUMMARY:Sommerturnier 4. Runde
DESCRIPTION:
URL:https://svosnabrueck.de/event/sommerturnier-4-runde-3/
END:VEVENT
BEGIN:VEVENT
DTSTART;TZID=Europe/Berlin:20250814T170000
DTEND;TZID=Europe/Berlin:20250814T200000
DTSTAMP:20260422T190118
CREATED:20250604T065351Z
LAST-MODIFIED:20250604T065351Z
UID:10636-1755190800-1755201600@svosnabrueck.de
SUMMARY:Jugendtraining
DESCRIPTION:
URL:https://svosnabrueck.de/event/jugendtraining-172/
END:VEVENT
BEGIN:VEVENT
DTSTART;TZID=Europe/Berlin:20250819T193000
DTEND;TZID=Europe/Berlin:20250819T193000
DTSTAMP:20260422T190118
CREATED:20250604T065259Z
LAST-MODIFIED:20250604T065259Z
UID:10632-1755631800-1755631800@svosnabrueck.de
SUMMARY:Schnellschach-Cup
DESCRIPTION:
URL:https://svosnabrueck.de/event/schnellschach-cup-43/
END:VEVENT
BEGIN:VEVENT
DTSTART;TZID=Europe/Berlin:20250821T170000
DTEND;TZID=Europe/Berlin:20250821T200000
DTSTAMP:20260422T190118
CREATED:20250604T065409Z
LAST-MODIFIED:20250604T065409Z
UID:10638-1755795600-1755806400@svosnabrueck.de
SUMMARY:Jugendtraining
DESCRIPTION:
URL:https://svosnabrueck.de/event/jugendtraining-173/
END:VEVENT
BEGIN:VEVENT
DTSTART;TZID=Europe/Berlin:20250826T193000
DTEND;TZID=Europe/Berlin:20250826T193000
DTSTAMP:20260422T190118
CREATED:20250604T065219Z
LAST-MODIFIED:20250604T065219Z
UID:10630-1756236600-1756236600@svosnabrueck.de
SUMMARY:Sommerturnier 5. Runde
DESCRIPTION:
URL:https://svosnabrueck.de/event/sommerturnier-5-runde/
END:VEVENT
BEGIN:VEVENT
DTSTART;TZID=Europe/Berlin:20250828T170000
DTEND;TZID=Europe/Berlin:20250828T200000
DTSTAMP:20260422T190118
CREATED:20250604T065426Z
LAST-MODIFIED:20250604T065426Z
UID:10640-1756400400-1756411200@svosnabrueck.de
SUMMARY:Jugendtraining
DESCRIPTION:
URL:https://svosnabrueck.de/event/jugendtraining-174/
END:VEVENT
BEGIN:VEVENT
DTSTART;TZID=Europe/Berlin:20250830T160000
DTEND;TZID=Europe/Berlin:20250830T160000
DTSTAMP:20260422T190118
CREATED:20250818T105432Z
LAST-MODIFIED:20250818T105432Z
UID:10761-1756569600-1756569600@svosnabrueck.de
SUMMARY:Veldhausen/Uel. : OSV 3
DESCRIPTION:
URL:https://svosnabrueck.de/event/veldhausen-uel-osv-3/
END:VEVENT
BEGIN:VEVENT
DTSTART;TZID=Europe/Berlin:20250830T160000
DTEND;TZID=Europe/Berlin:20250830T160000
DTSTAMP:20260422T190118
CREATED:20250818T105504Z
LAST-MODIFIED:20250818T105504Z
UID:10763-1756569600-1756569600@svosnabrueck.de
SUMMARY:OSV 7 : OSV 8
DESCRIPTION:
URL:https://svosnabrueck.de/event/osv-7-osv-8/
END:VEVENT
END:VCALENDAR