BEGIN:VCALENDAR
VERSION:2.0
PRODID:-//OSV - ECPv6.15.20//NONSGML v1.0//EN
CALSCALE:GREGORIAN
METHOD:PUBLISH
X-ORIGINAL-URL:https://svosnabrueck.de
X-WR-CALDESC:Veranstaltungen für OSV
REFRESH-INTERVAL;VALUE=DURATION:PT1H
X-Robots-Tag:noindex
X-PUBLISHED-TTL:PT1H
BEGIN:VTIMEZONE
TZID:Europe/Berlin
BEGIN:DAYLIGHT
TZOFFSETFROM:+0100
TZOFFSETTO:+0200
TZNAME:CEST
DTSTART:20240331T010000
END:DAYLIGHT
BEGIN:STANDARD
TZOFFSETFROM:+0200
TZOFFSETTO:+0100
TZNAME:CET
DTSTART:20241027T010000
END:STANDARD
BEGIN:DAYLIGHT
TZOFFSETFROM:+0100
TZOFFSETTO:+0200
TZNAME:CEST
DTSTART:20250330T010000
END:DAYLIGHT
BEGIN:STANDARD
TZOFFSETFROM:+0200
TZOFFSETTO:+0100
TZNAME:CET
DTSTART:20251026T010000
END:STANDARD
BEGIN:DAYLIGHT
TZOFFSETFROM:+0100
TZOFFSETTO:+0200
TZNAME:CEST
DTSTART:20260329T010000
END:DAYLIGHT
BEGIN:STANDARD
TZOFFSETFROM:+0200
TZOFFSETTO:+0100
TZNAME:CET
DTSTART:20261025T010000
END:STANDARD
END:VTIMEZONE
BEGIN:VEVENT
DTSTART;TZID=Europe/Berlin:20250701T193000
DTEND;TZID=Europe/Berlin:20250701T193000
DTSTAMP:20260422T203712
CREATED:20250604T063148Z
LAST-MODIFIED:20250604T063148Z
UID:10601-1751398200-1751398200@svosnabrueck.de
SUMMARY:Blitzcup
DESCRIPTION:
URL:https://svosnabrueck.de/event/blitzcup-41/
END:VEVENT
BEGIN:VEVENT
DTSTART;TZID=Europe/Berlin:20250703T170000
DTEND;TZID=Europe/Berlin:20250703T200000
DTSTAMP:20260422T203712
CREATED:20250604T063205Z
LAST-MODIFIED:20250604T063205Z
UID:10603-1751562000-1751572800@svosnabrueck.de
SUMMARY:Jugendtraining
DESCRIPTION:
URL:https://svosnabrueck.de/event/jugendtraining-166/
END:VEVENT
BEGIN:VEVENT
DTSTART;TZID=Europe/Berlin:20250705T160000
DTEND;TZID=Europe/Berlin:20250705T160000
DTSTAMP:20260422T203712
CREATED:20250604T063224Z
LAST-MODIFIED:20250604T063224Z
UID:10605-1751731200-1751731200@svosnabrueck.de
SUMMARY:Saisonabschlussgrillen
DESCRIPTION:
URL:https://svosnabrueck.de/event/saisonabschlussgrillen/
END:VEVENT
BEGIN:VEVENT
DTSTART;TZID=Europe/Berlin:20250708T193000
DTEND;TZID=Europe/Berlin:20250708T193000
DTSTAMP:20260422T203712
CREATED:20250604T063327Z
LAST-MODIFIED:20250604T063327Z
UID:10607-1752003000-1752003000@svosnabrueck.de
SUMMARY:Sommerturnier 1. Runde
DESCRIPTION:
URL:https://svosnabrueck.de/event/sommerturnier-1-runde-2/
END:VEVENT
BEGIN:VEVENT
DTSTART;TZID=Europe/Berlin:20250710T170000
DTEND;TZID=Europe/Berlin:20250710T200000
DTSTAMP:20260422T203712
CREATED:20250604T063408Z
LAST-MODIFIED:20250604T063408Z
UID:10609-1752166800-1752177600@svosnabrueck.de
SUMMARY:Jugendtraining
DESCRIPTION:
URL:https://svosnabrueck.de/event/jugendtraining-167/
END:VEVENT
BEGIN:VEVENT
DTSTART;TZID=Europe/Berlin:20250715T193000
DTEND;TZID=Europe/Berlin:20250715T193000
DTSTAMP:20260422T203712
CREATED:20250604T063943Z
LAST-MODIFIED:20250604T063943Z
UID:10613-1752607800-1752607800@svosnabrueck.de
SUMMARY:Schnellschach-Cup
DESCRIPTION:
URL:https://svosnabrueck.de/event/schnellschach-cup-42/
END:VEVENT
BEGIN:VEVENT
DTSTART;TZID=Europe/Berlin:20250717T170000
DTEND;TZID=Europe/Berlin:20250717T200000
DTSTAMP:20260422T203712
CREATED:20250604T064106Z
LAST-MODIFIED:20250604T064106Z
UID:10615-1752771600-1752782400@svosnabrueck.de
SUMMARY:Jugendtraining
DESCRIPTION:
URL:https://svosnabrueck.de/event/jugendtraining-168/
END:VEVENT
BEGIN:VEVENT
DTSTART;TZID=Europe/Berlin:20250722T193000
DTEND;TZID=Europe/Berlin:20250722T193000
DTSTAMP:20260422T203712
CREATED:20250604T064518Z
LAST-MODIFIED:20250604T064518Z
UID:10617-1753212600-1753212600@svosnabrueck.de
SUMMARY:Sommerturnier 2. Runde
DESCRIPTION:
URL:https://svosnabrueck.de/event/sommerturnier-2-runde-2/
END:VEVENT
BEGIN:VEVENT
DTSTART;TZID=Europe/Berlin:20250724T170000
DTEND;TZID=Europe/Berlin:20250724T200000
DTSTAMP:20260422T203712
CREATED:20250604T064630Z
LAST-MODIFIED:20250604T064630Z
UID:10621-1753376400-1753387200@svosnabrueck.de
SUMMARY:Jugendtraining
DESCRIPTION:
URL:https://svosnabrueck.de/event/jugendtraining-169/
END:VEVENT
BEGIN:VEVENT
DTSTART;TZID=Europe/Berlin:20250729T193000
DTEND;TZID=Europe/Berlin:20250729T193000
DTSTAMP:20260422T203712
CREATED:20250604T064540Z
LAST-MODIFIED:20250604T064540Z
UID:10619-1753817400-1753817400@svosnabrueck.de
SUMMARY:Sommerturnier 3. Runde
DESCRIPTION:
URL:https://svosnabrueck.de/event/sommerturnier-3-runde-2/
END:VEVENT
BEGIN:VEVENT
DTSTART;TZID=Europe/Berlin:20250731T170000
DTEND;TZID=Europe/Berlin:20250731T200000
DTSTAMP:20260422T203712
CREATED:20250604T064653Z
LAST-MODIFIED:20250604T064653Z
UID:10623-1753981200-1753992000@svosnabrueck.de
SUMMARY:Jugendtraining
DESCRIPTION:
URL:https://svosnabrueck.de/event/jugendtraining-170/
END:VEVENT
END:VCALENDAR