BEGIN:VCALENDAR
VERSION:2.0
PRODID:-//OSV - ECPv6.15.20//NONSGML v1.0//EN
CALSCALE:GREGORIAN
METHOD:PUBLISH
X-ORIGINAL-URL:https://svosnabrueck.de
X-WR-CALDESC:Veranstaltungen für OSV
REFRESH-INTERVAL;VALUE=DURATION:PT1H
X-Robots-Tag:noindex
X-PUBLISHED-TTL:PT1H
BEGIN:VTIMEZONE
TZID:Europe/Berlin
BEGIN:DAYLIGHT
TZOFFSETFROM:+0100
TZOFFSETTO:+0200
TZNAME:CEST
DTSTART:20240331T010000
END:DAYLIGHT
BEGIN:STANDARD
TZOFFSETFROM:+0200
TZOFFSETTO:+0100
TZNAME:CET
DTSTART:20241027T010000
END:STANDARD
BEGIN:DAYLIGHT
TZOFFSETFROM:+0100
TZOFFSETTO:+0200
TZNAME:CEST
DTSTART:20250330T010000
END:DAYLIGHT
BEGIN:STANDARD
TZOFFSETFROM:+0200
TZOFFSETTO:+0100
TZNAME:CET
DTSTART:20251026T010000
END:STANDARD
BEGIN:DAYLIGHT
TZOFFSETFROM:+0100
TZOFFSETTO:+0200
TZNAME:CEST
DTSTART:20260329T010000
END:DAYLIGHT
BEGIN:STANDARD
TZOFFSETFROM:+0200
TZOFFSETTO:+0100
TZNAME:CET
DTSTART:20261025T010000
END:STANDARD
END:VTIMEZONE
BEGIN:VEVENT
DTSTART;TZID=Europe/Berlin:20250603T193000
DTEND;TZID=Europe/Berlin:20250603T193000
DTSTAMP:20260422T220453
CREATED:20250507T104755Z
LAST-MODIFIED:20250507T104755Z
UID:10516-1748979000-1748979000@svosnabrueck.de
SUMMARY:Mitgliederversammlung
DESCRIPTION:
URL:https://svosnabrueck.de/event/mitgliederversammlung-2/
END:VEVENT
BEGIN:VEVENT
DTSTART;TZID=Europe/Berlin:20250605T170000
DTEND;TZID=Europe/Berlin:20250605T200000
DTSTAMP:20260422T220453
CREATED:20250507T105101Z
LAST-MODIFIED:20250507T105101Z
UID:10524-1749142800-1749153600@svosnabrueck.de
SUMMARY:Jugendtraining
DESCRIPTION:
URL:https://svosnabrueck.de/event/jugendtraining-162/
END:VEVENT
BEGIN:VEVENT
DTSTART;TZID=Europe/Berlin:20250610T193000
DTEND;TZID=Europe/Berlin:20250610T193000
DTSTAMP:20260422T220453
CREATED:20250507T105218Z
LAST-MODIFIED:20250507T105218Z
UID:10526-1749583800-1749583800@svosnabrueck.de
SUMMARY:Vereinsmeisterschaft 7. Runde
DESCRIPTION:
URL:https://svosnabrueck.de/event/vereinsmeisterschaft-7-runde-3/
END:VEVENT
BEGIN:VEVENT
DTSTART;TZID=Europe/Berlin:20250612T170000
DTEND;TZID=Europe/Berlin:20250612T200000
DTSTAMP:20260422T220453
CREATED:20250525T064514Z
LAST-MODIFIED:20250525T064514Z
UID:10574-1749747600-1749758400@svosnabrueck.de
SUMMARY:Jugendtraining
DESCRIPTION:
URL:https://svosnabrueck.de/event/jugendtraining-163/
END:VEVENT
BEGIN:VEVENT
DTSTART;TZID=Europe/Berlin:20250617T193000
DTEND;TZID=Europe/Berlin:20250617T193000
DTSTAMP:20260422T220453
CREATED:20250525T064627Z
LAST-MODIFIED:20250525T064627Z
UID:10576-1750188600-1750188600@svosnabrueck.de
SUMMARY:Schnellschach-Cup
DESCRIPTION:
URL:https://svosnabrueck.de/event/schnellschach-cup-41/
END:VEVENT
BEGIN:VEVENT
DTSTART;TZID=Europe/Berlin:20250619T170000
DTEND;TZID=Europe/Berlin:20250619T200000
DTSTAMP:20260422T220453
CREATED:20250604T063042Z
LAST-MODIFIED:20250604T063042Z
UID:10597-1750352400-1750363200@svosnabrueck.de
SUMMARY:Jugendtraining
DESCRIPTION:
URL:https://svosnabrueck.de/event/jugendtraining-164/
END:VEVENT
BEGIN:VEVENT
DTSTART;TZID=Europe/Berlin:20250624T193000
DTEND;TZID=Europe/Berlin:20250624T193000
DTSTAMP:20260422T220453
CREATED:20250604T063014Z
LAST-MODIFIED:20250604T063014Z
UID:10595-1750793400-1750793400@svosnabrueck.de
SUMMARY:Blitzcup (Nachholtermin)
DESCRIPTION:
URL:https://svosnabrueck.de/event/blitzcup-nachholtermin/
END:VEVENT
BEGIN:VEVENT
DTSTART;TZID=Europe/Berlin:20250626T170000
DTEND;TZID=Europe/Berlin:20250626T200000
DTSTAMP:20260422T220453
CREATED:20250604T063102Z
LAST-MODIFIED:20250604T063102Z
UID:10599-1750957200-1750968000@svosnabrueck.de
SUMMARY:Jugendtraining
DESCRIPTION:
URL:https://svosnabrueck.de/event/jugendtraining-165/
END:VEVENT
END:VCALENDAR