BEGIN:VCALENDAR
VERSION:2.0
PRODID:-//OSV - ECPv6.15.20//NONSGML v1.0//EN
CALSCALE:GREGORIAN
METHOD:PUBLISH
X-WR-CALNAME:OSV
X-ORIGINAL-URL:https://svosnabrueck.de
X-WR-CALDESC:Veranstaltungen für OSV
REFRESH-INTERVAL;VALUE=DURATION:PT1H
X-Robots-Tag:noindex
X-PUBLISHED-TTL:PT1H
BEGIN:VTIMEZONE
TZID:Europe/Berlin
BEGIN:DAYLIGHT
TZOFFSETFROM:+0100
TZOFFSETTO:+0200
TZNAME:CEST
DTSTART:20240331T010000
END:DAYLIGHT
BEGIN:STANDARD
TZOFFSETFROM:+0200
TZOFFSETTO:+0100
TZNAME:CET
DTSTART:20241027T010000
END:STANDARD
BEGIN:DAYLIGHT
TZOFFSETFROM:+0100
TZOFFSETTO:+0200
TZNAME:CEST
DTSTART:20250330T010000
END:DAYLIGHT
BEGIN:STANDARD
TZOFFSETFROM:+0200
TZOFFSETTO:+0100
TZNAME:CET
DTSTART:20251026T010000
END:STANDARD
BEGIN:DAYLIGHT
TZOFFSETFROM:+0100
TZOFFSETTO:+0200
TZNAME:CEST
DTSTART:20260329T010000
END:DAYLIGHT
BEGIN:STANDARD
TZOFFSETFROM:+0200
TZOFFSETTO:+0100
TZNAME:CET
DTSTART:20261025T010000
END:STANDARD
END:VTIMEZONE
BEGIN:VEVENT
DTSTART;TZID=Europe/Berlin:20250401T193000
DTEND;TZID=Europe/Berlin:20250401T193000
DTSTAMP:20260423T010005
CREATED:20250317T153749Z
LAST-MODIFIED:20250317T153749Z
UID:10351-1743535800-1743535800@svosnabrueck.de
SUMMARY:Blitzcup
DESCRIPTION:
URL:https://svosnabrueck.de/event/blitzcup-39/
END:VEVENT
BEGIN:VEVENT
DTSTART;TZID=Europe/Berlin:20250403T170000
DTEND;TZID=Europe/Berlin:20250403T200000
DTSTAMP:20260423T010005
CREATED:20250317T153825Z
LAST-MODIFIED:20250317T153825Z
UID:10353-1743699600-1743710400@svosnabrueck.de
SUMMARY:Jugendtraining
DESCRIPTION:
URL:https://svosnabrueck.de/event/jugendtraining-155/
END:VEVENT
BEGIN:VEVENT
DTSTART;TZID=Europe/Berlin:20250408T193000
DTEND;TZID=Europe/Berlin:20250408T193000
DTSTAMP:20260423T010005
CREATED:20250323T150757Z
LAST-MODIFIED:20250323T150757Z
UID:10362-1744140600-1744140600@svosnabrueck.de
SUMMARY:Vereinsmeisterschaft 2. Runde
DESCRIPTION:
URL:https://svosnabrueck.de/event/vereinsmeisterschaft-2-runde-3/
END:VEVENT
BEGIN:VEVENT
DTSTART;TZID=Europe/Berlin:20250410T170000
DTEND;TZID=Europe/Berlin:20250410T200000
DTSTAMP:20260423T010005
CREATED:20250323T150828Z
LAST-MODIFIED:20250323T150828Z
UID:10364-1744304400-1744315200@svosnabrueck.de
SUMMARY:Jugendtraining
DESCRIPTION:
URL:https://svosnabrueck.de/event/jugendtraining-156/
END:VEVENT
BEGIN:VEVENT
DTSTART;TZID=Europe/Berlin:20250415T193000
DTEND;TZID=Europe/Berlin:20250415T193000
DTSTAMP:20260423T010005
CREATED:20250331T154849Z
LAST-MODIFIED:20250331T154849Z
UID:10387-1744745400-1744745400@svosnabrueck.de
SUMMARY:Schnellschach-Cup
DESCRIPTION:
URL:https://svosnabrueck.de/event/schnellschach-cup-39/
END:VEVENT
BEGIN:VEVENT
DTSTART;TZID=Europe/Berlin:20250417T170000
DTEND;TZID=Europe/Berlin:20250417T200000
DTSTAMP:20260423T010005
CREATED:20250331T154910Z
LAST-MODIFIED:20250417T071147Z
UID:10389-1744909200-1744920000@svosnabrueck.de
SUMMARY:Das Jugendtraining muss heute leider entfallen
DESCRIPTION:
URL:https://svosnabrueck.de/event/jugendtraining-157/
END:VEVENT
BEGIN:VEVENT
DTSTART;TZID=Europe/Berlin:20250422T193000
DTEND;TZID=Europe/Berlin:20250422T193000
DTSTAMP:20260423T010005
CREATED:20250331T155100Z
LAST-MODIFIED:20250331T155100Z
UID:10391-1745350200-1745350200@svosnabrueck.de
SUMMARY:Vereinsmeisterschaft 3. Runde
DESCRIPTION:
URL:https://svosnabrueck.de/event/vereinsmeisterschaft-3-runde-4/
END:VEVENT
BEGIN:VEVENT
DTSTART;TZID=Europe/Berlin:20250424T170000
DTEND;TZID=Europe/Berlin:20250424T200000
DTSTAMP:20260423T010005
CREATED:20250403T152529Z
LAST-MODIFIED:20250403T152529Z
UID:10404-1745514000-1745524800@svosnabrueck.de
SUMMARY:Jugendtraining
DESCRIPTION:
URL:https://svosnabrueck.de/event/jugendtraining-158/
END:VEVENT
BEGIN:VEVENT
DTSTART;TZID=Europe/Berlin:20250426T160000
DTEND;TZID=Europe/Berlin:20250426T160000
DTSTAMP:20260423T010005
CREATED:20250415T130506Z
LAST-MODIFIED:20250415T130506Z
UID:10424-1745683200-1745683200@svosnabrueck.de
SUMMARY:SK Nordhorn-Blanke 5 : OSV 3
DESCRIPTION:
URL:https://svosnabrueck.de/event/sk-nordhorn-blanke-5-osv-3-2/
END:VEVENT
BEGIN:VEVENT
DTSTART;TZID=Europe/Berlin:20250427T100000
DTEND;TZID=Europe/Berlin:20250427T100000
DTSTAMP:20260423T010005
CREATED:20250423T193739Z
LAST-MODIFIED:20250423T193739Z
UID:10472-1745748000-1745748000@svosnabrueck.de
SUMMARY:OSV 1 : Stader SV
DESCRIPTION:
URL:https://svosnabrueck.de/event/osv-1-stader-sv/
END:VEVENT
BEGIN:VEVENT
DTSTART;TZID=Europe/Berlin:20250429T193000
DTEND;TZID=Europe/Berlin:20250429T193000
DTSTAMP:20260423T010005
CREATED:20250403T152552Z
LAST-MODIFIED:20250403T152552Z
UID:10406-1745955000-1745955000@svosnabrueck.de
SUMMARY:Vereinsmeisterschaft 4. Runde
DESCRIPTION:
URL:https://svosnabrueck.de/event/vereinsmeisterschaft-4-runde-2/
END:VEVENT
END:VCALENDAR