BEGIN:VCALENDAR
VERSION:2.0
PRODID:-//OSV - ECPv6.15.20//NONSGML v1.0//EN
CALSCALE:GREGORIAN
METHOD:PUBLISH
X-WR-CALNAME:OSV
X-ORIGINAL-URL:https://svosnabrueck.de
X-WR-CALDESC:Veranstaltungen für OSV
REFRESH-INTERVAL;VALUE=DURATION:PT1H
X-Robots-Tag:noindex
X-PUBLISHED-TTL:PT1H
BEGIN:VTIMEZONE
TZID:Europe/Berlin
BEGIN:DAYLIGHT
TZOFFSETFROM:+0100
TZOFFSETTO:+0200
TZNAME:CEST
DTSTART:20240331T010000
END:DAYLIGHT
BEGIN:STANDARD
TZOFFSETFROM:+0200
TZOFFSETTO:+0100
TZNAME:CET
DTSTART:20241027T010000
END:STANDARD
BEGIN:DAYLIGHT
TZOFFSETFROM:+0100
TZOFFSETTO:+0200
TZNAME:CEST
DTSTART:20250330T010000
END:DAYLIGHT
BEGIN:STANDARD
TZOFFSETFROM:+0200
TZOFFSETTO:+0100
TZNAME:CET
DTSTART:20251026T010000
END:STANDARD
BEGIN:DAYLIGHT
TZOFFSETFROM:+0100
TZOFFSETTO:+0200
TZNAME:CEST
DTSTART:20260329T010000
END:DAYLIGHT
BEGIN:STANDARD
TZOFFSETFROM:+0200
TZOFFSETTO:+0100
TZNAME:CET
DTSTART:20261025T010000
END:STANDARD
END:VTIMEZONE
BEGIN:VEVENT
DTSTART;TZID=Europe/Berlin:20250301T160000
DTEND;TZID=Europe/Berlin:20250301T160000
DTSTAMP:20260423T023022
CREATED:20250218T193346Z
LAST-MODIFIED:20250218T193346Z
UID:10243-1740844800-1740844800@svosnabrueck.de
SUMMARY:OSV 6 : OSV 4
DESCRIPTION:
URL:https://svosnabrueck.de/event/osv-6-osv-4/
END:VEVENT
BEGIN:VEVENT
DTSTART;TZID=Europe/Berlin:20250301T160000
DTEND;TZID=Europe/Berlin:20250301T160000
DTSTAMP:20260423T023022
CREATED:20250218T193412Z
LAST-MODIFIED:20250218T193412Z
UID:10245-1740844800-1740844800@svosnabrueck.de
SUMMARY:OSV 5 :  SV Hellern 6
DESCRIPTION:
URL:https://svosnabrueck.de/event/osv-5-sv-hellern-6-2/
END:VEVENT
BEGIN:VEVENT
DTSTART;TZID=Europe/Berlin:20250304T193000
DTEND;TZID=Europe/Berlin:20250304T193000
DTSTAMP:20260423T023022
CREATED:20250218T193027Z
LAST-MODIFIED:20250218T193027Z
UID:10237-1741116600-1741116600@svosnabrueck.de
SUMMARY:Blitzcup
DESCRIPTION:
URL:https://svosnabrueck.de/event/blitzcup-38/
END:VEVENT
BEGIN:VEVENT
DTSTART;TZID=Europe/Berlin:20250306T170000
DTEND;TZID=Europe/Berlin:20250306T200000
DTSTAMP:20260423T023022
CREATED:20250218T200926Z
LAST-MODIFIED:20250218T200926Z
UID:10255-1741280400-1741291200@svosnabrueck.de
SUMMARY:Jugendtraining
DESCRIPTION:
URL:https://svosnabrueck.de/event/jugendtraining-151/
END:VEVENT
BEGIN:VEVENT
DTSTART;TZID=Europe/Berlin:20250308T160000
DTEND;TZID=Europe/Berlin:20250308T160000
DTSTAMP:20260423T023022
CREATED:20250218T201050Z
LAST-MODIFIED:20250218T201050Z
UID:10259-1741449600-1741449600@svosnabrueck.de
SUMMARY:SV Lingen 2 : OSV 2
DESCRIPTION:
URL:https://svosnabrueck.de/event/sv-lingen-2-osv-2/
END:VEVENT
BEGIN:VEVENT
DTSTART;TZID=Europe/Berlin:20250311T193000
DTEND;TZID=Europe/Berlin:20250311T193000
DTSTAMP:20260423T023022
CREATED:20250218T193100Z
LAST-MODIFIED:20250218T193100Z
UID:10239-1741721400-1741721400@svosnabrueck.de
SUMMARY:Vereinspokal Finale
DESCRIPTION:
URL:https://svosnabrueck.de/event/vereinspokal-finale-2/
END:VEVENT
BEGIN:VEVENT
DTSTART;TZID=Europe/Berlin:20250313T170000
DTEND;TZID=Europe/Berlin:20250313T200000
DTSTAMP:20260423T023022
CREATED:20250218T200940Z
LAST-MODIFIED:20250218T200940Z
UID:10257-1741885200-1741896000@svosnabrueck.de
SUMMARY:Jugendtraining
DESCRIPTION:
URL:https://svosnabrueck.de/event/jugendtraining-152/
END:VEVENT
BEGIN:VEVENT
DTSTART;TZID=Europe/Berlin:20250315T160000
DTEND;TZID=Europe/Berlin:20250315T160000
DTSTAMP:20260423T023022
CREATED:20250310T041606Z
LAST-MODIFIED:20250310T041606Z
UID:10312-1742054400-1742054400@svosnabrueck.de
SUMMARY:Hagener SV 3 : OSV 3
DESCRIPTION:
URL:https://svosnabrueck.de/event/hagener-sv-3-osv-3/
END:VEVENT
BEGIN:VEVENT
DTSTART;TZID=Europe/Berlin:20250315T160000
DTEND;TZID=Europe/Berlin:20250315T160000
DTSTAMP:20260423T023022
CREATED:20250310T041631Z
LAST-MODIFIED:20250310T041631Z
UID:10314-1742054400-1742054400@svosnabrueck.de
SUMMARY:Bersenbrück/Bramsche 2: OSV 7
DESCRIPTION:
URL:https://svosnabrueck.de/event/bersenbrueck-bramsche-2-osv-7/
END:VEVENT
BEGIN:VEVENT
DTSTART;TZID=Europe/Berlin:20250318T193000
DTEND;TZID=Europe/Berlin:20250318T193000
DTSTAMP:20260423T023022
CREATED:20250218T193119Z
LAST-MODIFIED:20250218T193119Z
UID:10241-1742326200-1742326200@svosnabrueck.de
SUMMARY:Schnellschach-Cup
DESCRIPTION:
URL:https://svosnabrueck.de/event/schnellschach-cup-38/
END:VEVENT
BEGIN:VEVENT
DTSTART;TZID=Europe/Berlin:20250320T170000
DTEND;TZID=Europe/Berlin:20250320T200000
DTSTAMP:20260423T023022
CREATED:20250310T041926Z
LAST-MODIFIED:20250310T041926Z
UID:10322-1742490000-1742500800@svosnabrueck.de
SUMMARY:Jugendtraining
DESCRIPTION:
URL:https://svosnabrueck.de/event/jugendtraining-153/
END:VEVENT
BEGIN:VEVENT
DTSTART;TZID=Europe/Berlin:20250322T160000
DTEND;TZID=Europe/Berlin:20250322T160000
DTSTAMP:20260423T023022
CREATED:20250310T041747Z
LAST-MODIFIED:20250310T041747Z
UID:10316-1742659200-1742659200@svosnabrueck.de
SUMMARY:OSV 4 : OSV 5
DESCRIPTION:
URL:https://svosnabrueck.de/event/osv-4-osv-5-3/
END:VEVENT
BEGIN:VEVENT
DTSTART;TZID=Europe/Berlin:20250322T160000
DTEND;TZID=Europe/Berlin:20250322T160000
DTSTAMP:20260423T023022
CREATED:20250310T041823Z
LAST-MODIFIED:20250310T041823Z
UID:10318-1742659200-1742659200@svosnabrueck.de
SUMMARY:SV Bad Essen 2 : OSV 6
DESCRIPTION:
URL:https://svosnabrueck.de/event/sv-bad-essen-2-osv-6/
END:VEVENT
BEGIN:VEVENT
DTSTART;TZID=Europe/Berlin:20250325T193000
DTEND;TZID=Europe/Berlin:20250325T193000
DTSTAMP:20260423T023022
CREATED:20250317T153724Z
LAST-MODIFIED:20250317T153724Z
UID:10349-1742931000-1742931000@svosnabrueck.de
SUMMARY:Vereinsmeisterschaft 1. Runde
DESCRIPTION:
URL:https://svosnabrueck.de/event/vereinsmeisterschaft-1-runde-4/
END:VEVENT
BEGIN:VEVENT
DTSTART;TZID=Europe/Berlin:20250327T170000
DTEND;TZID=Europe/Berlin:20250327T200000
DTSTAMP:20260423T023022
CREATED:20250310T041945Z
LAST-MODIFIED:20250310T041945Z
UID:10324-1743094800-1743105600@svosnabrueck.de
SUMMARY:Jugendtraining
DESCRIPTION:
URL:https://svosnabrueck.de/event/jugendtraining-154/
END:VEVENT
BEGIN:VEVENT
DTSTART;TZID=Europe/Berlin:20250329T160000
DTEND;TZID=Europe/Berlin:20250329T160000
DTSTAMP:20260423T023022
CREATED:20250310T041856Z
LAST-MODIFIED:20250310T041856Z
UID:10320-1743264000-1743264000@svosnabrueck.de
SUMMARY:SV Hellern 3 : OSV 2
DESCRIPTION:
URL:https://svosnabrueck.de/event/sv-hellern-3-osv-2/
END:VEVENT
END:VCALENDAR