BEGIN:VCALENDAR
VERSION:2.0
PRODID:-//OSV - ECPv6.15.20//NONSGML v1.0//EN
CALSCALE:GREGORIAN
METHOD:PUBLISH
X-WR-CALNAME:OSV
X-ORIGINAL-URL:https://svosnabrueck.de
X-WR-CALDESC:Veranstaltungen für OSV
REFRESH-INTERVAL;VALUE=DURATION:PT1H
X-Robots-Tag:noindex
X-PUBLISHED-TTL:PT1H
BEGIN:VTIMEZONE
TZID:Europe/Berlin
BEGIN:DAYLIGHT
TZOFFSETFROM:+0100
TZOFFSETTO:+0200
TZNAME:CEST
DTSTART:20240331T010000
END:DAYLIGHT
BEGIN:STANDARD
TZOFFSETFROM:+0200
TZOFFSETTO:+0100
TZNAME:CET
DTSTART:20241027T010000
END:STANDARD
BEGIN:DAYLIGHT
TZOFFSETFROM:+0100
TZOFFSETTO:+0200
TZNAME:CEST
DTSTART:20250330T010000
END:DAYLIGHT
BEGIN:STANDARD
TZOFFSETFROM:+0200
TZOFFSETTO:+0100
TZNAME:CET
DTSTART:20251026T010000
END:STANDARD
BEGIN:DAYLIGHT
TZOFFSETFROM:+0100
TZOFFSETTO:+0200
TZNAME:CEST
DTSTART:20260329T010000
END:DAYLIGHT
BEGIN:STANDARD
TZOFFSETFROM:+0200
TZOFFSETTO:+0100
TZNAME:CET
DTSTART:20261025T010000
END:STANDARD
END:VTIMEZONE
BEGIN:VEVENT
DTSTART;TZID=Europe/Berlin:20250107T193000
DTEND;TZID=Europe/Berlin:20250107T193000
DTSTAMP:20260423T053948
CREATED:20241229T150848Z
LAST-MODIFIED:20241229T150848Z
UID:10064-1736278200-1736278200@svosnabrueck.de
SUMMARY:Blitzcup
DESCRIPTION:
URL:https://svosnabrueck.de/event/blitzcup-36/
END:VEVENT
BEGIN:VEVENT
DTSTART;TZID=Europe/Berlin:20250109T180000
DTEND;TZID=Europe/Berlin:20250109T200000
DTSTAMP:20260423T053948
CREATED:20241229T151014Z
LAST-MODIFIED:20241229T151014Z
UID:10072-1736445600-1736452800@svosnabrueck.de
SUMMARY:Jugendtraining
DESCRIPTION:
URL:https://svosnabrueck.de/event/jugendtraining-143/
END:VEVENT
BEGIN:VEVENT
DTSTART;TZID=Europe/Berlin:20250111T160000
DTEND;TZID=Europe/Berlin:20250111T160000
DTSTAMP:20260423T053948
CREATED:20241229T151233Z
LAST-MODIFIED:20241229T151233Z
UID:10076-1736611200-1736611200@svosnabrueck.de
SUMMARY:OSV 6 : SV Hellern 6
DESCRIPTION:
URL:https://svosnabrueck.de/event/osv-6-sv-hellern-6/
END:VEVENT
BEGIN:VEVENT
DTSTART;TZID=Europe/Berlin:20250111T160000
DTEND;TZID=Europe/Berlin:20250111T160000
DTSTAMP:20260423T053948
CREATED:20241229T151254Z
LAST-MODIFIED:20241229T151254Z
UID:10078-1736611200-1736611200@svosnabrueck.de
SUMMARY:OSV 4 : SV Hellern 5
DESCRIPTION:
URL:https://svosnabrueck.de/event/osv-4-sv-hellern-5-2/
END:VEVENT
BEGIN:VEVENT
DTSTART;TZID=Europe/Berlin:20250111T160000
DTEND;TZID=Europe/Berlin:20250111T160000
DTSTAMP:20260423T053948
CREATED:20241229T151322Z
LAST-MODIFIED:20241229T151322Z
UID:10080-1736611200-1736611200@svosnabrueck.de
SUMMARY:OSV 5 : TSV Riemsloh 2
DESCRIPTION:
URL:https://svosnabrueck.de/event/osv-5-tsv-riemsloh-2-2/
END:VEVENT
BEGIN:VEVENT
DTSTART;TZID=Europe/Berlin:20250112T100000
DTEND;TZID=Europe/Berlin:20250112T100000
DTSTAMP:20260423T053948
CREATED:20241230T190241Z
LAST-MODIFIED:20241230T190241Z
UID:10088-1736676000-1736676000@svosnabrueck.de
SUMMARY:OSV 1 : SV Werder Bremen 4
DESCRIPTION:
URL:https://svosnabrueck.de/event/osv-1-sv-werder-bremen-4-2/
END:VEVENT
BEGIN:VEVENT
DTSTART;TZID=Europe/Berlin:20250114T193000
DTEND;TZID=Europe/Berlin:20250114T193000
DTSTAMP:20260423T053948
CREATED:20241229T150915Z
LAST-MODIFIED:20241229T150915Z
UID:10066-1736883000-1736883000@svosnabrueck.de
SUMMARY:Vereinspokal 1. Runde
DESCRIPTION:
URL:https://svosnabrueck.de/event/vereinspokal-1-runde-3/
END:VEVENT
BEGIN:VEVENT
DTSTART;TZID=Europe/Berlin:20250116T180000
DTEND;TZID=Europe/Berlin:20250116T200000
DTSTAMP:20260423T053948
CREATED:20241229T151044Z
LAST-MODIFIED:20241229T151044Z
UID:10074-1737050400-1737057600@svosnabrueck.de
SUMMARY:Jugendtraining
DESCRIPTION:
URL:https://svosnabrueck.de/event/jugendtraining-144/
END:VEVENT
BEGIN:VEVENT
DTSTART;TZID=Europe/Berlin:20250118T160000
DTEND;TZID=Europe/Berlin:20250118T160000
DTSTAMP:20260423T053948
CREATED:20250112T135808Z
LAST-MODIFIED:20250112T135808Z
UID:10104-1737216000-1737216000@svosnabrueck.de
SUMMARY:Rochade Hollage : OSV 2
DESCRIPTION:
URL:https://svosnabrueck.de/event/rochade-hollage-osv-2-2/
END:VEVENT
BEGIN:VEVENT
DTSTART;TZID=Europe/Berlin:20250121T193000
DTEND;TZID=Europe/Berlin:20250121T193000
DTSTAMP:20260423T053948
CREATED:20241229T150938Z
LAST-MODIFIED:20241229T150938Z
UID:10068-1737487800-1737487800@svosnabrueck.de
SUMMARY:Schnellschach-Cup
DESCRIPTION:
URL:https://svosnabrueck.de/event/schnellschach-cup-36/
END:VEVENT
BEGIN:VEVENT
DTSTART;TZID=Europe/Berlin:20250123T180000
DTEND;TZID=Europe/Berlin:20250123T200000
DTSTAMP:20260423T053948
CREATED:20250112T135927Z
LAST-MODIFIED:20250112T135927Z
UID:10110-1737655200-1737662400@svosnabrueck.de
SUMMARY:Jugendtraining
DESCRIPTION:
URL:https://svosnabrueck.de/event/jugendtraining-145/
END:VEVENT
BEGIN:VEVENT
DTSTART;TZID=Europe/Berlin:20250125T160000
DTEND;TZID=Europe/Berlin:20250125T160000
DTSTAMP:20260423T053948
CREATED:20250112T135836Z
LAST-MODIFIED:20250112T135836Z
UID:10106-1737820800-1737820800@svosnabrueck.de
SUMMARY:Bersenbrück/Bramsche : OSV 3
DESCRIPTION:
URL:https://svosnabrueck.de/event/bersenbrueck-bramsche-osv-3-2/
END:VEVENT
BEGIN:VEVENT
DTSTART;TZID=Europe/Berlin:20250125T160000
DTEND;TZID=Europe/Berlin:20250125T160000
DTSTAMP:20260423T053948
CREATED:20250112T135902Z
LAST-MODIFIED:20250112T135902Z
UID:10108-1737820800-1737820800@svosnabrueck.de
SUMMARY:OSV 7 : SV Bad Essen 3
DESCRIPTION:
URL:https://svosnabrueck.de/event/osv-7-sv-bad-essen-3/
END:VEVENT
BEGIN:VEVENT
DTSTART;TZID=Europe/Berlin:20250128T193000
DTEND;TZID=Europe/Berlin:20250128T193000
DTSTAMP:20260423T053948
CREATED:20241229T150956Z
LAST-MODIFIED:20241229T150956Z
UID:10070-1738092600-1738092600@svosnabrueck.de
SUMMARY:Vereinspokal 2. Runde
DESCRIPTION:
URL:https://svosnabrueck.de/event/vereinspokal-2-runde-3/
END:VEVENT
BEGIN:VEVENT
DTSTART;TZID=Europe/Berlin:20250130T180000
DTEND;TZID=Europe/Berlin:20250130T200000
DTSTAMP:20260423T053948
CREATED:20250112T135944Z
LAST-MODIFIED:20250112T135944Z
UID:10112-1738260000-1738267200@svosnabrueck.de
SUMMARY:Jugendtraining
DESCRIPTION:
URL:https://svosnabrueck.de/event/jugendtraining-146/
END:VEVENT
END:VCALENDAR