BEGIN:VCALENDAR
VERSION:2.0
PRODID:-//OSV - ECPv6.15.20//NONSGML v1.0//EN
CALSCALE:GREGORIAN
METHOD:PUBLISH
X-WR-CALNAME:OSV
X-ORIGINAL-URL:https://svosnabrueck.de
X-WR-CALDESC:Veranstaltungen für OSV
REFRESH-INTERVAL;VALUE=DURATION:PT1H
X-Robots-Tag:noindex
X-PUBLISHED-TTL:PT1H
BEGIN:VTIMEZONE
TZID:Europe/Berlin
BEGIN:DAYLIGHT
TZOFFSETFROM:+0100
TZOFFSETTO:+0200
TZNAME:CEST
DTSTART:20230326T010000
END:DAYLIGHT
BEGIN:STANDARD
TZOFFSETFROM:+0200
TZOFFSETTO:+0100
TZNAME:CET
DTSTART:20231029T010000
END:STANDARD
BEGIN:DAYLIGHT
TZOFFSETFROM:+0100
TZOFFSETTO:+0200
TZNAME:CEST
DTSTART:20240331T010000
END:DAYLIGHT
BEGIN:STANDARD
TZOFFSETFROM:+0200
TZOFFSETTO:+0100
TZNAME:CET
DTSTART:20241027T010000
END:STANDARD
BEGIN:DAYLIGHT
TZOFFSETFROM:+0100
TZOFFSETTO:+0200
TZNAME:CEST
DTSTART:20250330T010000
END:DAYLIGHT
BEGIN:STANDARD
TZOFFSETFROM:+0200
TZOFFSETTO:+0100
TZNAME:CET
DTSTART:20251026T010000
END:STANDARD
END:VTIMEZONE
BEGIN:VEVENT
DTSTART;TZID=Europe/Berlin:20241203T193000
DTEND;TZID=Europe/Berlin:20241203T193000
DTSTAMP:20260423T072114
CREATED:20241111T171223Z
LAST-MODIFIED:20241111T171223Z
UID:9857-1733254200-1733254200@svosnabrueck.de
SUMMARY:Blitzcup
DESCRIPTION:
URL:https://svosnabrueck.de/event/blitzcup-35/
END:VEVENT
BEGIN:VEVENT
DTSTART;TZID=Europe/Berlin:20241204T193000
DTEND;TZID=Europe/Berlin:20241204T213000
DTSTAMP:20260423T072114
CREATED:20241125T162857Z
LAST-MODIFIED:20241125T162857Z
UID:9917-1733340600-1733347800@svosnabrueck.de
SUMMARY:Training für alle
DESCRIPTION:
URL:https://svosnabrueck.de/event/training-fuer-alle-92/
END:VEVENT
BEGIN:VEVENT
DTSTART;TZID=Europe/Berlin:20241205T180000
DTEND;TZID=Europe/Berlin:20241205T200000
DTSTAMP:20260423T072114
CREATED:20241125T162920Z
LAST-MODIFIED:20241125T162920Z
UID:9919-1733421600-1733428800@svosnabrueck.de
SUMMARY:Jugendtraining
DESCRIPTION:
URL:https://svosnabrueck.de/event/jugendtraining-140/
END:VEVENT
BEGIN:VEVENT
DTSTART;TZID=Europe/Berlin:20241206T193000
DTEND;TZID=Europe/Berlin:20241206T193000
DTSTAMP:20260423T072114
CREATED:20240926T154207Z
LAST-MODIFIED:20240926T154207Z
UID:9641-1733513400-1733513400@svosnabrueck.de
SUMMARY:Stadtschnellschachmeisterschaft 2024
DESCRIPTION:
URL:https://svosnabrueck.de/event/stadtschnellschachmeisterschaft-2024/
END:VEVENT
BEGIN:VEVENT
DTSTART;TZID=Europe/Berlin:20241207T160000
DTEND;TZID=Europe/Berlin:20241207T160000
DTSTAMP:20260423T072114
CREATED:20241125T163008Z
LAST-MODIFIED:20241125T163008Z
UID:9921-1733587200-1733587200@svosnabrueck.de
SUMMARY:OSV 2 : SV Bad Essen
DESCRIPTION:
URL:https://svosnabrueck.de/event/osv-2-sv-bad-essen/
END:VEVENT
BEGIN:VEVENT
DTSTART;TZID=Europe/Berlin:20241210T190000
DTEND;TZID=Europe/Berlin:20241210T190000
DTSTAMP:20260423T072114
CREATED:20241111T171015Z
LAST-MODIFIED:20241111T171015Z
UID:9849-1733857200-1733857200@svosnabrueck.de
SUMMARY:Weihnachtsfeier
DESCRIPTION:
URL:https://svosnabrueck.de/event/weihnachtsfeier-2/
END:VEVENT
BEGIN:VEVENT
DTSTART;TZID=Europe/Berlin:20241212T180000
DTEND;TZID=Europe/Berlin:20241212T200000
DTSTAMP:20260423T072114
CREATED:20241125T163142Z
LAST-MODIFIED:20241210T204152Z
UID:9927-1734026400-1734033600@svosnabrueck.de
SUMMARY:Jugendtraining ENTFÄLLT
DESCRIPTION:
URL:https://svosnabrueck.de/event/jugendtraining-141/
END:VEVENT
BEGIN:VEVENT
DTSTART;TZID=Europe/Berlin:20241213T193000
DTEND;TZID=Europe/Berlin:20241213T193000
DTSTAMP:20260423T072114
CREATED:20240926T154133Z
LAST-MODIFIED:20240926T154133Z
UID:9639-1734118200-1734118200@svosnabrueck.de
SUMMARY:Stadtmeisterschaft 2024 - 7. Runde
DESCRIPTION:
URL:https://svosnabrueck.de/event/stadtmeisterschaft-2024-7-runde/
END:VEVENT
BEGIN:VEVENT
DTSTART;TZID=Europe/Berlin:20241214T160000
DTEND;TZID=Europe/Berlin:20241214T160000
DTSTAMP:20260423T072114
CREATED:20241125T163032Z
LAST-MODIFIED:20241125T163032Z
UID:9923-1734192000-1734192000@svosnabrueck.de
SUMMARY:OSV 3 : SF Spelle 2
DESCRIPTION:
URL:https://svosnabrueck.de/event/osv-3-sf-spelle-2/
END:VEVENT
BEGIN:VEVENT
DTSTART;TZID=Europe/Berlin:20241217T193000
DTEND;TZID=Europe/Berlin:20241217T193000
DTSTAMP:20260423T072114
CREATED:20241111T171242Z
LAST-MODIFIED:20241111T171242Z
UID:9859-1734463800-1734463800@svosnabrueck.de
SUMMARY:Schnellschach-Cup
DESCRIPTION:
URL:https://svosnabrueck.de/event/schnellschach-cup-35/
END:VEVENT
BEGIN:VEVENT
DTSTART;TZID=Europe/Berlin:20241219T180000
DTEND;TZID=Europe/Berlin:20241219T200000
DTSTAMP:20260423T072114
CREATED:20241216T163436Z
LAST-MODIFIED:20241216T163436Z
UID:10015-1734631200-1734638400@svosnabrueck.de
SUMMARY:Jugendtraining
DESCRIPTION:
URL:https://svosnabrueck.de/event/jugendtraining-142/
END:VEVENT
BEGIN:VEVENT
DTSTART;TZID=Europe/Berlin:20241220T193000
DTEND;TZID=Europe/Berlin:20241220T193000
DTSTAMP:20260423T072114
CREATED:20240926T154336Z
LAST-MODIFIED:20241117T210856Z
UID:9645-1734723000-1734723000@svosnabrueck.de
SUMMARY:Stadtmeisterschaft 2024 - Siegerehrung
DESCRIPTION:
URL:https://svosnabrueck.de/event/stadtmeisterschaft-2024-siegerehrung/
END:VEVENT
BEGIN:VEVENT
DTSTART;TZID=Europe/Berlin:20241220T200000
DTEND;TZID=Europe/Berlin:20241220T200000
DTSTAMP:20260423T072114
CREATED:20240926T154318Z
LAST-MODIFIED:20240926T154318Z
UID:9643-1734724800-1734724800@svosnabrueck.de
SUMMARY:Stadtblitzmeisterschaft 2024
DESCRIPTION:
URL:https://svosnabrueck.de/event/stadtblitzmeisterschaft-2024/
END:VEVENT
BEGIN:VEVENT
DTSTART;TZID=Europe/Berlin:20241224T193000
DTEND;TZID=Europe/Berlin:20241224T193000
DTSTAMP:20260423T072114
CREATED:20241216T163203Z
LAST-MODIFIED:20241217T072401Z
UID:10009-1735068600-1735068600@svosnabrueck.de
SUMMARY:Vereinsabend (fällt aus)
DESCRIPTION:
URL:https://svosnabrueck.de/event/vereinsabend-faellt-aus/
END:VEVENT
BEGIN:VEVENT
DTSTART;TZID=Europe/Berlin:20241231T193000
DTEND;TZID=Europe/Berlin:20241231T193000
DTSTAMP:20260423T072114
CREATED:20241216T163219Z
LAST-MODIFIED:20241217T072344Z
UID:10011-1735673400-1735673400@svosnabrueck.de
SUMMARY:Vereinsabend (fällt aus)
DESCRIPTION:
URL:https://svosnabrueck.de/event/vereinsabend-faellt-aus-2/
END:VEVENT
END:VCALENDAR