BEGIN:VCALENDAR
VERSION:2.0
PRODID:-//OSV - ECPv6.15.20//NONSGML v1.0//EN
CALSCALE:GREGORIAN
METHOD:PUBLISH
X-ORIGINAL-URL:https://svosnabrueck.de
X-WR-CALDESC:Veranstaltungen für OSV
REFRESH-INTERVAL;VALUE=DURATION:PT1H
X-Robots-Tag:noindex
X-PUBLISHED-TTL:PT1H
BEGIN:VTIMEZONE
TZID:Europe/Berlin
BEGIN:DAYLIGHT
TZOFFSETFROM:+0100
TZOFFSETTO:+0200
TZNAME:CEST
DTSTART:20230326T010000
END:DAYLIGHT
BEGIN:STANDARD
TZOFFSETFROM:+0200
TZOFFSETTO:+0100
TZNAME:CET
DTSTART:20231029T010000
END:STANDARD
BEGIN:DAYLIGHT
TZOFFSETFROM:+0100
TZOFFSETTO:+0200
TZNAME:CEST
DTSTART:20240331T010000
END:DAYLIGHT
BEGIN:STANDARD
TZOFFSETFROM:+0200
TZOFFSETTO:+0100
TZNAME:CET
DTSTART:20241027T010000
END:STANDARD
BEGIN:DAYLIGHT
TZOFFSETFROM:+0100
TZOFFSETTO:+0200
TZNAME:CEST
DTSTART:20250330T010000
END:DAYLIGHT
BEGIN:STANDARD
TZOFFSETFROM:+0200
TZOFFSETTO:+0100
TZNAME:CET
DTSTART:20251026T010000
END:STANDARD
END:VTIMEZONE
BEGIN:VEVENT
DTSTART;TZID=Europe/Berlin:20241001T193000
DTEND;TZID=Europe/Berlin:20241001T193000
DTSTAMP:20260423T102203
CREATED:20240923T150308Z
LAST-MODIFIED:20240923T150308Z
UID:9597-1727811000-1727811000@svosnabrueck.de
SUMMARY:Blitzcup
DESCRIPTION:
URL:https://svosnabrueck.de/event/blitzcup-33/
END:VEVENT
BEGIN:VEVENT
DTSTART;TZID=Europe/Berlin:20241002T193000
DTEND;TZID=Europe/Berlin:20241002T213000
DTSTAMP:20260423T102203
CREATED:20240923T150330Z
LAST-MODIFIED:20240923T150330Z
UID:9599-1727897400-1727904600@svosnabrueck.de
SUMMARY:Training für alle
DESCRIPTION:
URL:https://svosnabrueck.de/event/training-fuer-alle-84/
END:VEVENT
BEGIN:VEVENT
DTSTART;TZID=Europe/Berlin:20241003T180000
DTEND;TZID=Europe/Berlin:20241003T200000
DTSTAMP:20260423T102203
CREATED:20240923T150347Z
LAST-MODIFIED:20240923T150347Z
UID:9601-1727978400-1727985600@svosnabrueck.de
SUMMARY:Jugendtraining
DESCRIPTION:
URL:https://svosnabrueck.de/event/jugendtraining-133/
END:VEVENT
BEGIN:VEVENT
DTSTART;TZID=Europe/Berlin:20241008T193000
DTEND;TZID=Europe/Berlin:20241008T193000
DTSTAMP:20260423T102203
CREATED:20240923T150454Z
LAST-MODIFIED:20240923T150454Z
UID:9605-1728415800-1728415800@svosnabrueck.de
SUMMARY:Freier Spielabend
DESCRIPTION:
URL:https://svosnabrueck.de/event/freier-spielabend-20/
END:VEVENT
BEGIN:VEVENT
DTSTART;TZID=Europe/Berlin:20241009T193000
DTEND;TZID=Europe/Berlin:20241009T213000
DTSTAMP:20260423T102203
CREATED:20240923T150513Z
LAST-MODIFIED:20240923T150513Z
UID:9607-1728502200-1728509400@svosnabrueck.de
SUMMARY:Training für alle
DESCRIPTION:
URL:https://svosnabrueck.de/event/training-fuer-alle-85/
END:VEVENT
BEGIN:VEVENT
DTSTART;TZID=Europe/Berlin:20241010T180000
DTEND;TZID=Europe/Berlin:20241010T200000
DTSTAMP:20260423T102203
CREATED:20240923T150531Z
LAST-MODIFIED:20240923T150531Z
UID:9609-1728583200-1728590400@svosnabrueck.de
SUMMARY:Jugendtraining
DESCRIPTION:
URL:https://svosnabrueck.de/event/jugendtraining-134/
END:VEVENT
BEGIN:VEVENT
DTSTART;TZID=Europe/Berlin:20241015T193000
DTEND;TZID=Europe/Berlin:20241015T193000
DTSTAMP:20260423T102203
CREATED:20240923T150604Z
LAST-MODIFIED:20240923T150604Z
UID:9611-1729020600-1729020600@svosnabrueck.de
SUMMARY:Schnellschach-Cup
DESCRIPTION:
URL:https://svosnabrueck.de/event/schnellschach-cup-33/
END:VEVENT
BEGIN:VEVENT
DTSTART;TZID=Europe/Berlin:20241016T193000
DTEND;TZID=Europe/Berlin:20241016T213000
DTSTAMP:20260423T102203
CREATED:20241007T153529Z
LAST-MODIFIED:20241007T153529Z
UID:9670-1729107000-1729114200@svosnabrueck.de
SUMMARY:Training für alle
DESCRIPTION:
URL:https://svosnabrueck.de/event/training-fuer-alle-86/
END:VEVENT
BEGIN:VEVENT
DTSTART;TZID=Europe/Berlin:20241018T193000
DTEND;TZID=Europe/Berlin:20241018T193000
DTSTAMP:20260423T102203
CREATED:20240926T153926Z
LAST-MODIFIED:20240926T153926Z
UID:9629-1729279800-1729279800@svosnabrueck.de
SUMMARY:Stadtmeisterschaft 2024 - 2. Runde
DESCRIPTION:
URL:https://svosnabrueck.de/event/stadtmeisterschaft-2024-2-runde/
END:VEVENT
BEGIN:VEVENT
DTSTART;TZID=Europe/Berlin:20241022T193000
DTEND;TZID=Europe/Berlin:20241022T193000
DTSTAMP:20260423T102203
CREATED:20241007T153645Z
LAST-MODIFIED:20241007T153645Z
UID:9674-1729625400-1729625400@svosnabrueck.de
SUMMARY:2. Norbert Kienel Gedenkturnier
DESCRIPTION:
URL:https://svosnabrueck.de/event/2-norbert-kienel-gedenkturnier/
END:VEVENT
BEGIN:VEVENT
DTSTART;TZID=Europe/Berlin:20241023T193000
DTEND;TZID=Europe/Berlin:20241023T213000
DTSTAMP:20260423T102203
CREATED:20241018T140656Z
LAST-MODIFIED:20241018T140656Z
UID:9744-1729711800-1729719000@svosnabrueck.de
SUMMARY:Training für alle
DESCRIPTION:
URL:https://svosnabrueck.de/event/training-fuer-alle-87/
END:VEVENT
BEGIN:VEVENT
DTSTART;TZID=Europe/Berlin:20241024T180000
DTEND;TZID=Europe/Berlin:20241024T200000
DTSTAMP:20260423T102203
CREATED:20241018T140639Z
LAST-MODIFIED:20241018T140639Z
UID:9742-1729792800-1729800000@svosnabrueck.de
SUMMARY:Jugendtraining
DESCRIPTION:
URL:https://svosnabrueck.de/event/jugendtraining-135/
END:VEVENT
BEGIN:VEVENT
DTSTART;TZID=Europe/Berlin:20241029T193000
DTEND;TZID=Europe/Berlin:20241029T193000
DTSTAMP:20260423T102203
CREATED:20241018T140731Z
LAST-MODIFIED:20241018T140731Z
UID:9748-1730230200-1730230200@svosnabrueck.de
SUMMARY:Freier Spielabend
DESCRIPTION:
URL:https://svosnabrueck.de/event/freier-spielabend-21/
END:VEVENT
END:VCALENDAR