BEGIN:VCALENDAR
VERSION:2.0
PRODID:-//OSV - ECPv6.15.20//NONSGML v1.0//EN
CALSCALE:GREGORIAN
METHOD:PUBLISH
X-ORIGINAL-URL:https://svosnabrueck.de
X-WR-CALDESC:Veranstaltungen für OSV
REFRESH-INTERVAL;VALUE=DURATION:PT1H
X-Robots-Tag:noindex
X-PUBLISHED-TTL:PT1H
BEGIN:VTIMEZONE
TZID:Europe/Berlin
BEGIN:DAYLIGHT
TZOFFSETFROM:+0100
TZOFFSETTO:+0200
TZNAME:CEST
DTSTART:20230326T010000
END:DAYLIGHT
BEGIN:STANDARD
TZOFFSETFROM:+0200
TZOFFSETTO:+0100
TZNAME:CET
DTSTART:20231029T010000
END:STANDARD
BEGIN:DAYLIGHT
TZOFFSETFROM:+0100
TZOFFSETTO:+0200
TZNAME:CEST
DTSTART:20240331T010000
END:DAYLIGHT
BEGIN:STANDARD
TZOFFSETFROM:+0200
TZOFFSETTO:+0100
TZNAME:CET
DTSTART:20241027T010000
END:STANDARD
BEGIN:DAYLIGHT
TZOFFSETFROM:+0100
TZOFFSETTO:+0200
TZNAME:CEST
DTSTART:20250330T010000
END:DAYLIGHT
BEGIN:STANDARD
TZOFFSETFROM:+0200
TZOFFSETTO:+0100
TZNAME:CET
DTSTART:20251026T010000
END:STANDARD
END:VTIMEZONE
BEGIN:VEVENT
DTSTART;TZID=Europe/Berlin:20240702T193000
DTEND;TZID=Europe/Berlin:20240702T193000
DTSTAMP:20260423T145110
CREATED:20240620T173014Z
LAST-MODIFIED:20240620T173014Z
UID:9298-1719948600-1719948600@svosnabrueck.de
SUMMARY:Blitzcup
DESCRIPTION:
URL:https://svosnabrueck.de/event/blitzcup-30/
END:VEVENT
BEGIN:VEVENT
DTSTART;TZID=Europe/Berlin:20240703T193000
DTEND;TZID=Europe/Berlin:20240703T213000
DTSTAMP:20260423T145110
CREATED:20240620T173033Z
LAST-MODIFIED:20240620T173033Z
UID:9300-1720035000-1720042200@svosnabrueck.de
SUMMARY:Training für alle
DESCRIPTION:
URL:https://svosnabrueck.de/event/training-fuer-alle-77/
END:VEVENT
BEGIN:VEVENT
DTSTART;TZID=Europe/Berlin:20240704T180000
DTEND;TZID=Europe/Berlin:20240704T200000
DTSTAMP:20260423T145110
CREATED:20240620T173048Z
LAST-MODIFIED:20240620T173048Z
UID:9302-1720116000-1720123200@svosnabrueck.de
SUMMARY:Jugendtraining
DESCRIPTION:
URL:https://svosnabrueck.de/event/jugendtraining-120/
END:VEVENT
BEGIN:VEVENT
DTSTART;TZID=Europe/Berlin:20240709T193000
DTEND;TZID=Europe/Berlin:20240709T193000
DTSTAMP:20260423T145110
CREATED:20240620T173117Z
LAST-MODIFIED:20240620T173117Z
UID:9304-1720553400-1720553400@svosnabrueck.de
SUMMARY:Sommerturnier 3. Runde
DESCRIPTION:
URL:https://svosnabrueck.de/event/sommerturnier-3-runde/
END:VEVENT
BEGIN:VEVENT
DTSTART;TZID=Europe/Berlin:20240711T180000
DTEND;TZID=Europe/Berlin:20240711T200000
DTSTAMP:20260423T145110
CREATED:20240620T173158Z
LAST-MODIFIED:20240620T173158Z
UID:9308-1720720800-1720728000@svosnabrueck.de
SUMMARY:Jugendtraining
DESCRIPTION:
URL:https://svosnabrueck.de/event/jugendtraining-121/
END:VEVENT
BEGIN:VEVENT
DTSTART;TZID=Europe/Berlin:20240716T193000
DTEND;TZID=Europe/Berlin:20240716T193000
DTSTAMP:20260423T145110
CREATED:20240703T161923Z
LAST-MODIFIED:20240703T161923Z
UID:9344-1721158200-1721158200@svosnabrueck.de
SUMMARY:Schnellschach-Cup
DESCRIPTION:
URL:https://svosnabrueck.de/event/schnellschach-cup-30/
END:VEVENT
BEGIN:VEVENT
DTSTART;TZID=Europe/Berlin:20240718T180000
DTEND;TZID=Europe/Berlin:20240718T200000
DTSTAMP:20260423T145110
CREATED:20240703T161956Z
LAST-MODIFIED:20240703T161956Z
UID:9348-1721325600-1721332800@svosnabrueck.de
SUMMARY:Jugendtraining
DESCRIPTION:
URL:https://svosnabrueck.de/event/jugendtraining-122/
END:VEVENT
BEGIN:VEVENT
DTSTART;TZID=Europe/Berlin:20240723T193000
DTEND;TZID=Europe/Berlin:20240723T193000
DTSTAMP:20260423T145110
CREATED:20240703T162037Z
LAST-MODIFIED:20240703T162037Z
UID:9350-1721763000-1721763000@svosnabrueck.de
SUMMARY:Sommerturnier 4. Runde
DESCRIPTION:
URL:https://svosnabrueck.de/event/sommerturnier-4-runde/
END:VEVENT
BEGIN:VEVENT
DTSTART;TZID=Europe/Berlin:20240725T180000
DTEND;TZID=Europe/Berlin:20240725T200000
DTSTAMP:20260423T145110
CREATED:20240703T162113Z
LAST-MODIFIED:20240703T162113Z
UID:9354-1721930400-1721937600@svosnabrueck.de
SUMMARY:Jugendtraining
DESCRIPTION:
URL:https://svosnabrueck.de/event/jugendtraining-123/
END:VEVENT
BEGIN:VEVENT
DTSTART;TZID=Europe/Berlin:20240730T193000
DTEND;TZID=Europe/Berlin:20240730T193000
DTSTAMP:20260423T145110
CREATED:20240717T180910Z
LAST-MODIFIED:20240717T180931Z
UID:9382-1722367800-1722367800@svosnabrueck.de
SUMMARY:Sommerturnier 5. Runde
DESCRIPTION:
URL:https://svosnabrueck.de/event/sommerturnier-4-runde-2/
END:VEVENT
END:VCALENDAR