BEGIN:VCALENDAR
VERSION:2.0
PRODID:-//OSV - ECPv6.15.20//NONSGML v1.0//EN
CALSCALE:GREGORIAN
METHOD:PUBLISH
X-ORIGINAL-URL:https://svosnabrueck.de
X-WR-CALDESC:Veranstaltungen für OSV
REFRESH-INTERVAL;VALUE=DURATION:PT1H
X-Robots-Tag:noindex
X-PUBLISHED-TTL:PT1H
BEGIN:VTIMEZONE
TZID:Europe/Berlin
BEGIN:DAYLIGHT
TZOFFSETFROM:+0100
TZOFFSETTO:+0200
TZNAME:CEST
DTSTART:20230326T010000
END:DAYLIGHT
BEGIN:STANDARD
TZOFFSETFROM:+0200
TZOFFSETTO:+0100
TZNAME:CET
DTSTART:20231029T010000
END:STANDARD
BEGIN:DAYLIGHT
TZOFFSETFROM:+0100
TZOFFSETTO:+0200
TZNAME:CEST
DTSTART:20240331T010000
END:DAYLIGHT
BEGIN:STANDARD
TZOFFSETFROM:+0200
TZOFFSETTO:+0100
TZNAME:CET
DTSTART:20241027T010000
END:STANDARD
BEGIN:DAYLIGHT
TZOFFSETFROM:+0100
TZOFFSETTO:+0200
TZNAME:CEST
DTSTART:20250330T010000
END:DAYLIGHT
BEGIN:STANDARD
TZOFFSETFROM:+0200
TZOFFSETTO:+0100
TZNAME:CET
DTSTART:20251026T010000
END:STANDARD
END:VTIMEZONE
BEGIN:VEVENT
DTSTART;TZID=Europe/Berlin:20240604T193000
DTEND;TZID=Europe/Berlin:20240604T193000
DTSTAMP:20260423T162503
CREATED:20240526T152040Z
LAST-MODIFIED:20240526T152040Z
UID:9215-1717529400-1717529400@svosnabrueck.de
SUMMARY:Blitzcup
DESCRIPTION:
URL:https://svosnabrueck.de/event/blitzcup-29/
END:VEVENT
BEGIN:VEVENT
DTSTART;TZID=Europe/Berlin:20240605T193000
DTEND;TZID=Europe/Berlin:20240605T213000
DTSTAMP:20260423T162503
CREATED:20240526T152107Z
LAST-MODIFIED:20240526T152107Z
UID:9217-1717615800-1717623000@svosnabrueck.de
SUMMARY:Training für alle
DESCRIPTION:
URL:https://svosnabrueck.de/event/training-fuer-alle-73/
END:VEVENT
BEGIN:VEVENT
DTSTART;TZID=Europe/Berlin:20240606T180000
DTEND;TZID=Europe/Berlin:20240606T200000
DTSTAMP:20260423T162503
CREATED:20240526T152134Z
LAST-MODIFIED:20240526T152134Z
UID:9219-1717696800-1717704000@svosnabrueck.de
SUMMARY:Jugendtraining
DESCRIPTION:
URL:https://svosnabrueck.de/event/jugendtraining-116/
END:VEVENT
BEGIN:VEVENT
DTSTART;TZID=Europe/Berlin:20240611T193000
DTEND;TZID=Europe/Berlin:20240611T193000
DTSTAMP:20260423T162503
CREATED:20240530T194326Z
LAST-MODIFIED:20240530T194326Z
UID:9230-1718134200-1718134200@svosnabrueck.de
SUMMARY:Sommerturnier 1. Runde
DESCRIPTION:
URL:https://svosnabrueck.de/event/sommerturnier-1-runde/
END:VEVENT
BEGIN:VEVENT
DTSTART;TZID=Europe/Berlin:20240612T193000
DTEND;TZID=Europe/Berlin:20240612T213000
DTSTAMP:20260423T162503
CREATED:20240530T194357Z
LAST-MODIFIED:20240530T194357Z
UID:9232-1718220600-1718227800@svosnabrueck.de
SUMMARY:Training für alle
DESCRIPTION:
URL:https://svosnabrueck.de/event/training-fuer-alle-74/
END:VEVENT
BEGIN:VEVENT
DTSTART;TZID=Europe/Berlin:20240613T180000
DTEND;TZID=Europe/Berlin:20240613T200000
DTSTAMP:20260423T162503
CREATED:20240530T194427Z
LAST-MODIFIED:20240530T194427Z
UID:9234-1718301600-1718308800@svosnabrueck.de
SUMMARY:Jugendtraining
DESCRIPTION:
URL:https://svosnabrueck.de/event/jugendtraining-117/
END:VEVENT
BEGIN:VEVENT
DTSTART;TZID=Europe/Berlin:20240615T160000
DTEND;TZID=Europe/Berlin:20240615T160000
DTSTAMP:20260423T162503
CREATED:20240530T194501Z
LAST-MODIFIED:20240530T194501Z
UID:9236-1718467200-1718467200@svosnabrueck.de
SUMMARY:Saisonabschluss 2024
DESCRIPTION:
URL:https://svosnabrueck.de/event/saisonabschluss-2024/
END:VEVENT
BEGIN:VEVENT
DTSTART;TZID=Europe/Berlin:20240618T193000
DTEND;TZID=Europe/Berlin:20240618T193000
DTSTAMP:20260423T162503
CREATED:20240530T194540Z
LAST-MODIFIED:20240530T194540Z
UID:9238-1718739000-1718739000@svosnabrueck.de
SUMMARY:Schnellschach-Cup
DESCRIPTION:
URL:https://svosnabrueck.de/event/schnellschach-cup-29/
END:VEVENT
BEGIN:VEVENT
DTSTART;TZID=Europe/Berlin:20240619T193000
DTEND;TZID=Europe/Berlin:20240619T213000
DTSTAMP:20260423T162503
CREATED:20240611T213942Z
LAST-MODIFIED:20240611T213942Z
UID:9273-1718825400-1718832600@svosnabrueck.de
SUMMARY:Training für alle
DESCRIPTION:
URL:https://svosnabrueck.de/event/training-fuer-alle-75/
END:VEVENT
BEGIN:VEVENT
DTSTART;TZID=Europe/Berlin:20240620T180000
DTEND;TZID=Europe/Berlin:20240620T200000
DTSTAMP:20260423T162503
CREATED:20240611T214000Z
LAST-MODIFIED:20240611T214000Z
UID:9275-1718906400-1718913600@svosnabrueck.de
SUMMARY:Jugendtraining
DESCRIPTION:
URL:https://svosnabrueck.de/event/jugendtraining-118/
END:VEVENT
BEGIN:VEVENT
DTSTART;TZID=Europe/Berlin:20240625T193000
DTEND;TZID=Europe/Berlin:20240625T193000
DTSTAMP:20260423T162503
CREATED:20240611T214040Z
LAST-MODIFIED:20240611T214040Z
UID:9277-1719343800-1719343800@svosnabrueck.de
SUMMARY:Sommerturnier 2. Runde
DESCRIPTION:
URL:https://svosnabrueck.de/event/sommerturnier-2-runde/
END:VEVENT
BEGIN:VEVENT
DTSTART;TZID=Europe/Berlin:20240626T193000
DTEND;TZID=Europe/Berlin:20240626T213000
DTSTAMP:20260423T162503
CREATED:20240620T172937Z
LAST-MODIFIED:20240620T172937Z
UID:9294-1719430200-1719437400@svosnabrueck.de
SUMMARY:Training für alle
DESCRIPTION:
URL:https://svosnabrueck.de/event/training-fuer-alle-76/
END:VEVENT
BEGIN:VEVENT
DTSTART;TZID=Europe/Berlin:20240627T180000
DTEND;TZID=Europe/Berlin:20240627T200000
DTSTAMP:20260423T162503
CREATED:20240620T172954Z
LAST-MODIFIED:20240620T172954Z
UID:9296-1719511200-1719518400@svosnabrueck.de
SUMMARY:Jugendtraining
DESCRIPTION:
URL:https://svosnabrueck.de/event/jugendtraining-119/
END:VEVENT
END:VCALENDAR