BEGIN:VCALENDAR
VERSION:2.0
PRODID:-//OSV - ECPv6.15.20//NONSGML v1.0//EN
CALSCALE:GREGORIAN
METHOD:PUBLISH
X-WR-CALNAME:OSV
X-ORIGINAL-URL:https://svosnabrueck.de
X-WR-CALDESC:Veranstaltungen für OSV
REFRESH-INTERVAL;VALUE=DURATION:PT1H
X-Robots-Tag:noindex
X-PUBLISHED-TTL:PT1H
BEGIN:VTIMEZONE
TZID:Europe/Berlin
BEGIN:DAYLIGHT
TZOFFSETFROM:+0100
TZOFFSETTO:+0200
TZNAME:CEST
DTSTART:20230326T010000
END:DAYLIGHT
BEGIN:STANDARD
TZOFFSETFROM:+0200
TZOFFSETTO:+0100
TZNAME:CET
DTSTART:20231029T010000
END:STANDARD
BEGIN:DAYLIGHT
TZOFFSETFROM:+0100
TZOFFSETTO:+0200
TZNAME:CEST
DTSTART:20240331T010000
END:DAYLIGHT
BEGIN:STANDARD
TZOFFSETFROM:+0200
TZOFFSETTO:+0100
TZNAME:CET
DTSTART:20241027T010000
END:STANDARD
BEGIN:DAYLIGHT
TZOFFSETFROM:+0100
TZOFFSETTO:+0200
TZNAME:CEST
DTSTART:20250330T010000
END:DAYLIGHT
BEGIN:STANDARD
TZOFFSETFROM:+0200
TZOFFSETTO:+0100
TZNAME:CET
DTSTART:20251026T010000
END:STANDARD
END:VTIMEZONE
BEGIN:VEVENT
DTSTART;TZID=Europe/Berlin:20240302T160000
DTEND;TZID=Europe/Berlin:20240302T160000
DTSTAMP:20260423T202652
CREATED:20240228T164226Z
LAST-MODIFIED:20240228T164226Z
UID:8804-1709395200-1709395200@svosnabrueck.de
SUMMARY:SV Lingen 2 : OSV 3
DESCRIPTION:
URL:https://svosnabrueck.de/event/sv-lingen-2-osv-3/
END:VEVENT
BEGIN:VEVENT
DTSTART;TZID=Europe/Berlin:20240305T193000
DTEND;TZID=Europe/Berlin:20240305T193000
DTSTAMP:20260423T202652
CREATED:20240228T164032Z
LAST-MODIFIED:20240228T164032Z
UID:8798-1709667000-1709667000@svosnabrueck.de
SUMMARY:Blitzcup
DESCRIPTION:
URL:https://svosnabrueck.de/event/blitzcup-26/
END:VEVENT
BEGIN:VEVENT
DTSTART;TZID=Europe/Berlin:20240306T193000
DTEND;TZID=Europe/Berlin:20240306T213000
DTSTAMP:20260423T202652
CREATED:20240228T164059Z
LAST-MODIFIED:20240228T164059Z
UID:8800-1709753400-1709760600@svosnabrueck.de
SUMMARY:Training für alle
DESCRIPTION:
URL:https://svosnabrueck.de/event/training-fuer-alle-61/
END:VEVENT
BEGIN:VEVENT
DTSTART;TZID=Europe/Berlin:20240307T180000
DTEND;TZID=Europe/Berlin:20240307T200000
DTSTAMP:20260423T202652
CREATED:20240228T164121Z
LAST-MODIFIED:20240228T164121Z
UID:8802-1709834400-1709841600@svosnabrueck.de
SUMMARY:Jugendtraining
DESCRIPTION:
URL:https://svosnabrueck.de/event/jugendtraining-104/
END:VEVENT
BEGIN:VEVENT
DTSTART;TZID=Europe/Berlin:20240309T160000
DTEND;TZID=Europe/Berlin:20240309T160000
DTSTAMP:20260423T202652
CREATED:20240228T164651Z
LAST-MODIFIED:20240228T164651Z
UID:8810-1710000000-1710000000@svosnabrueck.de
SUMMARY:OSV 4 : OSV 5
DESCRIPTION:
URL:https://svosnabrueck.de/event/osv-4-osv-5-2/
END:VEVENT
BEGIN:VEVENT
DTSTART;TZID=Europe/Berlin:20240310T100000
DTEND;TZID=Europe/Berlin:20240310T100000
DTSTAMP:20260423T202652
CREATED:20240228T165223Z
LAST-MODIFIED:20240228T165223Z
UID:8814-1710064800-1710064800@svosnabrueck.de
SUMMARY:OSV 1 : Bremer SG
DESCRIPTION:
URL:https://svosnabrueck.de/event/osv-1-bremer-sg/
END:VEVENT
BEGIN:VEVENT
DTSTART;TZID=Europe/Berlin:20240312T193000
DTEND;TZID=Europe/Berlin:20240312T193000
DTSTAMP:20260423T202652
CREATED:20240228T164332Z
LAST-MODIFIED:20240228T164332Z
UID:8806-1710271800-1710271800@svosnabrueck.de
SUMMARY:Vereinsmeisterschaft 1. Runde
DESCRIPTION:
URL:https://svosnabrueck.de/event/vereinsmeisterschaft-1-runde-3/
END:VEVENT
BEGIN:VEVENT
DTSTART;TZID=Europe/Berlin:20240313T193000
DTEND;TZID=Europe/Berlin:20240313T213000
DTSTAMP:20260423T202652
CREATED:20240310T160027Z
LAST-MODIFIED:20240310T160027Z
UID:8842-1710358200-1710365400@svosnabrueck.de
SUMMARY:Training für alle
DESCRIPTION:
URL:https://svosnabrueck.de/event/training-fuer-alle-62/
END:VEVENT
BEGIN:VEVENT
DTSTART;TZID=Europe/Berlin:20240314T180000
DTEND;TZID=Europe/Berlin:20240314T200000
DTSTAMP:20260423T202652
CREATED:20240310T160049Z
LAST-MODIFIED:20240310T160049Z
UID:8844-1710439200-1710446400@svosnabrueck.de
SUMMARY:Jugendtraining
DESCRIPTION:
URL:https://svosnabrueck.de/event/jugendtraining-105/
END:VEVENT
BEGIN:VEVENT
DTSTART;TZID=Europe/Berlin:20240319T193000
DTEND;TZID=Europe/Berlin:20240319T193000
DTSTAMP:20260423T202652
CREATED:20240228T164800Z
LAST-MODIFIED:20240319T044424Z
UID:8812-1710876600-1710876600@svosnabrueck.de
SUMMARY:Schnellschach-Cup
DESCRIPTION:
URL:https://svosnabrueck.de/event/schnellschach-cup-27/
END:VEVENT
BEGIN:VEVENT
DTSTART;TZID=Europe/Berlin:20240320T193000
DTEND;TZID=Europe/Berlin:20240320T213000
DTSTAMP:20260423T202652
CREATED:20240310T160210Z
LAST-MODIFIED:20240310T160210Z
UID:8848-1710963000-1710970200@svosnabrueck.de
SUMMARY:Training für alle
DESCRIPTION:
URL:https://svosnabrueck.de/event/training-fuer-alle-63/
END:VEVENT
BEGIN:VEVENT
DTSTART;TZID=Europe/Berlin:20240321T180000
DTEND;TZID=Europe/Berlin:20240321T200000
DTSTAMP:20260423T202652
CREATED:20240310T160236Z
LAST-MODIFIED:20240310T160236Z
UID:8850-1711044000-1711051200@svosnabrueck.de
SUMMARY:Jugendtraining
DESCRIPTION:
URL:https://svosnabrueck.de/event/jugendtraining-106/
END:VEVENT
BEGIN:VEVENT
DTSTART;TZID=Europe/Berlin:20240326T193000
DTEND;TZID=Europe/Berlin:20240326T193000
DTSTAMP:20260423T202652
CREATED:20240310T160140Z
LAST-MODIFIED:20240310T160140Z
UID:8846-1711481400-1711481400@svosnabrueck.de
SUMMARY:Vereinsmeisterschaft 2. Runde
DESCRIPTION:
URL:https://svosnabrueck.de/event/vereinsmeisterschaft-2-runde-2/
END:VEVENT
BEGIN:VEVENT
DTSTART;TZID=Europe/Berlin:20240327T193000
DTEND;TZID=Europe/Berlin:20240327T213000
DTSTAMP:20260423T202652
CREATED:20240310T160310Z
LAST-MODIFIED:20240310T160310Z
UID:8852-1711567800-1711575000@svosnabrueck.de
SUMMARY:Training für alle
DESCRIPTION:
URL:https://svosnabrueck.de/event/training-fuer-alle-64/
END:VEVENT
BEGIN:VEVENT
DTSTART;TZID=Europe/Berlin:20240328T180000
DTEND;TZID=Europe/Berlin:20240328T200000
DTSTAMP:20260423T202652
CREATED:20240310T160333Z
LAST-MODIFIED:20240310T160333Z
UID:8854-1711648800-1711656000@svosnabrueck.de
SUMMARY:Jugendtraining
DESCRIPTION:
URL:https://svosnabrueck.de/event/jugendtraining-107/
END:VEVENT
END:VCALENDAR