BEGIN:VCALENDAR
VERSION:2.0
PRODID:-//OSV - ECPv6.15.20//NONSGML v1.0//EN
CALSCALE:GREGORIAN
METHOD:PUBLISH
X-WR-CALNAME:OSV
X-ORIGINAL-URL:https://svosnabrueck.de
X-WR-CALDESC:Veranstaltungen für OSV
REFRESH-INTERVAL;VALUE=DURATION:PT1H
X-Robots-Tag:noindex
X-PUBLISHED-TTL:PT1H
BEGIN:VTIMEZONE
TZID:Europe/Berlin
BEGIN:DAYLIGHT
TZOFFSETFROM:+0100
TZOFFSETTO:+0200
TZNAME:CEST
DTSTART:20230326T010000
END:DAYLIGHT
BEGIN:STANDARD
TZOFFSETFROM:+0200
TZOFFSETTO:+0100
TZNAME:CET
DTSTART:20231029T010000
END:STANDARD
BEGIN:DAYLIGHT
TZOFFSETFROM:+0100
TZOFFSETTO:+0200
TZNAME:CEST
DTSTART:20240331T010000
END:DAYLIGHT
BEGIN:STANDARD
TZOFFSETFROM:+0200
TZOFFSETTO:+0100
TZNAME:CET
DTSTART:20241027T010000
END:STANDARD
BEGIN:DAYLIGHT
TZOFFSETFROM:+0100
TZOFFSETTO:+0200
TZNAME:CEST
DTSTART:20250330T010000
END:DAYLIGHT
BEGIN:STANDARD
TZOFFSETFROM:+0200
TZOFFSETTO:+0100
TZNAME:CET
DTSTART:20251026T010000
END:STANDARD
END:VTIMEZONE
BEGIN:VEVENT
DTSTART;TZID=Europe/Berlin:20240102T193000
DTEND;TZID=Europe/Berlin:20240102T193000
DTSTAMP:20260423T231923
CREATED:20231217T170751Z
LAST-MODIFIED:20231217T170751Z
UID:8486-1704223800-1704223800@svosnabrueck.de
SUMMARY:Blitzcup
DESCRIPTION:
URL:https://svosnabrueck.de/event/blitzcup-24/
END:VEVENT
BEGIN:VEVENT
DTSTART;TZID=Europe/Berlin:20240104T180000
DTEND;TZID=Europe/Berlin:20240104T200000
DTSTAMP:20260423T231923
CREATED:20231231T134754Z
LAST-MODIFIED:20231231T134754Z
UID:8556-1704391200-1704398400@svosnabrueck.de
SUMMARY:Jugendtraining
DESCRIPTION:
URL:https://svosnabrueck.de/event/jugendtraining-95/
END:VEVENT
BEGIN:VEVENT
DTSTART;TZID=Europe/Berlin:20240108T193000
DTEND;TZID=Europe/Berlin:20240108T213000
DTSTAMP:20260423T231923
CREATED:20231231T134925Z
LAST-MODIFIED:20231231T134925Z
UID:8564-1704742200-1704749400@svosnabrueck.de
SUMMARY:Training für alle
DESCRIPTION:
URL:https://svosnabrueck.de/event/training-fuer-alle-53/
END:VEVENT
BEGIN:VEVENT
DTSTART;TZID=Europe/Berlin:20240109T193000
DTEND;TZID=Europe/Berlin:20240109T193000
DTSTAMP:20260423T231923
CREATED:20231217T170839Z
LAST-MODIFIED:20231217T170839Z
UID:8490-1704828600-1704828600@svosnabrueck.de
SUMMARY:Vereinspokal 1. Runde
DESCRIPTION:
URL:https://svosnabrueck.de/event/vereinspokal-1-runde-2/
END:VEVENT
BEGIN:VEVENT
DTSTART;TZID=Europe/Berlin:20240111T180000
DTEND;TZID=Europe/Berlin:20240111T200000
DTSTAMP:20260423T231923
CREATED:20231231T134811Z
LAST-MODIFIED:20231231T134811Z
UID:8558-1704996000-1705003200@svosnabrueck.de
SUMMARY:Jugendtraining
DESCRIPTION:
URL:https://svosnabrueck.de/event/jugendtraining-96/
END:VEVENT
BEGIN:VEVENT
DTSTART;TZID=Europe/Berlin:20240113T160000
DTEND;TZID=Europe/Berlin:20240113T160000
DTSTAMP:20260423T231923
CREATED:20231231T135109Z
LAST-MODIFIED:20231231T135109Z
UID:8572-1705161600-1705161600@svosnabrueck.de
SUMMARY:OSV 2 : TSV Riemsloh
DESCRIPTION:
URL:https://svosnabrueck.de/event/osv-2-tsv-riemsloh/
END:VEVENT
BEGIN:VEVENT
DTSTART;TZID=Europe/Berlin:20240113T160000
DTEND;TZID=Europe/Berlin:20240113T160000
DTSTAMP:20260423T231923
CREATED:20231231T135135Z
LAST-MODIFIED:20231231T135135Z
UID:8574-1705161600-1705161600@svosnabrueck.de
SUMMARY:OSV 6 : Hagener SV 4
DESCRIPTION:
URL:https://svosnabrueck.de/event/osv-6-hagener-sv-4/
END:VEVENT
BEGIN:VEVENT
DTSTART;TZID=Europe/Berlin:20240115T193000
DTEND;TZID=Europe/Berlin:20240115T213000
DTSTAMP:20260423T231923
CREATED:20231231T134947Z
LAST-MODIFIED:20231231T134947Z
UID:8566-1705347000-1705354200@svosnabrueck.de
SUMMARY:Training für alle
DESCRIPTION:
URL:https://svosnabrueck.de/event/training-fuer-alle-54/
END:VEVENT
BEGIN:VEVENT
DTSTART;TZID=Europe/Berlin:20240116T193000
DTEND;TZID=Europe/Berlin:20240116T193000
DTSTAMP:20260423T231923
CREATED:20231217T170812Z
LAST-MODIFIED:20231217T170812Z
UID:8488-1705433400-1705433400@svosnabrueck.de
SUMMARY:Schnellschach-Cup
DESCRIPTION:
URL:https://svosnabrueck.de/event/schnellschach-cup-25/
END:VEVENT
BEGIN:VEVENT
DTSTART;TZID=Europe/Berlin:20240118T180000
DTEND;TZID=Europe/Berlin:20240118T200000
DTSTAMP:20260423T231923
CREATED:20231231T134833Z
LAST-MODIFIED:20231231T134833Z
UID:8560-1705600800-1705608000@svosnabrueck.de
SUMMARY:Jugendtraining
DESCRIPTION:
URL:https://svosnabrueck.de/event/jugendtraining-97/
END:VEVENT
BEGIN:VEVENT
DTSTART;TZID=Europe/Berlin:20240120T160000
DTEND;TZID=Europe/Berlin:20240120T160000
DTSTAMP:20260423T231923
CREATED:20231231T135206Z
LAST-MODIFIED:20231231T135206Z
UID:8576-1705766400-1705766400@svosnabrueck.de
SUMMARY:SK Nordhorn-Blanke 5 : OSV 3
DESCRIPTION:
URL:https://svosnabrueck.de/event/sk-nordhorn-blanke-5-osv-3/
END:VEVENT
BEGIN:VEVENT
DTSTART;TZID=Europe/Berlin:20240123T193000
DTEND;TZID=Europe/Berlin:20240123T193000
DTSTAMP:20260423T231923
CREATED:20231217T170857Z
LAST-MODIFIED:20231217T170857Z
UID:8492-1706038200-1706038200@svosnabrueck.de
SUMMARY:Vereinspokal 2. Runde
DESCRIPTION:
URL:https://svosnabrueck.de/event/vereinspokal-2-runde-2/
END:VEVENT
BEGIN:VEVENT
DTSTART;TZID=Europe/Berlin:20240124T193000
DTEND;TZID=Europe/Berlin:20240124T213000
DTSTAMP:20260423T231923
CREATED:20231231T135005Z
LAST-MODIFIED:20240120T215338Z
UID:8568-1706124600-1706131800@svosnabrueck.de
SUMMARY:Training für alle
DESCRIPTION:
URL:https://svosnabrueck.de/event/training-fuer-alle-55/
END:VEVENT
BEGIN:VEVENT
DTSTART;TZID=Europe/Berlin:20240125T180000
DTEND;TZID=Europe/Berlin:20240125T200000
DTSTAMP:20260423T231923
CREATED:20231231T134851Z
LAST-MODIFIED:20231231T134851Z
UID:8562-1706205600-1706212800@svosnabrueck.de
SUMMARY:Jugendtraining
DESCRIPTION:
URL:https://svosnabrueck.de/event/jugendtraining-98/
END:VEVENT
BEGIN:VEVENT
DTSTART;TZID=Europe/Berlin:20240126T200000
DTEND;TZID=Europe/Berlin:20240126T200000
DTSTAMP:20260423T231923
CREATED:20240126T162501Z
LAST-MODIFIED:20240126T162501Z
UID:8669-1706299200-1706299200@svosnabrueck.de
SUMMARY:Erstes Turnier der EL/OS Blitzserie 2024
DESCRIPTION:
URL:https://svosnabrueck.de/event/erstes-turnier-der-el-os-blitzserie-2024-2/
END:VEVENT
BEGIN:VEVENT
DTSTART;TZID=Europe/Berlin:20240127T160000
DTEND;TZID=Europe/Berlin:20240127T160000
DTSTAMP:20260423T231923
CREATED:20231231T135236Z
LAST-MODIFIED:20231231T135236Z
UID:8578-1706371200-1706371200@svosnabrueck.de
SUMMARY:SV Bad Essen 2 : OSV 5
DESCRIPTION:
URL:https://svosnabrueck.de/event/sv-bad-essen-2-osv-5-2/
END:VEVENT
BEGIN:VEVENT
DTSTART;TZID=Europe/Berlin:20240127T160000
DTEND;TZID=Europe/Berlin:20240127T160000
DTSTAMP:20260423T231923
CREATED:20231231T135302Z
LAST-MODIFIED:20231231T135302Z
UID:8580-1706371200-1706371200@svosnabrueck.de
SUMMARY:SV Hellern 5 : OSV 4
DESCRIPTION:
URL:https://svosnabrueck.de/event/sv-hellern-5-osv-4-2/
END:VEVENT
BEGIN:VEVENT
DTSTART;TZID=Europe/Berlin:20240130T193000
DTEND;TZID=Europe/Berlin:20240130T193000
DTSTAMP:20260423T231923
CREATED:20231217T170936Z
LAST-MODIFIED:20231217T170936Z
UID:8494-1706643000-1706643000@svosnabrueck.de
SUMMARY:Vereinspokal 3. Runde
DESCRIPTION:
URL:https://svosnabrueck.de/event/vereinspokal-3-runde-2/
END:VEVENT
BEGIN:VEVENT
DTSTART;TZID=Europe/Berlin:20240131T193000
DTEND;TZID=Europe/Berlin:20240131T213000
DTSTAMP:20260423T231923
CREATED:20231231T135021Z
LAST-MODIFIED:20240120T215438Z
UID:8570-1706729400-1706736600@svosnabrueck.de
SUMMARY:Training für alle
DESCRIPTION:
URL:https://svosnabrueck.de/event/training-fuer-alle-56/
END:VEVENT
END:VCALENDAR