BEGIN:VCALENDAR
VERSION:2.0
PRODID:-//OSV - ECPv6.15.20//NONSGML v1.0//EN
CALSCALE:GREGORIAN
METHOD:PUBLISH
X-WR-CALNAME:OSV
X-ORIGINAL-URL:https://svosnabrueck.de
X-WR-CALDESC:Veranstaltungen für OSV
REFRESH-INTERVAL;VALUE=DURATION:PT1H
X-Robots-Tag:noindex
X-PUBLISHED-TTL:PT1H
BEGIN:VTIMEZONE
TZID:Europe/Berlin
BEGIN:DAYLIGHT
TZOFFSETFROM:+0100
TZOFFSETTO:+0200
TZNAME:CEST
DTSTART:20220327T010000
END:DAYLIGHT
BEGIN:STANDARD
TZOFFSETFROM:+0200
TZOFFSETTO:+0100
TZNAME:CET
DTSTART:20221030T010000
END:STANDARD
BEGIN:DAYLIGHT
TZOFFSETFROM:+0100
TZOFFSETTO:+0200
TZNAME:CEST
DTSTART:20230326T010000
END:DAYLIGHT
BEGIN:STANDARD
TZOFFSETFROM:+0200
TZOFFSETTO:+0100
TZNAME:CET
DTSTART:20231029T010000
END:STANDARD
BEGIN:DAYLIGHT
TZOFFSETFROM:+0100
TZOFFSETTO:+0200
TZNAME:CEST
DTSTART:20240331T010000
END:DAYLIGHT
BEGIN:STANDARD
TZOFFSETFROM:+0200
TZOFFSETTO:+0100
TZNAME:CET
DTSTART:20241027T010000
END:STANDARD
END:VTIMEZONE
BEGIN:VEVENT
DTSTART;TZID=Europe/Berlin:20231202T160000
DTEND;TZID=Europe/Berlin:20231202T160000
DTSTAMP:20260424T003739
CREATED:20231116T073250Z
LAST-MODIFIED:20231116T073250Z
UID:8320-1701532800-1701532800@svosnabrueck.de
SUMMARY:Bersenbrück/Bramsche 2: OSV 6
DESCRIPTION:
URL:https://svosnabrueck.de/event/bersenbrueck-bramsche-2-osv-6/
END:VEVENT
BEGIN:VEVENT
DTSTART;TZID=Europe/Berlin:20231203T090000
DTEND;TZID=Europe/Berlin:20231203T090000
DTSTAMP:20260424T003739
CREATED:20231116T073826Z
LAST-MODIFIED:20231116T073826Z
UID:8335-1701594000-1701594000@svosnabrueck.de
SUMMARY:5. Osnabrücker DWZ-Turnier
DESCRIPTION:
URL:https://svosnabrueck.de/event/5-osnabruecker-dwz-turnier/
END:VEVENT
BEGIN:VEVENT
DTSTART;TZID=Europe/Berlin:20231203T100000
DTEND;TZID=Europe/Berlin:20231203T100000
DTSTAMP:20260424T003739
CREATED:20230906T073036Z
LAST-MODIFIED:20230906T073036Z
UID:7915-1701597600-1701597600@svosnabrueck.de
SUMMARY:Fortuna Logabirum : OSV 1
DESCRIPTION:
URL:https://svosnabrueck.de/event/fortuna-logabirum-osv-1/
END:VEVENT
BEGIN:VEVENT
DTSTART;TZID=Europe/Berlin:20231204T193000
DTEND;TZID=Europe/Berlin:20231204T213000
DTSTAMP:20260424T003739
CREATED:20231116T072618Z
LAST-MODIFIED:20231116T072618Z
UID:8297-1701718200-1701725400@svosnabrueck.de
SUMMARY:Training für alle
DESCRIPTION:
URL:https://svosnabrueck.de/event/training-fuer-alle-50/
END:VEVENT
BEGIN:VEVENT
DTSTART;TZID=Europe/Berlin:20231205T193000
DTEND;TZID=Europe/Berlin:20231205T193000
DTSTAMP:20260424T003739
CREATED:20230906T074739Z
LAST-MODIFIED:20230906T074739Z
UID:7924-1701804600-1701804600@svosnabrueck.de
SUMMARY:Blitzcup
DESCRIPTION:
URL:https://svosnabrueck.de/event/blitzcup-23/
END:VEVENT
BEGIN:VEVENT
DTSTART;TZID=Europe/Berlin:20231207T180000
DTEND;TZID=Europe/Berlin:20231207T200000
DTSTAMP:20260424T003739
CREATED:20231116T072822Z
LAST-MODIFIED:20231116T072822Z
UID:8307-1701972000-1701979200@svosnabrueck.de
SUMMARY:Jugendtraining
DESCRIPTION:
URL:https://svosnabrueck.de/event/jugendtraining-92/
END:VEVENT
BEGIN:VEVENT
DTSTART;TZID=Europe/Berlin:20231208T193000
DTEND;TZID=Europe/Berlin:20231208T193000
DTSTAMP:20260424T003739
CREATED:20231116T073602Z
LAST-MODIFIED:20231116T073602Z
UID:8331-1702063800-1702063800@svosnabrueck.de
SUMMARY:Stadtmeisterschaft 9. Runde
DESCRIPTION:
URL:https://svosnabrueck.de/event/stadtmeisterschaft-9-runde/
END:VEVENT
BEGIN:VEVENT
DTSTART;TZID=Europe/Berlin:20231209T160000
DTEND;TZID=Europe/Berlin:20231209T160000
DTSTAMP:20260424T003739
CREATED:20231116T073320Z
LAST-MODIFIED:20231116T073320Z
UID:8322-1702137600-1702137600@svosnabrueck.de
SUMMARY:OSV 3 :  TuS Aschendorf
DESCRIPTION:
URL:https://svosnabrueck.de/event/osv-3-tus-aschendorf/
END:VEVENT
BEGIN:VEVENT
DTSTART;TZID=Europe/Berlin:20231211T193000
DTEND;TZID=Europe/Berlin:20231211T213000
DTSTAMP:20260424T003739
CREATED:20231116T072636Z
LAST-MODIFIED:20231116T072636Z
UID:8299-1702323000-1702330200@svosnabrueck.de
SUMMARY:Training für alle
DESCRIPTION:
URL:https://svosnabrueck.de/event/training-fuer-alle-51/
END:VEVENT
BEGIN:VEVENT
DTSTART;TZID=Europe/Berlin:20231212T193000
DTEND;TZID=Europe/Berlin:20231212T193000
DTSTAMP:20260424T003739
CREATED:20230906T071723Z
LAST-MODIFIED:20230906T071723Z
UID:7899-1702409400-1702409400@svosnabrueck.de
SUMMARY:Weihnachtsfeier
DESCRIPTION:
URL:https://svosnabrueck.de/event/weihnachtsfeier/
END:VEVENT
BEGIN:VEVENT
DTSTART;TZID=Europe/Berlin:20231214T180000
DTEND;TZID=Europe/Berlin:20231214T200000
DTSTAMP:20260424T003739
CREATED:20231116T072857Z
LAST-MODIFIED:20231116T072857Z
UID:8309-1702576800-1702584000@svosnabrueck.de
SUMMARY:Jugendtraining
DESCRIPTION:
URL:https://svosnabrueck.de/event/jugendtraining-93/
END:VEVENT
BEGIN:VEVENT
DTSTART;TZID=Europe/Berlin:20231216T160000
DTEND;TZID=Europe/Berlin:20231216T160000
DTSTAMP:20260424T003739
CREATED:20231116T073352Z
LAST-MODIFIED:20231116T073352Z
UID:8324-1702742400-1702742400@svosnabrueck.de
SUMMARY:OSV 4 : SV Bad Essen 2
DESCRIPTION:
URL:https://svosnabrueck.de/event/osv-4-sv-bad-essen-2-3/
END:VEVENT
BEGIN:VEVENT
DTSTART;TZID=Europe/Berlin:20231216T160000
DTEND;TZID=Europe/Berlin:20231216T160000
DTSTAMP:20260424T003739
CREATED:20231116T073416Z
LAST-MODIFIED:20231116T073416Z
UID:8327-1702742400-1702742400@svosnabrueck.de
SUMMARY:OSV 5 : SK Rulle
DESCRIPTION:
URL:https://svosnabrueck.de/event/osv-5-sk-rulle-2/
END:VEVENT
BEGIN:VEVENT
DTSTART;TZID=Europe/Berlin:20231218T193000
DTEND;TZID=Europe/Berlin:20231218T213000
DTSTAMP:20260424T003739
CREATED:20231116T072654Z
LAST-MODIFIED:20231116T072654Z
UID:8301-1702927800-1702935000@svosnabrueck.de
SUMMARY:Training für alle
DESCRIPTION:
URL:https://svosnabrueck.de/event/training-fuer-alle-52/
END:VEVENT
BEGIN:VEVENT
DTSTART;TZID=Europe/Berlin:20231219T193000
DTEND;TZID=Europe/Berlin:20231219T193000
DTSTAMP:20260424T003739
CREATED:20230906T074805Z
LAST-MODIFIED:20230906T074805Z
UID:7926-1703014200-1703014200@svosnabrueck.de
SUMMARY:Schnellschach-Cup
DESCRIPTION:
URL:https://svosnabrueck.de/event/schnellschach-cup-24/
END:VEVENT
BEGIN:VEVENT
DTSTART;TZID=Europe/Berlin:20231221T180000
DTEND;TZID=Europe/Berlin:20231221T200000
DTSTAMP:20260424T003739
CREATED:20231116T072918Z
LAST-MODIFIED:20231116T072918Z
UID:8311-1703181600-1703188800@svosnabrueck.de
SUMMARY:Jugendtraining
DESCRIPTION:
URL:https://svosnabrueck.de/event/jugendtraining-94/
END:VEVENT
BEGIN:VEVENT
DTSTART;TZID=Europe/Berlin:20231222T193000
DTEND;TZID=Europe/Berlin:20231222T193000
DTSTAMP:20260424T003739
CREATED:20231116T073638Z
LAST-MODIFIED:20231116T073638Z
UID:8333-1703273400-1703273400@svosnabrueck.de
SUMMARY:Stadtblitzmeisterschaft
DESCRIPTION:
URL:https://svosnabrueck.de/event/stadtblitzmeisterschaft/
END:VEVENT
END:VCALENDAR