BEGIN:VCALENDAR
VERSION:2.0
PRODID:-//OSV - ECPv6.15.20//NONSGML v1.0//EN
CALSCALE:GREGORIAN
METHOD:PUBLISH
X-WR-CALNAME:OSV
X-ORIGINAL-URL:https://svosnabrueck.de
X-WR-CALDESC:Veranstaltungen für OSV
REFRESH-INTERVAL;VALUE=DURATION:PT1H
X-Robots-Tag:noindex
X-PUBLISHED-TTL:PT1H
BEGIN:VTIMEZONE
TZID:Europe/Berlin
BEGIN:DAYLIGHT
TZOFFSETFROM:+0100
TZOFFSETTO:+0200
TZNAME:CEST
DTSTART:20220327T010000
END:DAYLIGHT
BEGIN:STANDARD
TZOFFSETFROM:+0200
TZOFFSETTO:+0100
TZNAME:CET
DTSTART:20221030T010000
END:STANDARD
BEGIN:DAYLIGHT
TZOFFSETFROM:+0100
TZOFFSETTO:+0200
TZNAME:CEST
DTSTART:20230326T010000
END:DAYLIGHT
BEGIN:STANDARD
TZOFFSETFROM:+0200
TZOFFSETTO:+0100
TZNAME:CET
DTSTART:20231029T010000
END:STANDARD
BEGIN:DAYLIGHT
TZOFFSETFROM:+0100
TZOFFSETTO:+0200
TZNAME:CEST
DTSTART:20240331T010000
END:DAYLIGHT
BEGIN:STANDARD
TZOFFSETFROM:+0200
TZOFFSETTO:+0100
TZNAME:CET
DTSTART:20241027T010000
END:STANDARD
END:VTIMEZONE
BEGIN:VEVENT
DTSTART;TZID=Europe/Berlin:20231102T180000
DTEND;TZID=Europe/Berlin:20231102T200000
DTSTAMP:20260424T020446
CREATED:20231031T151853Z
LAST-MODIFIED:20231031T151902Z
UID:8223-1698948000-1698955200@svosnabrueck.de
SUMMARY:Jugendtraining
DESCRIPTION:
URL:https://svosnabrueck.de/event/jugendtraining-88/
END:VEVENT
BEGIN:VEVENT
DTSTART;VALUE=DATE:20231105
DTEND;VALUE=DATE:20231106
DTSTAMP:20260424T020446
CREATED:20230918T060855Z
LAST-MODIFIED:20230918T060855Z
UID:7989-1699142400-1699228799@svosnabrueck.de
SUMMARY:Jugendliga Niedersachsen
DESCRIPTION:
URL:https://svosnabrueck.de/event/jugendliga-niedersachsen-2/
END:VEVENT
BEGIN:VEVENT
DTSTART;TZID=Europe/Berlin:20231106T193000
DTEND;TZID=Europe/Berlin:20231106T213000
DTSTAMP:20260424T020446
CREATED:20231031T151641Z
LAST-MODIFIED:20231031T151641Z
UID:8215-1699299000-1699306200@svosnabrueck.de
SUMMARY:Training für alle
DESCRIPTION:
URL:https://svosnabrueck.de/event/training-fuer-alle-46/
END:VEVENT
BEGIN:VEVENT
DTSTART;TZID=Europe/Berlin:20231107T193000
DTEND;TZID=Europe/Berlin:20231107T193000
DTSTAMP:20260424T020446
CREATED:20230906T074657Z
LAST-MODIFIED:20230906T074657Z
UID:7920-1699385400-1699385400@svosnabrueck.de
SUMMARY:Blitzcup
DESCRIPTION:
URL:https://svosnabrueck.de/event/blitzcup-22/
END:VEVENT
BEGIN:VEVENT
DTSTART;TZID=Europe/Berlin:20231109T180000
DTEND;TZID=Europe/Berlin:20231109T200000
DTSTAMP:20260424T020446
CREATED:20231031T151706Z
LAST-MODIFIED:20231031T151706Z
UID:8217-1699552800-1699560000@svosnabrueck.de
SUMMARY:Jugendtraining
DESCRIPTION:
URL:https://svosnabrueck.de/event/jugendtraining-87/
END:VEVENT
BEGIN:VEVENT
DTSTART;TZID=Europe/Berlin:20231113T193000
DTEND;TZID=Europe/Berlin:20231113T213000
DTSTAMP:20260424T020446
CREATED:20231031T151748Z
LAST-MODIFIED:20231031T151748Z
UID:8219-1699903800-1699911000@svosnabrueck.de
SUMMARY:Training für alle
DESCRIPTION:
URL:https://svosnabrueck.de/event/training-fuer-alle-47/
END:VEVENT
BEGIN:VEVENT
DTSTART;TZID=Europe/Berlin:20231114T193000
DTEND;TZID=Europe/Berlin:20231114T193000
DTSTAMP:20260424T020446
CREATED:20231031T151818Z
LAST-MODIFIED:20231031T151818Z
UID:8221-1699990200-1699990200@svosnabrueck.de
SUMMARY:Freier Spielabend
DESCRIPTION:
URL:https://svosnabrueck.de/event/freier-spielabend-14/
END:VEVENT
BEGIN:VEVENT
DTSTART;TZID=Europe/Berlin:20231116T180000
DTEND;TZID=Europe/Berlin:20231116T200000
DTSTAMP:20260424T020446
CREATED:20231031T151935Z
LAST-MODIFIED:20231031T151935Z
UID:8225-1700157600-1700164800@svosnabrueck.de
SUMMARY:Jugendtraining
DESCRIPTION:
URL:https://svosnabrueck.de/event/jugendtraining-89/
END:VEVENT
BEGIN:VEVENT
DTSTART;TZID=Europe/Berlin:20231118T160000
DTEND;TZID=Europe/Berlin:20231118T160000
DTSTAMP:20260424T020446
CREATED:20231116T073053Z
LAST-MODIFIED:20231116T073053Z
UID:8314-1700323200-1700323200@svosnabrueck.de
SUMMARY:SC Fürstenau : OSV 3
DESCRIPTION:
URL:https://svosnabrueck.de/event/sc-fuerstenau-osv-3-2/
END:VEVENT
BEGIN:VEVENT
DTSTART;TZID=Europe/Berlin:20231120T193000
DTEND;TZID=Europe/Berlin:20231120T213000
DTSTAMP:20260424T020446
CREATED:20231116T072443Z
LAST-MODIFIED:20231116T072548Z
UID:8293-1700508600-1700515800@svosnabrueck.de
SUMMARY:Training für alle
DESCRIPTION:
URL:https://svosnabrueck.de/event/training-fuer-alle-48/
END:VEVENT
BEGIN:VEVENT
DTSTART;TZID=Europe/Berlin:20231121T193000
DTEND;TZID=Europe/Berlin:20231121T193000
DTSTAMP:20260424T020446
CREATED:20230906T074720Z
LAST-MODIFIED:20230906T074720Z
UID:7922-1700595000-1700595000@svosnabrueck.de
SUMMARY:Schnellschach-Cup
DESCRIPTION:
URL:https://svosnabrueck.de/event/schnellschach-cup-23/
END:VEVENT
BEGIN:VEVENT
DTSTART;TZID=Europe/Berlin:20231123T180000
DTEND;TZID=Europe/Berlin:20231123T200000
DTSTAMP:20260424T020446
CREATED:20231116T072746Z
LAST-MODIFIED:20231116T072746Z
UID:8303-1700762400-1700769600@svosnabrueck.de
SUMMARY:Jugendtraining
DESCRIPTION:
URL:https://svosnabrueck.de/event/jugendtraining-90/
END:VEVENT
BEGIN:VEVENT
DTSTART;TZID=Europe/Berlin:20231124T193000
DTEND;TZID=Europe/Berlin:20231124T193000
DTSTAMP:20260424T020446
CREATED:20231116T073538Z
LAST-MODIFIED:20231116T073538Z
UID:8329-1700854200-1700854200@svosnabrueck.de
SUMMARY:Stadtmeisterschaft 8. Runde
DESCRIPTION:
URL:https://svosnabrueck.de/event/stadtmeisterschaft-8-runde/
END:VEVENT
BEGIN:VEVENT
DTSTART;TZID=Europe/Berlin:20231125T160000
DTEND;TZID=Europe/Berlin:20231125T160000
DTSTAMP:20260424T020446
CREATED:20231116T073133Z
LAST-MODIFIED:20231116T073133Z
UID:8316-1700928000-1700928000@svosnabrueck.de
SUMMARY:SK Rulle : OSV 4
DESCRIPTION:
URL:https://svosnabrueck.de/event/sk-rulle-osv-4-2/
END:VEVENT
BEGIN:VEVENT
DTSTART;TZID=Europe/Berlin:20231125T160000
DTEND;TZID=Europe/Berlin:20231125T160000
DTSTAMP:20260424T020446
CREATED:20231116T073205Z
LAST-MODIFIED:20231116T073205Z
UID:8318-1700928000-1700928000@svosnabrueck.de
SUMMARY:SG Osnabrück 3 : OSV 5
DESCRIPTION:
URL:https://svosnabrueck.de/event/sg-osnabrueck-3-osv-5-2/
END:VEVENT
BEGIN:VEVENT
DTSTART;TZID=Europe/Berlin:20231127T193000
DTEND;TZID=Europe/Berlin:20231127T213000
DTSTAMP:20260424T020446
CREATED:20231116T072459Z
LAST-MODIFIED:20231116T072602Z
UID:8295-1701113400-1701120600@svosnabrueck.de
SUMMARY:Training für alle
DESCRIPTION:
URL:https://svosnabrueck.de/event/training-fuer-alle-49/
END:VEVENT
BEGIN:VEVENT
DTSTART;TZID=Europe/Berlin:20231128T193000
DTEND;TZID=Europe/Berlin:20231128T193000
DTSTAMP:20260424T020446
CREATED:20231031T152021Z
LAST-MODIFIED:20231031T152021Z
UID:8227-1701199800-1701199800@svosnabrueck.de
SUMMARY:Freier Spielabend
DESCRIPTION:
URL:https://svosnabrueck.de/event/freier-spielabend-15/
END:VEVENT
BEGIN:VEVENT
DTSTART;TZID=Europe/Berlin:20231130T180000
DTEND;TZID=Europe/Berlin:20231130T200000
DTSTAMP:20260424T020446
CREATED:20231116T072804Z
LAST-MODIFIED:20231116T072804Z
UID:8305-1701367200-1701374400@svosnabrueck.de
SUMMARY:Jugendtraining
DESCRIPTION:
URL:https://svosnabrueck.de/event/jugendtraining-91/
END:VEVENT
END:VCALENDAR