BEGIN:VCALENDAR
VERSION:2.0
PRODID:-//OSV - ECPv6.15.20//NONSGML v1.0//EN
CALSCALE:GREGORIAN
METHOD:PUBLISH
X-WR-CALNAME:OSV
X-ORIGINAL-URL:https://svosnabrueck.de
X-WR-CALDESC:Veranstaltungen für OSV
REFRESH-INTERVAL;VALUE=DURATION:PT1H
X-Robots-Tag:noindex
X-PUBLISHED-TTL:PT1H
BEGIN:VTIMEZONE
TZID:Europe/Berlin
BEGIN:DAYLIGHT
TZOFFSETFROM:+0100
TZOFFSETTO:+0200
TZNAME:CEST
DTSTART:20220327T010000
END:DAYLIGHT
BEGIN:STANDARD
TZOFFSETFROM:+0200
TZOFFSETTO:+0100
TZNAME:CET
DTSTART:20221030T010000
END:STANDARD
BEGIN:DAYLIGHT
TZOFFSETFROM:+0100
TZOFFSETTO:+0200
TZNAME:CEST
DTSTART:20230326T010000
END:DAYLIGHT
BEGIN:STANDARD
TZOFFSETFROM:+0200
TZOFFSETTO:+0100
TZNAME:CET
DTSTART:20231029T010000
END:STANDARD
BEGIN:DAYLIGHT
TZOFFSETFROM:+0100
TZOFFSETTO:+0200
TZNAME:CEST
DTSTART:20240331T010000
END:DAYLIGHT
BEGIN:STANDARD
TZOFFSETFROM:+0200
TZOFFSETTO:+0100
TZNAME:CET
DTSTART:20241027T010000
END:STANDARD
END:VTIMEZONE
BEGIN:VEVENT
DTSTART;TZID=Europe/Berlin:20231003T193000
DTEND;TZID=Europe/Berlin:20231003T193000
DTSTAMP:20260424T045715
CREATED:20230928T064313Z
LAST-MODIFIED:20230928T064313Z
UID:8046-1696361400-1696361400@svosnabrueck.de
SUMMARY:Freier Spielabend
DESCRIPTION:
URL:https://svosnabrueck.de/event/freier-spielabend-12/
END:VEVENT
BEGIN:VEVENT
DTSTART;TZID=Europe/Berlin:20231005T180000
DTEND;TZID=Europe/Berlin:20231005T200000
DTSTAMP:20260424T045715
CREATED:20231001T200830Z
LAST-MODIFIED:20231001T200830Z
UID:8060-1696528800-1696536000@svosnabrueck.de
SUMMARY:Jugendtraining
DESCRIPTION:
URL:https://svosnabrueck.de/event/jugendtraining-83/
END:VEVENT
BEGIN:VEVENT
DTSTART;TZID=Europe/Berlin:20231007T160000
DTEND;TZID=Europe/Berlin:20231007T160000
DTSTAMP:20260424T045715
CREATED:20231001T201016Z
LAST-MODIFIED:20231001T201016Z
UID:8064-1696694400-1696694400@svosnabrueck.de
SUMMARY:OSV 4 : SG Osnabrück 3
DESCRIPTION:
URL:https://svosnabrueck.de/event/osv-4-sg-osnabrueck-3-3/
END:VEVENT
BEGIN:VEVENT
DTSTART;TZID=Europe/Berlin:20231007T160000
DTEND;TZID=Europe/Berlin:20231007T160000
DTSTAMP:20260424T045715
CREATED:20231001T201043Z
LAST-MODIFIED:20231001T201043Z
UID:8066-1696694400-1696694400@svosnabrueck.de
SUMMARY:OSV 5 :  SC Fürstenau 2
DESCRIPTION:
URL:https://svosnabrueck.de/event/osv-5-sc-fuerstenau-2/
END:VEVENT
BEGIN:VEVENT
DTSTART;TZID=Europe/Berlin:20231008T100000
DTEND;TZID=Europe/Berlin:20231008T100000
DTSTAMP:20260424T045715
CREATED:20230906T072231Z
LAST-MODIFIED:20230906T072231Z
UID:7911-1696759200-1696759200@svosnabrueck.de
SUMMARY:SV Lingen : OSV 1
DESCRIPTION:
URL:https://svosnabrueck.de/event/sv-lingen-osv-1/
END:VEVENT
BEGIN:VEVENT
DTSTART;TZID=Europe/Berlin:20231009T193000
DTEND;TZID=Europe/Berlin:20231009T213000
DTSTAMP:20260424T045715
CREATED:20231001T200904Z
LAST-MODIFIED:20231003T132806Z
UID:8062-1696879800-1696887000@svosnabrueck.de
SUMMARY:Training für alle (fällt aus!)
DESCRIPTION:
URL:https://svosnabrueck.de/event/training-fuer-alle-42/
END:VEVENT
BEGIN:VEVENT
DTSTART;TZID=Europe/Berlin:20231010T193000
DTEND;TZID=Europe/Berlin:20231010T193000
DTSTAMP:20260424T045715
CREATED:20230906T071902Z
LAST-MODIFIED:20230906T071902Z
UID:7901-1696966200-1696966200@svosnabrueck.de
SUMMARY:Blitzcup
DESCRIPTION:
URL:https://svosnabrueck.de/event/blitzcup-21/
END:VEVENT
BEGIN:VEVENT
DTSTART;TZID=Europe/Berlin:20231012T180000
DTEND;TZID=Europe/Berlin:20231012T200000
DTSTAMP:20260424T045715
CREATED:20231001T201203Z
LAST-MODIFIED:20231001T201203Z
UID:8068-1697133600-1697140800@svosnabrueck.de
SUMMARY:Jugendtraining
DESCRIPTION:
URL:https://svosnabrueck.de/event/jugendtraining-84/
END:VEVENT
BEGIN:VEVENT
DTSTART;TZID=Europe/Berlin:20231016T193000
DTEND;TZID=Europe/Berlin:20231016T213000
DTSTAMP:20260424T045715
CREATED:20231001T201322Z
LAST-MODIFIED:20231001T201428Z
UID:8072-1697484600-1697491800@svosnabrueck.de
SUMMARY:Training für alle
DESCRIPTION:
URL:https://svosnabrueck.de/event/training-fuer-alle-43/
END:VEVENT
BEGIN:VEVENT
DTSTART;TZID=Europe/Berlin:20231017T193000
DTEND;TZID=Europe/Berlin:20231017T193000
DTSTAMP:20260424T045715
CREATED:20230906T071929Z
LAST-MODIFIED:20230906T071929Z
UID:7903-1697571000-1697571000@svosnabrueck.de
SUMMARY:Schnellschach-Cup
DESCRIPTION:
URL:https://svosnabrueck.de/event/schnellschach-cup-22/
END:VEVENT
BEGIN:VEVENT
DTSTART;TZID=Europe/Berlin:20231019T180000
DTEND;TZID=Europe/Berlin:20231019T200000
DTSTAMP:20260424T045715
CREATED:20231001T201527Z
LAST-MODIFIED:20231001T201527Z
UID:8078-1697738400-1697745600@svosnabrueck.de
SUMMARY:Jugendtraining
DESCRIPTION:
URL:https://svosnabrueck.de/event/jugendtraining-85/
END:VEVENT
BEGIN:VEVENT
DTSTART;TZID=Europe/Berlin:20231023T193000
DTEND;TZID=Europe/Berlin:20231023T213000
DTSTAMP:20260424T045715
CREATED:20231001T201339Z
LAST-MODIFIED:20231023T035225Z
UID:8074-1698089400-1698096600@svosnabrueck.de
SUMMARY:Training für alle (fällt aus!)
DESCRIPTION:
URL:https://svosnabrueck.de/event/training-fuer-alle-44/
END:VEVENT
BEGIN:VEVENT
DTSTART;TZID=Europe/Berlin:20231024T193000
DTEND;TZID=Europe/Berlin:20231024T193000
DTSTAMP:20260424T045715
CREATED:20230906T071700Z
LAST-MODIFIED:20230906T073649Z
UID:7897-1698175800-1698175800@svosnabrueck.de
SUMMARY:1. Norbert Kienel Gedenkturnier
DESCRIPTION:
URL:https://svosnabrueck.de/event/norbert-kienel-gedenkturnier/
END:VEVENT
BEGIN:VEVENT
DTSTART;TZID=Europe/Berlin:20231026T180000
DTEND;TZID=Europe/Berlin:20231026T200000
DTSTAMP:20260424T045715
CREATED:20231001T201548Z
LAST-MODIFIED:20231001T201548Z
UID:8080-1698343200-1698350400@svosnabrueck.de
SUMMARY:Jugendtraining
DESCRIPTION:
URL:https://svosnabrueck.de/event/jugendtraining-86/
END:VEVENT
BEGIN:VEVENT
DTSTART;TZID=Europe/Berlin:20231030T193000
DTEND;TZID=Europe/Berlin:20231030T213000
DTSTAMP:20260424T045715
CREATED:20231001T201404Z
LAST-MODIFIED:20231030T135105Z
UID:8076-1698694200-1698701400@svosnabrueck.de
SUMMARY:Training für alle (ENTFÄLLT)
DESCRIPTION:
URL:https://svosnabrueck.de/event/training-fuer-alle-45/
END:VEVENT
BEGIN:VEVENT
DTSTART;TZID=Europe/Berlin:20231031T193000
DTEND;TZID=Europe/Berlin:20231031T193000
DTSTAMP:20260424T045715
CREATED:20231001T201236Z
LAST-MODIFIED:20231001T201236Z
UID:8070-1698780600-1698780600@svosnabrueck.de
SUMMARY:Freier Spielabend
DESCRIPTION:
URL:https://svosnabrueck.de/event/freier-spielabend-13/
END:VEVENT
END:VCALENDAR