BEGIN:VCALENDAR
VERSION:2.0
PRODID:-//OSV - ECPv6.15.20//NONSGML v1.0//EN
CALSCALE:GREGORIAN
METHOD:PUBLISH
X-WR-CALNAME:OSV
X-ORIGINAL-URL:https://svosnabrueck.de
X-WR-CALDESC:Veranstaltungen für OSV
REFRESH-INTERVAL;VALUE=DURATION:PT1H
X-Robots-Tag:noindex
X-PUBLISHED-TTL:PT1H
BEGIN:VTIMEZONE
TZID:Europe/Berlin
BEGIN:DAYLIGHT
TZOFFSETFROM:+0100
TZOFFSETTO:+0200
TZNAME:CEST
DTSTART:20220327T010000
END:DAYLIGHT
BEGIN:STANDARD
TZOFFSETFROM:+0200
TZOFFSETTO:+0100
TZNAME:CET
DTSTART:20221030T010000
END:STANDARD
BEGIN:DAYLIGHT
TZOFFSETFROM:+0100
TZOFFSETTO:+0200
TZNAME:CEST
DTSTART:20230326T010000
END:DAYLIGHT
BEGIN:STANDARD
TZOFFSETFROM:+0200
TZOFFSETTO:+0100
TZNAME:CET
DTSTART:20231029T010000
END:STANDARD
BEGIN:DAYLIGHT
TZOFFSETFROM:+0100
TZOFFSETTO:+0200
TZNAME:CEST
DTSTART:20240331T010000
END:DAYLIGHT
BEGIN:STANDARD
TZOFFSETFROM:+0200
TZOFFSETTO:+0100
TZNAME:CET
DTSTART:20241027T010000
END:STANDARD
END:VTIMEZONE
BEGIN:VEVENT
DTSTART;TZID=Europe/Berlin:20230901T193000
DTEND;TZID=Europe/Berlin:20230901T193000
DTSTAMP:20260424T045715
CREATED:20230823T041408Z
LAST-MODIFIED:20230823T041408Z
UID:7802-1693596600-1693596600@svosnabrueck.de
SUMMARY:Stadtmeisterschaft 2. Runde
DESCRIPTION:
URL:https://svosnabrueck.de/event/stadtmeisterschaft-2-runde/
END:VEVENT
BEGIN:VEVENT
DTSTART;TZID=Europe/Berlin:20230902T160000
DTEND;TZID=Europe/Berlin:20230902T160000
DTSTAMP:20260424T045715
CREATED:20230829T120053Z
LAST-MODIFIED:20230829T120053Z
UID:7825-1693670400-1693670400@svosnabrueck.de
SUMMARY:SK Meppen : OSV 2
DESCRIPTION:
URL:https://svosnabrueck.de/event/sk-meppen-osv-2-2/
END:VEVENT
BEGIN:VEVENT
DTSTART;TZID=Europe/Berlin:20230902T160000
DTEND;TZID=Europe/Berlin:20230902T160000
DTSTAMP:20260424T045715
CREATED:20230829T120203Z
LAST-MODIFIED:20230829T120203Z
UID:7827-1693670400-1693670400@svosnabrueck.de
SUMMARY:TuS Lemförde : OSV 6
DESCRIPTION:
URL:https://svosnabrueck.de/event/tus-lemfoerde-osv-6/
END:VEVENT
BEGIN:VEVENT
DTSTART;TZID=Europe/Berlin:20230904T193000
DTEND;TZID=Europe/Berlin:20230904T213000
DTSTAMP:20260424T045715
CREATED:20230829T115640Z
LAST-MODIFIED:20230902T070319Z
UID:7815-1693855800-1693863000@svosnabrueck.de
SUMMARY:Training für alle (fällt aus)
DESCRIPTION:
URL:https://svosnabrueck.de/event/training-fuer-alle-38/
END:VEVENT
BEGIN:VEVENT
DTSTART;TZID=Europe/Berlin:20230905T193000
DTEND;TZID=Europe/Berlin:20230905T193000
DTSTAMP:20260424T045715
CREATED:20230829T115700Z
LAST-MODIFIED:20230829T115700Z
UID:7817-1693942200-1693942200@svosnabrueck.de
SUMMARY:Blitzcup
DESCRIPTION:
URL:https://svosnabrueck.de/event/blitzcup-20/
END:VEVENT
BEGIN:VEVENT
DTSTART;TZID=Europe/Berlin:20230907T180000
DTEND;TZID=Europe/Berlin:20230907T200000
DTSTAMP:20260424T045715
CREATED:20230829T115719Z
LAST-MODIFIED:20230905T201603Z
UID:7819-1694109600-1694116800@svosnabrueck.de
SUMMARY:Jugendtraining ENTFÄLLT
DESCRIPTION:
URL:https://svosnabrueck.de/event/jugendtraining-79/
END:VEVENT
BEGIN:VEVENT
DTSTART;TZID=Europe/Berlin:20230908T180000
DTEND;TZID=Europe/Berlin:20230908T180000
DTSTAMP:20260424T045715
CREATED:20230602T140016Z
LAST-MODIFIED:20230602T140143Z
UID:7456-1694196000-1694196000@svosnabrueck.de
SUMMARY:Rampendahl 2023
DESCRIPTION:
URL:https://svosnabrueck.de/event/rampendahl-2023/
END:VEVENT
BEGIN:VEVENT
DTSTART;TZID=Europe/Berlin:20230909T160000
DTEND;TZID=Europe/Berlin:20230909T160000
DTSTAMP:20260424T045715
CREATED:20230829T120700Z
LAST-MODIFIED:20230829T120700Z
UID:7833-1694275200-1694275200@svosnabrueck.de
SUMMARY:Gaste-Hasbergen : OSV 3
DESCRIPTION:
URL:https://svosnabrueck.de/event/gaste-hasbergen-osv-3/
END:VEVENT
BEGIN:VEVENT
DTSTART;TZID=Europe/Berlin:20230911T193000
DTEND;TZID=Europe/Berlin:20230911T213000
DTSTAMP:20260424T045715
CREATED:20230829T115757Z
LAST-MODIFIED:20230829T115757Z
UID:7821-1694460600-1694467800@svosnabrueck.de
SUMMARY:Training für alle
DESCRIPTION:
URL:https://svosnabrueck.de/event/training-fuer-alle-39/
END:VEVENT
BEGIN:VEVENT
DTSTART;TZID=Europe/Berlin:20230912T193000
DTEND;TZID=Europe/Berlin:20230912T193000
DTSTAMP:20260424T045715
CREATED:20230906T064734Z
LAST-MODIFIED:20230906T064734Z
UID:7876-1694547000-1694547000@svosnabrueck.de
SUMMARY:Freier Spielabend
DESCRIPTION:
URL:https://svosnabrueck.de/event/freier-spielabend-10/
END:VEVENT
BEGIN:VEVENT
DTSTART;TZID=Europe/Berlin:20230914T180000
DTEND;TZID=Europe/Berlin:20230914T200000
DTSTAMP:20260424T045715
CREATED:20230829T115828Z
LAST-MODIFIED:20230829T115828Z
UID:7823-1694714400-1694721600@svosnabrueck.de
SUMMARY:Jugendtraining
DESCRIPTION:
URL:https://svosnabrueck.de/event/jugendtraining-80/
END:VEVENT
BEGIN:VEVENT
DTSTART;TZID=Europe/Berlin:20230915T193000
DTEND;TZID=Europe/Berlin:20230915T193000
DTSTAMP:20260424T045715
CREATED:20230913T085519Z
LAST-MODIFIED:20230913T085519Z
UID:7967-1694806200-1694806200@svosnabrueck.de
SUMMARY:Stadtmeisterschaft 3. Runde
DESCRIPTION:
URL:https://svosnabrueck.de/event/stadtmeisterschaft-3-runde/
END:VEVENT
BEGIN:VEVENT
DTSTART;TZID=Europe/Berlin:20230916T160000
DTEND;TZID=Europe/Berlin:20230916T160000
DTSTAMP:20260424T045715
CREATED:20230906T070915Z
LAST-MODIFIED:20230906T070915Z
UID:7885-1694880000-1694880000@svosnabrueck.de
SUMMARY:Hagener SV 3 : OSV 5
DESCRIPTION:
URL:https://svosnabrueck.de/event/hagener-sv-3-osv-5-2/
END:VEVENT
BEGIN:VEVENT
DTSTART;TZID=Europe/Berlin:20230916T160000
DTEND;TZID=Europe/Berlin:20230916T160000
DTSTAMP:20260424T045715
CREATED:20230906T070937Z
LAST-MODIFIED:20230906T070958Z
UID:7887-1694880000-1694880000@svosnabrueck.de
SUMMARY:SC Fürstenau 2 : OSV 4
DESCRIPTION:
URL:https://svosnabrueck.de/event/sc-fuerstenau-2-osv-4/
END:VEVENT
BEGIN:VEVENT
DTSTART;TZID=Europe/Berlin:20230918T193000
DTEND;TZID=Europe/Berlin:20230918T213000
DTSTAMP:20260424T045715
CREATED:20230829T120445Z
LAST-MODIFIED:20230829T120445Z
UID:7831-1695065400-1695072600@svosnabrueck.de
SUMMARY:Training für alle
DESCRIPTION:
URL:https://svosnabrueck.de/event/training-fuer-alle-40/
END:VEVENT
BEGIN:VEVENT
DTSTART;TZID=Europe/Berlin:20230919T193000
DTEND;TZID=Europe/Berlin:20230919T193000
DTSTAMP:20260424T045715
CREATED:20230829T120403Z
LAST-MODIFIED:20230829T120403Z
UID:7829-1695151800-1695151800@svosnabrueck.de
SUMMARY:Schnellschach-Cup
DESCRIPTION:
URL:https://svosnabrueck.de/event/schnellschach-cup-21/
END:VEVENT
BEGIN:VEVENT
DTSTART;TZID=Europe/Berlin:20230921T180000
DTEND;TZID=Europe/Berlin:20230921T200000
DTSTAMP:20260424T045715
CREATED:20230906T071041Z
LAST-MODIFIED:20230906T071041Z
UID:7889-1695319200-1695326400@svosnabrueck.de
SUMMARY:Jugendtraining
DESCRIPTION:
URL:https://svosnabrueck.de/event/jugendtraining-81/
END:VEVENT
BEGIN:VEVENT
DTSTART;TZID=Europe/Berlin:20230922T193000
DTEND;TZID=Europe/Berlin:20230922T193000
DTSTAMP:20260424T045715
CREATED:20230913T085542Z
LAST-MODIFIED:20230913T085542Z
UID:7969-1695411000-1695411000@svosnabrueck.de
SUMMARY:Stadtschnellschachmeisterschaft
DESCRIPTION:
URL:https://svosnabrueck.de/event/stadtschnellschachmeisterschaft/
END:VEVENT
BEGIN:VEVENT
DTSTART;TZID=Europe/Berlin:20230923T160000
DTEND;TZID=Europe/Berlin:20230923T160000
DTSTAMP:20260424T045715
CREATED:20230906T071207Z
LAST-MODIFIED:20230906T071207Z
UID:7891-1695484800-1695484800@svosnabrueck.de
SUMMARY:OSV 2 : SK Nordhorn-Blanke 4
DESCRIPTION:
URL:https://svosnabrueck.de/event/osv-2-sk-nordhorn-blanke-4/
END:VEVENT
BEGIN:VEVENT
DTSTART;TZID=Europe/Berlin:20230923T160000
DTEND;TZID=Europe/Berlin:20230923T160000
DTSTAMP:20260424T045715
CREATED:20230906T071228Z
LAST-MODIFIED:20230906T071228Z
UID:7893-1695484800-1695484800@svosnabrueck.de
SUMMARY:TuS Lemförde 2 : OSV 6
DESCRIPTION:
URL:https://svosnabrueck.de/event/tus-lemfoerde-2-osv-6/
END:VEVENT
BEGIN:VEVENT
DTSTART;VALUE=DATE:20230924
DTEND;VALUE=DATE:20230925
DTSTAMP:20260424T045715
CREATED:20230918T060749Z
LAST-MODIFIED:20230918T060749Z
UID:7987-1695513600-1695599999@svosnabrueck.de
SUMMARY:Jugendliga Niedersachsen
DESCRIPTION:
URL:https://svosnabrueck.de/event/jugendliga-niedersachsen/
END:VEVENT
BEGIN:VEVENT
DTSTART;TZID=Europe/Berlin:20230925T193000
DTEND;TZID=Europe/Berlin:20230925T213000
DTSTAMP:20260424T045715
CREATED:20230906T072037Z
LAST-MODIFIED:20230906T072037Z
UID:7907-1695670200-1695677400@svosnabrueck.de
SUMMARY:Training für alle
DESCRIPTION:
URL:https://svosnabrueck.de/event/training-fuer-alle-41/
END:VEVENT
BEGIN:VEVENT
DTSTART;TZID=Europe/Berlin:20230926T193000
DTEND;TZID=Europe/Berlin:20230926T193000
DTSTAMP:20260424T045715
CREATED:20230906T071959Z
LAST-MODIFIED:20230906T071959Z
UID:7905-1695756600-1695756600@svosnabrueck.de
SUMMARY:Freier Spielabend
DESCRIPTION:
URL:https://svosnabrueck.de/event/freier-spielabend-11/
END:VEVENT
BEGIN:VEVENT
DTSTART;TZID=Europe/Berlin:20230928T180000
DTEND;TZID=Europe/Berlin:20230928T200000
DTSTAMP:20260424T045715
CREATED:20230906T072105Z
LAST-MODIFIED:20230906T072105Z
UID:7909-1695924000-1695931200@svosnabrueck.de
SUMMARY:Jugendtraining
DESCRIPTION:
URL:https://svosnabrueck.de/event/jugendtraining-82/
END:VEVENT
BEGIN:VEVENT
DTSTART;TZID=Europe/Berlin:20230930T160000
DTEND;TZID=Europe/Berlin:20230930T160000
DTSTAMP:20260424T045715
CREATED:20230906T071420Z
LAST-MODIFIED:20230906T071420Z
UID:7895-1696089600-1696089600@svosnabrueck.de
SUMMARY:OSV 3 : Rochade Hollage 2
DESCRIPTION:
URL:https://svosnabrueck.de/event/osv-3-rochade-hollage-2-2/
END:VEVENT
END:VCALENDAR