BEGIN:VCALENDAR
VERSION:2.0
PRODID:-//OSV - ECPv6.15.20//NONSGML v1.0//EN
CALSCALE:GREGORIAN
METHOD:PUBLISH
X-WR-CALNAME:OSV
X-ORIGINAL-URL:https://svosnabrueck.de
X-WR-CALDESC:Veranstaltungen für OSV
REFRESH-INTERVAL;VALUE=DURATION:PT1H
X-Robots-Tag:noindex
X-PUBLISHED-TTL:PT1H
BEGIN:VTIMEZONE
TZID:Europe/Berlin
BEGIN:DAYLIGHT
TZOFFSETFROM:+0100
TZOFFSETTO:+0200
TZNAME:CEST
DTSTART:20220327T010000
END:DAYLIGHT
BEGIN:STANDARD
TZOFFSETFROM:+0200
TZOFFSETTO:+0100
TZNAME:CET
DTSTART:20221030T010000
END:STANDARD
BEGIN:DAYLIGHT
TZOFFSETFROM:+0100
TZOFFSETTO:+0200
TZNAME:CEST
DTSTART:20230326T010000
END:DAYLIGHT
BEGIN:STANDARD
TZOFFSETFROM:+0200
TZOFFSETTO:+0100
TZNAME:CET
DTSTART:20231029T010000
END:STANDARD
BEGIN:DAYLIGHT
TZOFFSETFROM:+0100
TZOFFSETTO:+0200
TZNAME:CEST
DTSTART:20240331T010000
END:DAYLIGHT
BEGIN:STANDARD
TZOFFSETFROM:+0200
TZOFFSETTO:+0100
TZNAME:CET
DTSTART:20241027T010000
END:STANDARD
END:VTIMEZONE
BEGIN:VEVENT
DTSTART;TZID=Europe/Berlin:20230403T193000
DTEND;TZID=Europe/Berlin:20230403T193000
DTSTAMP:20260424T125946
CREATED:20230330T185740Z
LAST-MODIFIED:20230330T185740Z
UID:7167-1680550200-1680550200@svosnabrueck.de
SUMMARY:Training für alle
DESCRIPTION:
URL:https://svosnabrueck.de/event/training-fuer-alle-18/
END:VEVENT
BEGIN:VEVENT
DTSTART;TZID=Europe/Berlin:20230404T193000
DTEND;TZID=Europe/Berlin:20230404T193000
DTSTAMP:20260424T125946
CREATED:20230320T144403Z
LAST-MODIFIED:20230320T144403Z
UID:7131-1680636600-1680636600@svosnabrueck.de
SUMMARY:Blitzcup
DESCRIPTION:
URL:https://svosnabrueck.de/event/blitzcup-16/
END:VEVENT
BEGIN:VEVENT
DTSTART;TZID=Europe/Berlin:20230406T180000
DTEND;TZID=Europe/Berlin:20230406T200000
DTSTAMP:20260424T125946
CREATED:20230330T185804Z
LAST-MODIFIED:20230330T185804Z
UID:7169-1680804000-1680811200@svosnabrueck.de
SUMMARY:Jugendtraining
DESCRIPTION:
URL:https://svosnabrueck.de/event/jugendtraining-61/
END:VEVENT
BEGIN:VEVENT
DTSTART;TZID=Europe/Berlin:20230411T193000
DTEND;TZID=Europe/Berlin:20230411T193000
DTSTAMP:20260424T125946
CREATED:20230320T144143Z
LAST-MODIFIED:20230320T144143Z
UID:7120-1681241400-1681241400@svosnabrueck.de
SUMMARY:Vereinsmeisterschaft 3. Runde
DESCRIPTION:
URL:https://svosnabrueck.de/event/vereinsmeisterschaft-3-runde/
END:VEVENT
BEGIN:VEVENT
DTSTART;TZID=Europe/Berlin:20230413T180000
DTEND;TZID=Europe/Berlin:20230413T200000
DTSTAMP:20260424T125946
CREATED:20230412T160031Z
LAST-MODIFIED:20230412T160031Z
UID:7215-1681408800-1681416000@svosnabrueck.de
SUMMARY:Jugendtraining
DESCRIPTION:
URL:https://svosnabrueck.de/event/jugendtraining-62/
END:VEVENT
BEGIN:VEVENT
DTSTART;TZID=Europe/Berlin:20230415T160000
DTEND;TZID=Europe/Berlin:20230415T160000
DTSTAMP:20260424T125946
CREATED:20230412T155745Z
LAST-MODIFIED:20230412T155745Z
UID:7209-1681574400-1681574400@svosnabrueck.de
SUMMARY:OSV 4 : Dissen-Bad Roth
DESCRIPTION:
URL:https://svosnabrueck.de/event/osv-4-dissen-bad-roth/
END:VEVENT
BEGIN:VEVENT
DTSTART;TZID=Europe/Berlin:20230415T160000
DTEND;TZID=Europe/Berlin:20230415T160000
DTSTAMP:20260424T125946
CREATED:20230412T155811Z
LAST-MODIFIED:20230412T155811Z
UID:7211-1681574400-1681574400@svosnabrueck.de
SUMMARY:OSV 5 : TSV Riemsloh 2
DESCRIPTION:
URL:https://svosnabrueck.de/event/osv-5-tsv-riemsloh-2/
END:VEVENT
BEGIN:VEVENT
DTSTART;TZID=Europe/Berlin:20230417T193000
DTEND;TZID=Europe/Berlin:20230417T213000
DTSTAMP:20260424T125946
CREATED:20230412T155704Z
LAST-MODIFIED:20230412T155704Z
UID:7207-1681759800-1681767000@svosnabrueck.de
SUMMARY:Training für alle
DESCRIPTION:
URL:https://svosnabrueck.de/event/training-fuer-alle-19/
END:VEVENT
BEGIN:VEVENT
DTSTART;TZID=Europe/Berlin:20230418T193000
DTEND;TZID=Europe/Berlin:20230418T193000
DTSTAMP:20260424T125946
CREATED:20230320T144421Z
LAST-MODIFIED:20230320T144421Z
UID:7133-1681846200-1681846200@svosnabrueck.de
SUMMARY:Schnellschach-Cup
DESCRIPTION:
URL:https://svosnabrueck.de/event/schnellschach-cup-16/
END:VEVENT
BEGIN:VEVENT
DTSTART;TZID=Europe/Berlin:20230420T180000
DTEND;TZID=Europe/Berlin:20230420T200000
DTSTAMP:20260424T125946
CREATED:20230416T141242Z
LAST-MODIFIED:20230416T141242Z
UID:7226-1682013600-1682020800@svosnabrueck.de
SUMMARY:Jugendtraining
DESCRIPTION:
URL:https://svosnabrueck.de/event/jugendtraining-63/
END:VEVENT
BEGIN:VEVENT
DTSTART;TZID=Europe/Berlin:20230422T160000
DTEND;TZID=Europe/Berlin:20230422T160000
DTSTAMP:20260424T125946
CREATED:20230412T160226Z
LAST-MODIFIED:20230412T160226Z
UID:7218-1682179200-1682179200@svosnabrueck.de
SUMMARY:OSV 2 : SV Lingen 2
DESCRIPTION:
URL:https://svosnabrueck.de/event/osv-2-sv-lingen-2-2/
END:VEVENT
BEGIN:VEVENT
DTSTART;TZID=Europe/Berlin:20230423T100000
DTEND;TZID=Europe/Berlin:20230423T100000
DTSTAMP:20260424T125946
CREATED:20230416T142648Z
LAST-MODIFIED:20230416T142648Z
UID:7230-1682244000-1682244000@svosnabrueck.de
SUMMARY:OSV 1 : SK Bremen-Nord
DESCRIPTION:
URL:https://svosnabrueck.de/event/osv-1-sk-bremen-nord/
END:VEVENT
BEGIN:VEVENT
DTSTART;TZID=Europe/Berlin:20230424T193000
DTEND;TZID=Europe/Berlin:20230424T213000
DTSTAMP:20260424T125946
CREATED:20230416T141313Z
LAST-MODIFIED:20230416T141445Z
UID:7228-1682364600-1682371800@svosnabrueck.de
SUMMARY:Training für alle
DESCRIPTION:
URL:https://svosnabrueck.de/event/training-fuer-alle-20/
END:VEVENT
BEGIN:VEVENT
DTSTART;TZID=Europe/Berlin:20230425T193000
DTEND;TZID=Europe/Berlin:20230425T193000
DTSTAMP:20260424T125946
CREATED:20230320T144204Z
LAST-MODIFIED:20230320T144222Z
UID:7122-1682451000-1682451000@svosnabrueck.de
SUMMARY:Vereinsmeisterschaft 4. Runde
DESCRIPTION:
URL:https://svosnabrueck.de/event/vereinsmeisterschaft-3-runde-2/
END:VEVENT
BEGIN:VEVENT
DTSTART;TZID=Europe/Berlin:20230427T180000
DTEND;TZID=Europe/Berlin:20230427T200000
DTSTAMP:20260424T125946
CREATED:20230423T140652Z
LAST-MODIFIED:20230423T140652Z
UID:7254-1682618400-1682625600@svosnabrueck.de
SUMMARY:Jugendtraining
DESCRIPTION:
URL:https://svosnabrueck.de/event/jugendtraining-64/
END:VEVENT
BEGIN:VEVENT
DTSTART;TZID=Europe/Berlin:20230429T160000
DTEND;TZID=Europe/Berlin:20230429T160000
DTSTAMP:20260424T125946
CREATED:20230423T140827Z
LAST-MODIFIED:20230423T140827Z
UID:7256-1682784000-1682784000@svosnabrueck.de
SUMMARY:OSV 3 : SV Lingen 3
DESCRIPTION:
URL:https://svosnabrueck.de/event/osv-3-sv-lingen-3/
END:VEVENT
END:VCALENDAR