BEGIN:VCALENDAR
VERSION:2.0
PRODID:-//OSV - ECPv6.15.20//NONSGML v1.0//EN
CALSCALE:GREGORIAN
METHOD:PUBLISH
X-ORIGINAL-URL:https://svosnabrueck.de
X-WR-CALDESC:Veranstaltungen für OSV
REFRESH-INTERVAL;VALUE=DURATION:PT1H
X-Robots-Tag:noindex
X-PUBLISHED-TTL:PT1H
BEGIN:VTIMEZONE
TZID:Europe/Berlin
BEGIN:DAYLIGHT
TZOFFSETFROM:+0100
TZOFFSETTO:+0200
TZNAME:CEST
DTSTART:20220327T010000
END:DAYLIGHT
BEGIN:STANDARD
TZOFFSETFROM:+0200
TZOFFSETTO:+0100
TZNAME:CET
DTSTART:20221030T010000
END:STANDARD
BEGIN:DAYLIGHT
TZOFFSETFROM:+0100
TZOFFSETTO:+0200
TZNAME:CEST
DTSTART:20230326T010000
END:DAYLIGHT
BEGIN:STANDARD
TZOFFSETFROM:+0200
TZOFFSETTO:+0100
TZNAME:CET
DTSTART:20231029T010000
END:STANDARD
BEGIN:DAYLIGHT
TZOFFSETFROM:+0100
TZOFFSETTO:+0200
TZNAME:CEST
DTSTART:20240331T010000
END:DAYLIGHT
BEGIN:STANDARD
TZOFFSETFROM:+0200
TZOFFSETTO:+0100
TZNAME:CET
DTSTART:20241027T010000
END:STANDARD
END:VTIMEZONE
BEGIN:VEVENT
DTSTART;TZID=Europe/Berlin:20230302T180000
DTEND;TZID=Europe/Berlin:20230302T200000
DTSTAMP:20260424T142051
CREATED:20230221T220407Z
LAST-MODIFIED:20230221T220407Z
UID:7001-1677780000-1677787200@svosnabrueck.de
SUMMARY:Jugendtraining
DESCRIPTION:
URL:https://svosnabrueck.de/event/jugendtraining-56/
END:VEVENT
BEGIN:VEVENT
DTSTART;TZID=Europe/Berlin:20230304T160000
DTEND;TZID=Europe/Berlin:20230304T160000
DTSTAMP:20260424T142051
CREATED:20230221T220817Z
LAST-MODIFIED:20230221T220817Z
UID:7006-1677945600-1677945600@svosnabrueck.de
SUMMARY:SK Nordhorn-Blanke 4 : OSV 2
DESCRIPTION:
URL:https://svosnabrueck.de/event/sk-nordhorn-blanke-4-osv-2/
END:VEVENT
BEGIN:VEVENT
DTSTART;TZID=Europe/Berlin:20230306T193000
DTEND;TZID=Europe/Berlin:20230306T213000
DTSTAMP:20260424T142051
CREATED:20230303T201232Z
LAST-MODIFIED:20230303T201232Z
UID:7044-1678131000-1678138200@svosnabrueck.de
SUMMARY:Training für alle
DESCRIPTION:
URL:https://svosnabrueck.de/event/training-fuer-alle-14/
END:VEVENT
BEGIN:VEVENT
DTSTART;TZID=Europe/Berlin:20230307T193000
DTEND;TZID=Europe/Berlin:20230307T193000
DTSTAMP:20260424T142051
CREATED:20230303T201349Z
LAST-MODIFIED:20230303T201356Z
UID:7046-1678217400-1678217400@svosnabrueck.de
SUMMARY:Blitzcup
DESCRIPTION:
URL:https://svosnabrueck.de/event/blitzcup-15/
END:VEVENT
BEGIN:VEVENT
DTSTART;TZID=Europe/Berlin:20230309T180000
DTEND;TZID=Europe/Berlin:20230309T200000
DTSTAMP:20260424T142051
CREATED:20230303T201424Z
LAST-MODIFIED:20230303T201424Z
UID:7048-1678384800-1678392000@svosnabrueck.de
SUMMARY:Jugendtraining
DESCRIPTION:
URL:https://svosnabrueck.de/event/jugendtraining-57/
END:VEVENT
BEGIN:VEVENT
DTSTART;VALUE=DATE:20230312
DTEND;VALUE=DATE:20230313
DTSTAMP:20260424T142051
CREATED:20230310T232309Z
LAST-MODIFIED:20230310T232309Z
UID:7088-1678579200-1678665599@svosnabrueck.de
SUMMARY:3. Osnabrücker DWZ-Turnier
DESCRIPTION:
URL:https://svosnabrueck.de/event/3-osnabruecker-dwz-turnier/
END:VEVENT
BEGIN:VEVENT
DTSTART;TZID=Europe/Berlin:20230313T193000
DTEND;TZID=Europe/Berlin:20230313T213000
DTSTAMP:20260424T142051
CREATED:20230303T201508Z
LAST-MODIFIED:20230303T201508Z
UID:7052-1678735800-1678743000@svosnabrueck.de
SUMMARY:Training für alle
DESCRIPTION:
URL:https://svosnabrueck.de/event/training-fuer-alle-15/
END:VEVENT
BEGIN:VEVENT
DTSTART;TZID=Europe/Berlin:20230314T193000
DTEND;TZID=Europe/Berlin:20230314T193000
DTSTAMP:20260424T142051
CREATED:20230303T201448Z
LAST-MODIFIED:20230303T201448Z
UID:7050-1678822200-1678822200@svosnabrueck.de
SUMMARY:Vereinsmeisterschaft 1. Runde
DESCRIPTION:
URL:https://svosnabrueck.de/event/vereinsmeisterschaft-1-runde-2/
END:VEVENT
BEGIN:VEVENT
DTSTART;TZID=Europe/Berlin:20230316T180000
DTEND;TZID=Europe/Berlin:20230316T200000
DTSTAMP:20260424T142051
CREATED:20230308T145018Z
LAST-MODIFIED:20230308T145018Z
UID:7066-1678989600-1678996800@svosnabrueck.de
SUMMARY:Jugendtraining
DESCRIPTION:
URL:https://svosnabrueck.de/event/jugendtraining-58/
END:VEVENT
BEGIN:VEVENT
DTSTART;TZID=Europe/Berlin:20230320T193000
DTEND;TZID=Europe/Berlin:20230320T213000
DTSTAMP:20260424T142051
CREATED:20230314T153149Z
LAST-MODIFIED:20230314T153149Z
UID:7094-1679340600-1679347800@svosnabrueck.de
SUMMARY:Training für alle
DESCRIPTION:
URL:https://svosnabrueck.de/event/training-fuer-alle-16/
END:VEVENT
BEGIN:VEVENT
DTSTART;TZID=Europe/Berlin:20230321T193000
DTEND;TZID=Europe/Berlin:20230321T193000
DTSTAMP:20260424T142051
CREATED:20230308T145040Z
LAST-MODIFIED:20230308T145040Z
UID:7068-1679427000-1679427000@svosnabrueck.de
SUMMARY:Schnellschach-Cup
DESCRIPTION:
URL:https://svosnabrueck.de/event/schnellschach-cup-15/
END:VEVENT
BEGIN:VEVENT
DTSTART;TZID=Europe/Berlin:20230323T180000
DTEND;TZID=Europe/Berlin:20230323T200000
DTSTAMP:20260424T142051
CREATED:20230320T143957Z
LAST-MODIFIED:20230320T143957Z
UID:7114-1679594400-1679601600@svosnabrueck.de
SUMMARY:Jugendtraining
DESCRIPTION:
URL:https://svosnabrueck.de/event/jugendtraining-59/
END:VEVENT
BEGIN:VEVENT
DTSTART;TZID=Europe/Berlin:20230327T193000
DTEND;TZID=Europe/Berlin:20230327T213000
DTSTAMP:20260424T142051
CREATED:20230320T144020Z
LAST-MODIFIED:20230320T144020Z
UID:7116-1679945400-1679952600@svosnabrueck.de
SUMMARY:Training für alle
DESCRIPTION:
URL:https://svosnabrueck.de/event/training-fuer-alle-17/
END:VEVENT
BEGIN:VEVENT
DTSTART;TZID=Europe/Berlin:20230328T193000
DTEND;TZID=Europe/Berlin:20230328T193000
DTSTAMP:20260424T142051
CREATED:20230308T145103Z
LAST-MODIFIED:20230308T145103Z
UID:7070-1680031800-1680031800@svosnabrueck.de
SUMMARY:Vereinsmeisterschaft 2. Runde
DESCRIPTION:
URL:https://svosnabrueck.de/event/vereinsmeisterschaft-2-runde/
END:VEVENT
BEGIN:VEVENT
DTSTART;TZID=Europe/Berlin:20230330T180000
DTEND;TZID=Europe/Berlin:20230330T200000
DTSTAMP:20260424T142051
CREATED:20230320T144043Z
LAST-MODIFIED:20230320T144043Z
UID:7118-1680199200-1680206400@svosnabrueck.de
SUMMARY:Jugendtraining
DESCRIPTION:
URL:https://svosnabrueck.de/event/jugendtraining-60/
END:VEVENT
END:VCALENDAR