BEGIN:VCALENDAR
VERSION:2.0
PRODID:-//OSV - ECPv6.15.20//NONSGML v1.0//EN
CALSCALE:GREGORIAN
METHOD:PUBLISH
X-WR-CALNAME:OSV
X-ORIGINAL-URL:https://svosnabrueck.de
X-WR-CALDESC:Veranstaltungen für OSV
REFRESH-INTERVAL;VALUE=DURATION:PT1H
X-Robots-Tag:noindex
X-PUBLISHED-TTL:PT1H
BEGIN:VTIMEZONE
TZID:Europe/Berlin
BEGIN:DAYLIGHT
TZOFFSETFROM:+0100
TZOFFSETTO:+0200
TZNAME:CEST
DTSTART:20210328T010000
END:DAYLIGHT
BEGIN:STANDARD
TZOFFSETFROM:+0200
TZOFFSETTO:+0100
TZNAME:CET
DTSTART:20211031T010000
END:STANDARD
BEGIN:DAYLIGHT
TZOFFSETFROM:+0100
TZOFFSETTO:+0200
TZNAME:CEST
DTSTART:20220327T010000
END:DAYLIGHT
BEGIN:STANDARD
TZOFFSETFROM:+0200
TZOFFSETTO:+0100
TZNAME:CET
DTSTART:20221030T010000
END:STANDARD
BEGIN:DAYLIGHT
TZOFFSETFROM:+0100
TZOFFSETTO:+0200
TZNAME:CEST
DTSTART:20230326T010000
END:DAYLIGHT
BEGIN:STANDARD
TZOFFSETFROM:+0200
TZOFFSETTO:+0100
TZNAME:CET
DTSTART:20231029T010000
END:STANDARD
END:VTIMEZONE
BEGIN:VEVENT
DTSTART;TZID=Europe/Berlin:20221201T180000
DTEND;TZID=Europe/Berlin:20221201T200000
DTSTAMP:20260424T195744
CREATED:20221130T201436Z
LAST-MODIFIED:20221130T201436Z
UID:6626-1669917600-1669924800@svosnabrueck.de
SUMMARY:Jugendtraining
DESCRIPTION:
URL:https://svosnabrueck.de/event/jugendtraining-39/
END:VEVENT
BEGIN:VEVENT
DTSTART;TZID=Europe/Berlin:20221203T160000
DTEND;TZID=Europe/Berlin:20221203T160000
DTSTAMP:20260424T195744
CREATED:20221130T201221Z
LAST-MODIFIED:20221130T201221Z
UID:6622-1670083200-1670083200@svosnabrueck.de
SUMMARY:OSV 2 : SG Osnabrück 2
DESCRIPTION:
URL:https://svosnabrueck.de/event/osv-2-sg-osnabrueck-2/
END:VEVENT
BEGIN:VEVENT
DTSTART;TZID=Europe/Berlin:20221205T193000
DTEND;TZID=Europe/Berlin:20221205T193000
DTSTAMP:20260424T195744
CREATED:20221130T201027Z
LAST-MODIFIED:20221130T201122Z
UID:6619-1670268600-1670268600@svosnabrueck.de
SUMMARY:Training für alle
DESCRIPTION:
URL:https://svosnabrueck.de/event/freier-spielabend-7/
END:VEVENT
BEGIN:VEVENT
DTSTART;TZID=Europe/Berlin:20221206T193000
DTEND;TZID=Europe/Berlin:20221206T193000
DTSTAMP:20260424T195744
CREATED:20221027T063811Z
LAST-MODIFIED:20221027T063811Z
UID:6320-1670355000-1670355000@svosnabrueck.de
SUMMARY:Blitzcup
DESCRIPTION:
URL:https://svosnabrueck.de/event/blitzcup-12/
END:VEVENT
BEGIN:VEVENT
DTSTART;TZID=Europe/Berlin:20221208T180000
DTEND;TZID=Europe/Berlin:20221208T200000
DTSTAMP:20260424T195744
CREATED:20221130T201503Z
LAST-MODIFIED:20221130T201503Z
UID:6628-1670522400-1670529600@svosnabrueck.de
SUMMARY:Jugendtraining
DESCRIPTION:
URL:https://svosnabrueck.de/event/jugendtraining-45/
END:VEVENT
BEGIN:VEVENT
DTSTART;TZID=Europe/Berlin:20221210T160000
DTEND;TZID=Europe/Berlin:20221210T160000
DTSTAMP:20260424T195744
CREATED:20221130T201259Z
LAST-MODIFIED:20221130T201259Z
UID:6624-1670688000-1670688000@svosnabrueck.de
SUMMARY:OSV 3 : Rochade Hollage 2
DESCRIPTION:
URL:https://svosnabrueck.de/event/osv-3-rochade-hollage-2/
END:VEVENT
BEGIN:VEVENT
DTSTART;TZID=Europe/Berlin:20221212T193000
DTEND;TZID=Europe/Berlin:20221212T193000
DTSTAMP:20260424T195744
CREATED:20221130T201610Z
LAST-MODIFIED:20221130T201610Z
UID:6632-1670873400-1670873400@svosnabrueck.de
SUMMARY:Training für alle
DESCRIPTION:
URL:https://svosnabrueck.de/event/training-fuer-alle-4/
END:VEVENT
BEGIN:VEVENT
DTSTART;TZID=Europe/Berlin:20221213T190000
DTEND;TZID=Europe/Berlin:20221213T190000
DTSTAMP:20260424T195744
CREATED:20221109T180757Z
LAST-MODIFIED:20221109T180757Z
UID:6448-1670958000-1670958000@svosnabrueck.de
SUMMARY:OSV-Weihnachtsfeier
DESCRIPTION:
URL:https://svosnabrueck.de/event/osv-weihnachtsfeier/
END:VEVENT
BEGIN:VEVENT
DTSTART;TZID=Europe/Berlin:20221215T180000
DTEND;TZID=Europe/Berlin:20221215T200000
DTSTAMP:20260424T195744
CREATED:20221130T201523Z
LAST-MODIFIED:20221130T201523Z
UID:6630-1671127200-1671134400@svosnabrueck.de
SUMMARY:Jugendtraining
DESCRIPTION:
URL:https://svosnabrueck.de/event/jugendtraining-46/
END:VEVENT
BEGIN:VEVENT
DTSTART;TZID=Europe/Berlin:20221216T193000
DTEND;TZID=Europe/Berlin:20221216T193000
DTSTAMP:20260424T195744
CREATED:20221205T211344Z
LAST-MODIFIED:20221205T211532Z
UID:6677-1671219000-1671219000@svosnabrueck.de
SUMMARY:Stadtblitzmeisterschaft
DESCRIPTION:
URL:https://svosnabrueck.de/event/blitz-stadtmeisterschaft-2/
END:VEVENT
BEGIN:VEVENT
DTSTART;TZID=Europe/Berlin:20221219T193000
DTEND;TZID=Europe/Berlin:20221219T193000
DTSTAMP:20260424T195744
CREATED:20221130T201627Z
LAST-MODIFIED:20221219T132726Z
UID:6634-1671478200-1671478200@svosnabrueck.de
SUMMARY:Training für alle (fällt aus)
DESCRIPTION:
URL:https://svosnabrueck.de/event/training-fuer-alle-5/
END:VEVENT
BEGIN:VEVENT
DTSTART;TZID=Europe/Berlin:20221220T193000
DTEND;TZID=Europe/Berlin:20221220T193000
DTSTAMP:20260424T195744
CREATED:20221027T063911Z
LAST-MODIFIED:20221027T063911Z
UID:6324-1671564600-1671564600@svosnabrueck.de
SUMMARY:Schnellschach-Cup
DESCRIPTION:
URL:https://svosnabrueck.de/event/schnellschach-cup-12/
END:VEVENT
BEGIN:VEVENT
DTSTART;TZID=Europe/Berlin:20221222T180000
DTEND;TZID=Europe/Berlin:20221222T200000
DTSTAMP:20260424T195744
CREATED:20221219T132758Z
LAST-MODIFIED:20221219T132758Z
UID:6759-1671732000-1671739200@svosnabrueck.de
SUMMARY:Jugendtraining
DESCRIPTION:
URL:https://svosnabrueck.de/event/jugendtraining-47/
END:VEVENT
BEGIN:VEVENT
DTSTART;TZID=Europe/Berlin:20221227T193000
DTEND;TZID=Europe/Berlin:20221227T193000
DTSTAMP:20260424T195744
CREATED:20221219T132841Z
LAST-MODIFIED:20221220T220504Z
UID:6761-1672169400-1672169400@svosnabrueck.de
SUMMARY:Spielabend
DESCRIPTION:
URL:https://svosnabrueck.de/event/spielabend-faellt-aus/
END:VEVENT
END:VCALENDAR