BEGIN:VCALENDAR
VERSION:2.0
PRODID:-//OSV - ECPv6.15.20//NONSGML v1.0//EN
CALSCALE:GREGORIAN
METHOD:PUBLISH
X-WR-CALNAME:OSV
X-ORIGINAL-URL:https://svosnabrueck.de
X-WR-CALDESC:Veranstaltungen für OSV
REFRESH-INTERVAL;VALUE=DURATION:PT1H
X-Robots-Tag:noindex
X-PUBLISHED-TTL:PT1H
BEGIN:VTIMEZONE
TZID:Europe/Berlin
BEGIN:DAYLIGHT
TZOFFSETFROM:+0100
TZOFFSETTO:+0200
TZNAME:CEST
DTSTART:20210328T010000
END:DAYLIGHT
BEGIN:STANDARD
TZOFFSETFROM:+0200
TZOFFSETTO:+0100
TZNAME:CET
DTSTART:20211031T010000
END:STANDARD
BEGIN:DAYLIGHT
TZOFFSETFROM:+0100
TZOFFSETTO:+0200
TZNAME:CEST
DTSTART:20220327T010000
END:DAYLIGHT
BEGIN:STANDARD
TZOFFSETFROM:+0200
TZOFFSETTO:+0100
TZNAME:CET
DTSTART:20221030T010000
END:STANDARD
BEGIN:DAYLIGHT
TZOFFSETFROM:+0100
TZOFFSETTO:+0200
TZNAME:CEST
DTSTART:20230326T010000
END:DAYLIGHT
BEGIN:STANDARD
TZOFFSETFROM:+0200
TZOFFSETTO:+0100
TZNAME:CET
DTSTART:20231029T010000
END:STANDARD
END:VTIMEZONE
BEGIN:VEVENT
DTSTART;TZID=Europe/Berlin:20221101T193000
DTEND;TZID=Europe/Berlin:20221101T193000
DTSTAMP:20260424T205855
CREATED:20221027T063754Z
LAST-MODIFIED:20221027T063754Z
UID:6317-1667331000-1667331000@svosnabrueck.de
SUMMARY:Blitzcup
DESCRIPTION:
URL:https://svosnabrueck.de/event/blitzcup-11/
END:VEVENT
BEGIN:VEVENT
DTSTART;TZID=Europe/Berlin:20221105T160000
DTEND;TZID=Europe/Berlin:20221105T160000
DTSTAMP:20260424T205855
CREATED:20221027T064152Z
LAST-MODIFIED:20221027T064152Z
UID:6334-1667664000-1667664000@svosnabrueck.de
SUMMARY:SF Spelle : OSV 2
DESCRIPTION:
URL:https://svosnabrueck.de/event/sf-spelle-osv-2-2/
END:VEVENT
BEGIN:VEVENT
DTSTART;TZID=Europe/Berlin:20221108T193000
DTEND;TZID=Europe/Berlin:20221108T193000
DTSTAMP:20260424T205855
CREATED:20221103T215510Z
LAST-MODIFIED:20221103T215644Z
UID:6394-1667935800-1667935800@svosnabrueck.de
SUMMARY:Freier Spielabend
DESCRIPTION:
URL:https://svosnabrueck.de/event/freier-spielabend-3/
END:VEVENT
BEGIN:VEVENT
DTSTART;TZID=Europe/Berlin:20221110T180000
DTEND;TZID=Europe/Berlin:20221110T200000
DTSTAMP:20260424T205855
CREATED:20221027T063956Z
LAST-MODIFIED:20221027T063956Z
UID:6328-1668103200-1668110400@svosnabrueck.de
SUMMARY:Jugendtraining
DESCRIPTION:
URL:https://svosnabrueck.de/event/jugendtraining-42/
END:VEVENT
BEGIN:VEVENT
DTSTART;TZID=Europe/Berlin:20221113T093000
DTEND;TZID=Europe/Berlin:20221113T210000
DTSTAMP:20260424T205855
CREATED:20221103T215844Z
LAST-MODIFIED:20221103T215844Z
UID:6398-1668331800-1668373200@svosnabrueck.de
SUMMARY:1. Osnabrücker DWZ-Turnier
DESCRIPTION:
URL:https://svosnabrueck.de/event/1-osnabruecker-dwz-turnier/
END:VEVENT
BEGIN:VEVENT
DTSTART;TZID=Europe/Berlin:20221114T193000
DTEND;TZID=Europe/Berlin:20221114T193000
DTSTAMP:20260424T205855
CREATED:20221113T220622Z
LAST-MODIFIED:20221113T220754Z
UID:6490-1668454200-1668454200@svosnabrueck.de
SUMMARY:Training für alle
DESCRIPTION:
URL:https://svosnabrueck.de/event/training-fuer-alle/
END:VEVENT
BEGIN:VEVENT
DTSTART;TZID=Europe/Berlin:20221115T193000
DTEND;TZID=Europe/Berlin:20221115T193000
DTSTAMP:20260424T205855
CREATED:20221027T063852Z
LAST-MODIFIED:20221027T063852Z
UID:6322-1668540600-1668540600@svosnabrueck.de
SUMMARY:Schnellschach-Cup
DESCRIPTION:
URL:https://svosnabrueck.de/event/schnellschach-cup-11/
END:VEVENT
BEGIN:VEVENT
DTSTART;TZID=Europe/Berlin:20221117T180000
DTEND;TZID=Europe/Berlin:20221117T200000
DTSTAMP:20260424T205855
CREATED:20221027T064019Z
LAST-MODIFIED:20221027T064019Z
UID:6330-1668708000-1668715200@svosnabrueck.de
SUMMARY:Jugendtraining
DESCRIPTION:
URL:https://svosnabrueck.de/event/jugendtraining-43/
END:VEVENT
BEGIN:VEVENT
DTSTART;TZID=Europe/Berlin:20221121T193000
DTEND;TZID=Europe/Berlin:20221121T193000
DTSTAMP:20260424T205855
CREATED:20221113T220833Z
LAST-MODIFIED:20221113T220833Z
UID:6493-1669059000-1669059000@svosnabrueck.de
SUMMARY:Training für alle
DESCRIPTION:
URL:https://svosnabrueck.de/event/training-fuer-alle-2/
END:VEVENT
BEGIN:VEVENT
DTSTART;TZID=Europe/Berlin:20221122T193000
DTEND;TZID=Europe/Berlin:20221122T213000
DTSTAMP:20260424T205855
CREATED:20221113T220914Z
LAST-MODIFIED:20221113T220914Z
UID:6495-1669145400-1669152600@svosnabrueck.de
SUMMARY:Freier Spielabend
DESCRIPTION:
URL:https://svosnabrueck.de/event/freier-spielabend-5/
END:VEVENT
BEGIN:VEVENT
DTSTART;TZID=Europe/Berlin:20221124T180000
DTEND;TZID=Europe/Berlin:20221124T200000
DTSTAMP:20260424T205855
CREATED:20221027T064041Z
LAST-MODIFIED:20221027T064041Z
UID:6332-1669312800-1669320000@svosnabrueck.de
SUMMARY:Jugendtraining
DESCRIPTION:
URL:https://svosnabrueck.de/event/jugendtraining-44/
END:VEVENT
BEGIN:VEVENT
DTSTART;TZID=Europe/Berlin:20221126T160000
DTEND;TZID=Europe/Berlin:20221126T160000
DTSTAMP:20260424T205855
CREATED:20221114T162754Z
LAST-MODIFIED:20221114T162754Z
UID:6503-1669478400-1669478400@svosnabrueck.de
SUMMARY:SV Bad Essen 2 : OSV 5
DESCRIPTION:
URL:https://svosnabrueck.de/event/sv-bad-essen-2-osv-5/
END:VEVENT
BEGIN:VEVENT
DTSTART;TZID=Europe/Berlin:20221126T160000
DTEND;TZID=Europe/Berlin:20221126T160000
DTSTAMP:20260424T205855
CREATED:20221114T162816Z
LAST-MODIFIED:20221114T162816Z
UID:6505-1669478400-1669478400@svosnabrueck.de
SUMMARY:SV Hellern 5 : OSV 4
DESCRIPTION:
URL:https://svosnabrueck.de/event/sv-hellern-5-osv-4/
END:VEVENT
BEGIN:VEVENT
DTSTART;TZID=Europe/Berlin:20221127T100000
DTEND;TZID=Europe/Berlin:20221127T100000
DTSTAMP:20260424T205855
CREATED:20221114T163120Z
LAST-MODIFIED:20221114T163120Z
UID:6511-1669543200-1669543200@svosnabrueck.de
SUMMARY:Sfr Bremer Osten : OSV 1
DESCRIPTION:
URL:https://svosnabrueck.de/event/sfr-bremer-osten-osv-1/
END:VEVENT
BEGIN:VEVENT
DTSTART;TZID=Europe/Berlin:20221128T193000
DTEND;TZID=Europe/Berlin:20221128T193000
DTSTAMP:20260424T205855
CREATED:20221114T162944Z
LAST-MODIFIED:20221114T162944Z
UID:6509-1669663800-1669663800@svosnabrueck.de
SUMMARY:Training für alle
DESCRIPTION:
URL:https://svosnabrueck.de/event/training-fuer-alle-3/
END:VEVENT
BEGIN:VEVENT
DTSTART;TZID=Europe/Berlin:20221129T193000
DTEND;TZID=Europe/Berlin:20221129T193000
DTSTAMP:20260424T205855
CREATED:20221114T162906Z
LAST-MODIFIED:20221114T162906Z
UID:6507-1669750200-1669750200@svosnabrueck.de
SUMMARY:Freier Spielabend
DESCRIPTION:
URL:https://svosnabrueck.de/event/freier-spielabend-6/
END:VEVENT
END:VCALENDAR