BEGIN:VCALENDAR
VERSION:2.0
PRODID:-//OSV - ECPv6.15.20//NONSGML v1.0//EN
CALSCALE:GREGORIAN
METHOD:PUBLISH
X-ORIGINAL-URL:https://svosnabrueck.de
X-WR-CALDESC:Veranstaltungen für OSV
REFRESH-INTERVAL;VALUE=DURATION:PT1H
X-Robots-Tag:noindex
X-PUBLISHED-TTL:PT1H
BEGIN:VTIMEZONE
TZID:Europe/Berlin
BEGIN:DAYLIGHT
TZOFFSETFROM:+0100
TZOFFSETTO:+0200
TZNAME:CEST
DTSTART:20210328T010000
END:DAYLIGHT
BEGIN:STANDARD
TZOFFSETFROM:+0200
TZOFFSETTO:+0100
TZNAME:CET
DTSTART:20211031T010000
END:STANDARD
BEGIN:DAYLIGHT
TZOFFSETFROM:+0100
TZOFFSETTO:+0200
TZNAME:CEST
DTSTART:20220327T010000
END:DAYLIGHT
BEGIN:STANDARD
TZOFFSETFROM:+0200
TZOFFSETTO:+0100
TZNAME:CET
DTSTART:20221030T010000
END:STANDARD
BEGIN:DAYLIGHT
TZOFFSETFROM:+0100
TZOFFSETTO:+0200
TZNAME:CEST
DTSTART:20230326T010000
END:DAYLIGHT
BEGIN:STANDARD
TZOFFSETFROM:+0200
TZOFFSETTO:+0100
TZNAME:CET
DTSTART:20231029T010000
END:STANDARD
END:VTIMEZONE
BEGIN:VEVENT
DTSTART;TZID=Europe/Berlin:20221001T160000
DTEND;TZID=Europe/Berlin:20221001T160000
DTSTAMP:20260424T220750
CREATED:20220928T200012Z
LAST-MODIFIED:20220928T201219Z
UID:6084-1664640000-1664640000@svosnabrueck.de
SUMMARY:SV Osnabrück III - SV Hellern IV
DESCRIPTION:
URL:https://svosnabrueck.de/event/osv-iii-sv-hellern-iv/
LOCATION:Barenturm
END:VEVENT
BEGIN:VEVENT
DTSTART;TZID=Europe/Berlin:20221003T193000
DTEND;TZID=Europe/Berlin:20221003T213000
DTSTAMP:20260424T220750
CREATED:20220929T214901Z
LAST-MODIFIED:20221012T191747Z
UID:6101-1664825400-1664832600@svosnabrueck.de
SUMMARY:Training für alle
DESCRIPTION:
URL:https://svosnabrueck.de/event/erwachsenentraining-14/
END:VEVENT
BEGIN:VEVENT
DTSTART;TZID=Europe/Berlin:20221004T200000
DTEND;TZID=Europe/Berlin:20221004T200000
DTSTAMP:20260424T220750
CREATED:20220926T235102Z
LAST-MODIFIED:20220927T000259Z
UID:6068-1664913600-1664913600@svosnabrueck.de
SUMMARY:Außerordentliche Mitgliederversammlung
DESCRIPTION:Hier findet ihr zum Download die \nErklärung \nund die \nEinladung mit Tagesordnungspunkten \nzur außerordentlichen Mitgliederversammlung.
URL:https://svosnabrueck.de/event/ausserordentliche-mitgliederversammlung/
END:VEVENT
BEGIN:VEVENT
DTSTART;TZID=Europe/Berlin:20221006T180000
DTEND;TZID=Europe/Berlin:20221006T200000
DTSTAMP:20260424T220750
CREATED:20221003T132938Z
LAST-MODIFIED:20221003T132938Z
UID:6143-1665079200-1665086400@svosnabrueck.de
SUMMARY:Jugendtraining
DESCRIPTION:
URL:https://svosnabrueck.de/event/jugendtraining-38/
END:VEVENT
BEGIN:VEVENT
DTSTART;TZID=Europe/Berlin:20221008T160000
DTEND;TZID=Europe/Berlin:20221008T160000
DTSTAMP:20260424T220750
CREATED:20221003T134126Z
LAST-MODIFIED:20221003T134126Z
UID:6159-1665244800-1665244800@svosnabrueck.de
SUMMARY:OSV 4 : SV Bad Essen 2
DESCRIPTION:
URL:https://svosnabrueck.de/event/osv-4-sv-bad-essen-2-2/
END:VEVENT
BEGIN:VEVENT
DTSTART;TZID=Europe/Berlin:20221008T160000
DTEND;TZID=Europe/Berlin:20221008T160000
DTSTAMP:20260424T220750
CREATED:20221003T134247Z
LAST-MODIFIED:20221003T134247Z
UID:6161-1665244800-1665244800@svosnabrueck.de
SUMMARY:OSV 5 : SK Rulle
DESCRIPTION:
URL:https://svosnabrueck.de/event/osv-5-sk-rulle/
END:VEVENT
BEGIN:VEVENT
DTSTART;TZID=Europe/Berlin:20221011T193000
DTEND;TZID=Europe/Berlin:20221011T193000
DTSTAMP:20260424T220750
CREATED:20221003T132529Z
LAST-MODIFIED:20221007T210625Z
UID:6137-1665516600-1665516600@svosnabrueck.de
SUMMARY:Spielabend
DESCRIPTION:
URL:https://svosnabrueck.de/event/vereinsabend-17/
END:VEVENT
BEGIN:VEVENT
DTSTART;TZID=Europe/Berlin:20221017T193000
DTEND;TZID=Europe/Berlin:20221017T213000
DTSTAMP:20260424T220750
CREATED:20221003T133508Z
LAST-MODIFIED:20221012T191742Z
UID:6153-1666035000-1666042200@svosnabrueck.de
SUMMARY:Training für alle
DESCRIPTION:
URL:https://svosnabrueck.de/event/erwachsenentraining-16/
END:VEVENT
BEGIN:VEVENT
DTSTART;TZID=Europe/Berlin:20221018T193000
DTEND;TZID=Europe/Berlin:20221018T193000
DTSTAMP:20260424T220750
CREATED:20221003T132547Z
LAST-MODIFIED:20221003T132547Z
UID:6139-1666121400-1666121400@svosnabrueck.de
SUMMARY:Schnellschach-Cup
DESCRIPTION:
URL:https://svosnabrueck.de/event/schnellschach-cup-10/
END:VEVENT
BEGIN:VEVENT
DTSTART;TZID=Europe/Berlin:20221020T180000
DTEND;TZID=Europe/Berlin:20221020T200000
DTSTAMP:20260424T220750
CREATED:20221003T133045Z
LAST-MODIFIED:20221003T133045Z
UID:6147-1666288800-1666296000@svosnabrueck.de
SUMMARY:Jugendtraining
DESCRIPTION:
URL:https://svosnabrueck.de/event/jugendtraining-40/
END:VEVENT
BEGIN:VEVENT
DTSTART;TZID=Europe/Berlin:20221024T193000
DTEND;TZID=Europe/Berlin:20221024T213000
DTSTAMP:20260424T220750
CREATED:20221003T133531Z
LAST-MODIFIED:20221012T191737Z
UID:6155-1666639800-1666647000@svosnabrueck.de
SUMMARY:Training für alle
DESCRIPTION:
URL:https://svosnabrueck.de/event/erwachsenentraining-17/
END:VEVENT
BEGIN:VEVENT
DTSTART;TZID=Europe/Berlin:20221025T193000
DTEND;TZID=Europe/Berlin:20221025T193000
DTSTAMP:20260424T220750
CREATED:20221003T132606Z
LAST-MODIFIED:20221007T210647Z
UID:6141-1666726200-1666726200@svosnabrueck.de
SUMMARY:Spielabend
DESCRIPTION:
URL:https://svosnabrueck.de/event/vereinsabend-18/
END:VEVENT
BEGIN:VEVENT
DTSTART;TZID=Europe/Berlin:20221027T180000
DTEND;TZID=Europe/Berlin:20221027T200000
DTSTAMP:20260424T220750
CREATED:20221003T133104Z
LAST-MODIFIED:20221003T133104Z
UID:6149-1666893600-1666900800@svosnabrueck.de
SUMMARY:Jugendtraining
DESCRIPTION:
URL:https://svosnabrueck.de/event/jugendtraining-41/
END:VEVENT
BEGIN:VEVENT
DTSTART;TZID=Europe/Berlin:20221031T193000
DTEND;TZID=Europe/Berlin:20221031T213000
DTSTAMP:20260424T220750
CREATED:20221003T133556Z
LAST-MODIFIED:20221012T191725Z
UID:6157-1667244600-1667251800@svosnabrueck.de
SUMMARY:Training für alle
DESCRIPTION:
URL:https://svosnabrueck.de/event/erwachsenentraining-18/
END:VEVENT
END:VCALENDAR