BEGIN:VCALENDAR
VERSION:2.0
PRODID:-//OSV - ECPv6.15.20//NONSGML v1.0//EN
CALSCALE:GREGORIAN
METHOD:PUBLISH
X-WR-CALNAME:OSV
X-ORIGINAL-URL:https://svosnabrueck.de
X-WR-CALDESC:Veranstaltungen für OSV
REFRESH-INTERVAL;VALUE=DURATION:PT1H
X-Robots-Tag:noindex
X-PUBLISHED-TTL:PT1H
BEGIN:VTIMEZONE
TZID:UTC
BEGIN:STANDARD
TZOFFSETFROM:+0000
TZOFFSETTO:+0000
TZNAME:UTC
DTSTART:20210101T000000
END:STANDARD
END:VTIMEZONE
BEGIN:VEVENT
DTSTART;TZID=UTC:20220901T180000
DTEND;TZID=UTC:20220901T200000
DTSTAMP:20260424T232423
CREATED:20220831T142429Z
LAST-MODIFIED:20220831T142429Z
UID:5824-1662055200-1662062400@svosnabrueck.de
SUMMARY:Jugendtraining
DESCRIPTION:
URL:https://svosnabrueck.de/event/jugendtraining-33/
END:VEVENT
BEGIN:VEVENT
DTSTART;TZID=UTC:20220903T160000
DTEND;TZID=UTC:20220903T160000
DTSTAMP:20260424T232423
CREATED:20220827T065129Z
LAST-MODIFIED:20220827T065129Z
UID:5781-1662220800-1662220800@svosnabrueck.de
SUMMARY:Hagener SV 2 : OSV 2
DESCRIPTION:
URL:https://svosnabrueck.de/event/hagener-sv-2-osv-2/
END:VEVENT
BEGIN:VEVENT
DTSTART;TZID=UTC:20220905T193000
DTEND;TZID=UTC:20220905T213000
DTSTAMP:20260424T232423
CREATED:20220824T143937Z
LAST-MODIFIED:20220824T143937Z
UID:5770-1662406200-1662413400@svosnabrueck.de
SUMMARY:Erwachsenentraining
DESCRIPTION:
URL:https://svosnabrueck.de/event/erwachsenentraining-10/
END:VEVENT
BEGIN:VEVENT
DTSTART;TZID=UTC:20220906T193000
DTEND;TZID=UTC:20220906T193000
DTSTAMP:20260424T232423
CREATED:20220824T143903Z
LAST-MODIFIED:20220824T143903Z
UID:5768-1662492600-1662492600@svosnabrueck.de
SUMMARY:Blitzcup
DESCRIPTION:
URL:https://svosnabrueck.de/event/blitzcup-10/
END:VEVENT
BEGIN:VEVENT
DTSTART;TZID=UTC:20220908T180000
DTEND;TZID=UTC:20220908T210000
DTSTAMP:20260424T232423
CREATED:20220831T142447Z
LAST-MODIFIED:20220905T125255Z
UID:5826-1662660000-1662670800@svosnabrueck.de
SUMMARY:OSV-Vereinsfeier
DESCRIPTION:
URL:https://svosnabrueck.de/event/jugendtraining-34/
END:VEVENT
BEGIN:VEVENT
DTSTART;TZID=UTC:20220910T160000
DTEND;TZID=UTC:20220910T160000
DTSTAMP:20260424T232423
CREATED:20220827T065253Z
LAST-MODIFIED:20220827T065253Z
UID:5783-1662825600-1662825600@svosnabrueck.de
SUMMARY:SC Fürstenau : OSV 3
DESCRIPTION:
URL:https://svosnabrueck.de/event/sc-fuerstenau-osv-3/
END:VEVENT
BEGIN:VEVENT
DTSTART;TZID=UTC:20220910T160000
DTEND;TZID=UTC:20220910T160000
DTSTAMP:20260424T232423
CREATED:20220827T065325Z
LAST-MODIFIED:20220827T065325Z
UID:5785-1662825600-1662825600@svosnabrueck.de
SUMMARY:OSV 6 : Lemförde 2
DESCRIPTION:
URL:https://svosnabrueck.de/event/osv-6-lemfoerde-2/
END:VEVENT
BEGIN:VEVENT
DTSTART;TZID=UTC:20220912T193000
DTEND;TZID=UTC:20220912T213000
DTSTAMP:20260424T232423
CREATED:20220827T070038Z
LAST-MODIFIED:20220827T070038Z
UID:5797-1663011000-1663018200@svosnabrueck.de
SUMMARY:Erwachsenentraining
DESCRIPTION:
URL:https://svosnabrueck.de/event/erwachsenentraining-11/
END:VEVENT
BEGIN:VEVENT
DTSTART;TZID=UTC:20220913T193000
DTEND;TZID=UTC:20220913T193000
DTSTAMP:20260424T232423
CREATED:20220827T065855Z
LAST-MODIFIED:20220827T065855Z
UID:5793-1663097400-1663097400@svosnabrueck.de
SUMMARY:Vereinsabend
DESCRIPTION:
URL:https://svosnabrueck.de/event/vereinsabend-15/
END:VEVENT
BEGIN:VEVENT
DTSTART;TZID=UTC:20220915T180000
DTEND;TZID=UTC:20220915T200000
DTSTAMP:20260424T232423
CREATED:20220831T142507Z
LAST-MODIFIED:20220831T142507Z
UID:5828-1663264800-1663272000@svosnabrueck.de
SUMMARY:Jugendtraining
DESCRIPTION:
URL:https://svosnabrueck.de/event/jugendtraining-35/
END:VEVENT
BEGIN:VEVENT
DTSTART;TZID=UTC:20220917T160000
DTEND;TZID=UTC:20220917T160000
DTSTAMP:20260424T232423
CREATED:20220827T065415Z
LAST-MODIFIED:20220827T065415Z
UID:5787-1663430400-1663430400@svosnabrueck.de
SUMMARY:SG Osnabrück 3 : OSV 5
DESCRIPTION:
URL:https://svosnabrueck.de/event/sg-osnabrueck-3-osv-5/
END:VEVENT
BEGIN:VEVENT
DTSTART;TZID=UTC:20220919T193000
DTEND;TZID=UTC:20220919T213000
DTSTAMP:20260424T232423
CREATED:20220827T070100Z
LAST-MODIFIED:20220827T070100Z
UID:5799-1663615800-1663623000@svosnabrueck.de
SUMMARY:Erwachsenentraining
DESCRIPTION:
URL:https://svosnabrueck.de/event/erwachsenentraining-12/
END:VEVENT
BEGIN:VEVENT
DTSTART;TZID=UTC:20220920T193000
DTEND;TZID=UTC:20220920T193000
DTSTAMP:20260424T232423
CREATED:20220827T065731Z
LAST-MODIFIED:20220827T065731Z
UID:5791-1663702200-1663702200@svosnabrueck.de
SUMMARY:Schnellschach-Cup
DESCRIPTION:
URL:https://svosnabrueck.de/event/schnellschach-cup-9/
END:VEVENT
BEGIN:VEVENT
DTSTART;TZID=UTC:20220922T180000
DTEND;TZID=UTC:20220922T200000
DTSTAMP:20260424T232423
CREATED:20220831T142524Z
LAST-MODIFIED:20220831T142524Z
UID:5830-1663869600-1663876800@svosnabrueck.de
SUMMARY:Jugendtraining
DESCRIPTION:
URL:https://svosnabrueck.de/event/jugendtraining-36/
END:VEVENT
BEGIN:VEVENT
DTSTART;TZID=UTC:20220924T160000
DTEND;TZID=UTC:20220924T160000
DTSTAMP:20260424T232423
CREATED:20220827T065441Z
LAST-MODIFIED:20220827T065441Z
UID:5789-1664035200-1664035200@svosnabrueck.de
SUMMARY:SK Rulle : OSV 4
DESCRIPTION:
URL:https://svosnabrueck.de/event/sk-rulle-osv-4/
END:VEVENT
BEGIN:VEVENT
DTSTART;TZID=UTC:20220926T193000
DTEND;TZID=UTC:20220926T193000
DTSTAMP:20260424T232423
CREATED:20220827T070319Z
LAST-MODIFIED:20221012T191755Z
UID:5801-1664220600-1664220600@svosnabrueck.de
SUMMARY:Training für alle
DESCRIPTION:
URL:https://svosnabrueck.de/event/erwachsenentraining-13/
END:VEVENT
BEGIN:VEVENT
DTSTART;TZID=UTC:20220927T193000
DTEND;TZID=UTC:20220927T193000
DTSTAMP:20260424T232423
CREATED:20220827T065912Z
LAST-MODIFIED:20220827T065912Z
UID:5795-1664307000-1664307000@svosnabrueck.de
SUMMARY:Vereinsabend
DESCRIPTION:
URL:https://svosnabrueck.de/event/vereinsabend-16/
END:VEVENT
BEGIN:VEVENT
DTSTART;TZID=UTC:20220929T180000
DTEND;TZID=UTC:20220929T200000
DTSTAMP:20260424T232423
CREATED:20220831T142543Z
LAST-MODIFIED:20220831T142543Z
UID:5832-1664474400-1664481600@svosnabrueck.de
SUMMARY:Jugendtraining
DESCRIPTION:
URL:https://svosnabrueck.de/event/jugendtraining-37/
END:VEVENT
END:VCALENDAR