BEGIN:VCALENDAR
VERSION:2.0
PRODID:-//OSV - ECPv6.15.20//NONSGML v1.0//EN
CALSCALE:GREGORIAN
METHOD:PUBLISH
X-WR-CALNAME:OSV
X-ORIGINAL-URL:https://svosnabrueck.de
X-WR-CALDESC:Veranstaltungen für OSV
REFRESH-INTERVAL;VALUE=DURATION:PT1H
X-Robots-Tag:noindex
X-PUBLISHED-TTL:PT1H
BEGIN:VTIMEZONE
TZID:UTC
BEGIN:STANDARD
TZOFFSETFROM:+0000
TZOFFSETTO:+0000
TZNAME:UTC
DTSTART:20210101T000000
END:STANDARD
END:VTIMEZONE
BEGIN:VEVENT
DTSTART;TZID=UTC:20220703T100000
DTEND;TZID=UTC:20220703T100000
DTSTAMP:20260425T015620
CREATED:20220511T134032Z
LAST-MODIFIED:20220511T134032Z
UID:5432-1656842400-1656842400@svosnabrueck.de
SUMMARY:SG Ammerland 1 : OSV 1
DESCRIPTION:
URL:https://svosnabrueck.de/event/sg-ammerland-1-osv-1/
END:VEVENT
BEGIN:VEVENT
DTSTART;TZID=UTC:20220705T193000
DTEND;TZID=UTC:20220705T193000
DTSTAMP:20260425T015620
CREATED:20220701T162706Z
LAST-MODIFIED:20220701T162706Z
UID:5643-1657049400-1657049400@svosnabrueck.de
SUMMARY:Blitzcup
DESCRIPTION:
URL:https://svosnabrueck.de/event/blitzcup-7/
END:VEVENT
BEGIN:VEVENT
DTSTART;TZID=UTC:20220709T160000
DTEND;TZID=UTC:20220709T160000
DTSTAMP:20260425T015620
CREATED:20220601T135328Z
LAST-MODIFIED:20220601T135328Z
UID:5519-1657382400-1657382400@svosnabrueck.de
SUMMARY:Grillblitz
DESCRIPTION:
URL:https://svosnabrueck.de/event/grillblitz/
END:VEVENT
BEGIN:VEVENT
DTSTART;TZID=UTC:20220711T190000
DTEND;TZID=UTC:20220711T210000
DTSTAMP:20260425T015620
CREATED:20220707T194103Z
LAST-MODIFIED:20220707T194103Z
UID:5670-1657566000-1657573200@svosnabrueck.de
SUMMARY:Erwachsenentraining
DESCRIPTION:
URL:https://svosnabrueck.de/event/erwachsenentraining-6/
END:VEVENT
BEGIN:VEVENT
DTSTART;TZID=UTC:20220712T193000
DTEND;TZID=UTC:20220712T193000
DTSTAMP:20260425T015620
CREATED:20220617T111841Z
LAST-MODIFIED:20220617T111841Z
UID:5599-1657654200-1657654200@svosnabrueck.de
SUMMARY:OSV-Sommerturnier Runde 2
DESCRIPTION:
URL:https://svosnabrueck.de/event/osv-sommerturnier-runde-2-2/
END:VEVENT
BEGIN:VEVENT
DTSTART;TZID=UTC:20220714T180000
DTEND;TZID=UTC:20220714T200000
DTSTAMP:20260425T015620
CREATED:20220707T194138Z
LAST-MODIFIED:20220707T194138Z
UID:5672-1657821600-1657828800@svosnabrueck.de
SUMMARY:Jugendtraining
DESCRIPTION:
URL:https://svosnabrueck.de/event/jugendtraining-32/
END:VEVENT
BEGIN:VEVENT
DTSTART;TZID=UTC:20220719T193000
DTEND;TZID=UTC:20220719T193000
DTSTAMP:20260425T015620
CREATED:20220701T162724Z
LAST-MODIFIED:20220701T162724Z
UID:5645-1658259000-1658259000@svosnabrueck.de
SUMMARY:Schnellschach-Cup
DESCRIPTION:
URL:https://svosnabrueck.de/event/schnellschach-cup-8/
END:VEVENT
BEGIN:VEVENT
DTSTART;TZID=UTC:20220722T193000
DTEND;TZID=UTC:20220722T193000
DTSTAMP:20260425T015620
CREATED:20220617T112033Z
LAST-MODIFIED:20220717T084223Z
UID:5607-1658518200-1658518200@svosnabrueck.de
SUMMARY:Regelkunde-Abend mit Stefan Ewert
DESCRIPTION:
URL:https://svosnabrueck.de/event/regelvortrag/
END:VEVENT
BEGIN:VEVENT
DTSTART;TZID=UTC:20220726T193000
DTEND;TZID=UTC:20220726T193000
DTSTAMP:20260425T015620
CREATED:20220617T111857Z
LAST-MODIFIED:20220617T111857Z
UID:5601-1658863800-1658863800@svosnabrueck.de
SUMMARY:OSV-Sommerturnier Runde 3
DESCRIPTION:
URL:https://svosnabrueck.de/event/osv-sommerturnier-runde-3-2/
END:VEVENT
END:VCALENDAR