BEGIN:VCALENDAR
VERSION:2.0
PRODID:-//OSV - ECPv6.15.20//NONSGML v1.0//EN
CALSCALE:GREGORIAN
METHOD:PUBLISH
X-ORIGINAL-URL:https://svosnabrueck.de
X-WR-CALDESC:Veranstaltungen für OSV
REFRESH-INTERVAL;VALUE=DURATION:PT1H
X-Robots-Tag:noindex
X-PUBLISHED-TTL:PT1H
BEGIN:VTIMEZONE
TZID:UTC
BEGIN:STANDARD
TZOFFSETFROM:+0000
TZOFFSETTO:+0000
TZNAME:UTC
DTSTART:20210101T000000
END:STANDARD
END:VTIMEZONE
BEGIN:VEVENT
DTSTART;TZID=UTC:20220602T180000
DTEND;TZID=UTC:20220602T200000
DTSTAMP:20260425T031743
CREATED:20220529T182209Z
LAST-MODIFIED:20220529T182209Z
UID:5485-1654192800-1654200000@svosnabrueck.de
SUMMARY:Jugendtraining
DESCRIPTION:
URL:https://svosnabrueck.de/event/jugendtraining-27/
END:VEVENT
BEGIN:VEVENT
DTSTART;TZID=UTC:20220607T193000
DTEND;TZID=UTC:20220607T193000
DTSTAMP:20260425T031743
CREATED:20220511T134120Z
LAST-MODIFIED:20220511T134120Z
UID:5434-1654630200-1654630200@svosnabrueck.de
SUMMARY:Blitzcup
DESCRIPTION:
URL:https://svosnabrueck.de/event/blitzcup-6/
END:VEVENT
BEGIN:VEVENT
DTSTART;TZID=UTC:20220609T180000
DTEND;TZID=UTC:20220609T200000
DTSTAMP:20260425T031743
CREATED:20220529T182230Z
LAST-MODIFIED:20220529T182230Z
UID:5487-1654797600-1654804800@svosnabrueck.de
SUMMARY:Jugendtraining
DESCRIPTION:
URL:https://svosnabrueck.de/event/jugendtraining-30/
END:VEVENT
BEGIN:VEVENT
DTSTART;TZID=UTC:20220611T160000
DTEND;TZID=UTC:20220611T160000
DTSTAMP:20260425T031743
CREATED:20220511T133425Z
LAST-MODIFIED:20220511T133425Z
UID:5416-1654963200-1654963200@svosnabrueck.de
SUMMARY:OSV 5 : Hagener SV 4
DESCRIPTION:
URL:https://svosnabrueck.de/event/osv-5-hagener-sv-4/
END:VEVENT
BEGIN:VEVENT
DTSTART;TZID=UTC:20220611T160000
DTEND;TZID=UTC:20220611T160000
DTSTAMP:20260425T031743
CREATED:20220511T133612Z
LAST-MODIFIED:20220511T133612Z
UID:5422-1654963200-1654963200@svosnabrueck.de
SUMMARY:OSV 4 : SV Hellern 5
DESCRIPTION:
URL:https://svosnabrueck.de/event/osv-4-sv-hellern-5/
END:VEVENT
BEGIN:VEVENT
DTSTART;TZID=UTC:20220611T160000
DTEND;TZID=UTC:20220611T160000
DTSTAMP:20260425T031743
CREATED:20220610T113654Z
LAST-MODIFIED:20220610T113733Z
UID:5569-1654963200-1654963200@svosnabrueck.de
SUMMARY:SK Nordhorn-Blanke 4 : OSV 2
DESCRIPTION:
URL:https://svosnabrueck.de/event/osv-2-rochade-hollage/
END:VEVENT
BEGIN:VEVENT
DTSTART;TZID=UTC:20220613T190000
DTEND;TZID=UTC:20220613T210000
DTSTAMP:20260425T031743
CREATED:20220606T133022Z
LAST-MODIFIED:20220606T133022Z
UID:5544-1655146800-1655154000@svosnabrueck.de
SUMMARY:Erwachsenentraining
DESCRIPTION:
URL:https://svosnabrueck.de/event/erwachsenentraining-5/
END:VEVENT
BEGIN:VEVENT
DTSTART;TZID=UTC:20220614T193000
DTEND;TZID=UTC:20220614T193000
DTSTAMP:20260425T031743
CREATED:20220325T125349Z
LAST-MODIFIED:20220325T125349Z
UID:5209-1655235000-1655235000@svosnabrueck.de
SUMMARY:Vereinsmeisterschaft Runde 7
DESCRIPTION:
URL:https://svosnabrueck.de/event/vereinsmeisterschaft-runde-7/
END:VEVENT
BEGIN:VEVENT
DTSTART;TZID=UTC:20220616T180000
DTEND;TZID=UTC:20220616T200000
DTSTAMP:20260425T031743
CREATED:20220529T182248Z
LAST-MODIFIED:20220529T182248Z
UID:5489-1655402400-1655409600@svosnabrueck.de
SUMMARY:Jugendtraining
DESCRIPTION:
URL:https://svosnabrueck.de/event/jugendtraining-31/
END:VEVENT
BEGIN:VEVENT
DTSTART;TZID=UTC:20220619T100000
DTEND;TZID=UTC:20220619T100000
DTSTAMP:20260425T031743
CREATED:20220511T134004Z
LAST-MODIFIED:20220511T134004Z
UID:5430-1655632800-1655632800@svosnabrueck.de
SUMMARY:SK Bremen-Nord : OSV 1
DESCRIPTION:
URL:https://svosnabrueck.de/event/sk-bremen-nord-osv-1/
END:VEVENT
BEGIN:VEVENT
DTSTART;TZID=UTC:20220620T190000
DTEND;TZID=UTC:20220620T210000
DTSTAMP:20260425T031743
CREATED:20220606T133107Z
LAST-MODIFIED:20220606T133107Z
UID:5546-1655751600-1655758800@svosnabrueck.de
SUMMARY:Erwachsenentraining (fällt aus)
DESCRIPTION:
URL:https://svosnabrueck.de/event/erwachsenentraining-faellt-aus/
END:VEVENT
BEGIN:VEVENT
DTSTART;TZID=UTC:20220621T193000
DTEND;TZID=UTC:20220621T193000
DTSTAMP:20260425T031743
CREATED:20220511T134148Z
LAST-MODIFIED:20220511T134148Z
UID:5436-1655839800-1655839800@svosnabrueck.de
SUMMARY:Schnellschach-Cup
DESCRIPTION:
URL:https://svosnabrueck.de/event/schnellschach-cup-7/
END:VEVENT
BEGIN:VEVENT
DTSTART;TZID=UTC:20220623T180000
DTEND;TZID=UTC:20220623T200000
DTSTAMP:20260425T031743
CREATED:20220606T133222Z
LAST-MODIFIED:20220606T133222Z
UID:5550-1656007200-1656014400@svosnabrueck.de
SUMMARY:Jugendtraining (fällt aus)
DESCRIPTION:
URL:https://svosnabrueck.de/event/jugendtraining-faellt-aus/
END:VEVENT
BEGIN:VEVENT
DTSTART;TZID=UTC:20220625T160000
DTEND;TZID=UTC:20220625T160000
DTSTAMP:20260425T031743
CREATED:20220511T133455Z
LAST-MODIFIED:20220511T133455Z
UID:5418-1656172800-1656172800@svosnabrueck.de
SUMMARY:OSV 5 : SV Hellern 6
DESCRIPTION:
URL:https://svosnabrueck.de/event/osv-5-sv-hellern-6/
END:VEVENT
BEGIN:VEVENT
DTSTART;TZID=UTC:20220625T160000
DTEND;TZID=UTC:20220625T160000
DTSTAMP:20260425T031743
CREATED:20220511T133549Z
LAST-MODIFIED:20220511T133549Z
UID:5420-1656172800-1656172800@svosnabrueck.de
SUMMARY:Rochade Hollage 2 : OSV 4
DESCRIPTION:
URL:https://svosnabrueck.de/event/rochade-hollage-2-osv-4/
END:VEVENT
BEGIN:VEVENT
DTSTART;TZID=UTC:20220625T160000
DTEND;TZID=UTC:20220625T160000
DTSTAMP:20260425T031743
CREATED:20220511T133657Z
LAST-MODIFIED:20220511T133657Z
UID:5424-1656172800-1656172800@svosnabrueck.de
SUMMARY:OSV 2 : SV Lingen 2
DESCRIPTION:
URL:https://svosnabrueck.de/event/osv-2-sv-lingen-2/
END:VEVENT
BEGIN:VEVENT
DTSTART;TZID=UTC:20220627T190000
DTEND;TZID=UTC:20220627T210000
DTSTAMP:20260425T031743
CREATED:20220606T133130Z
LAST-MODIFIED:20220606T133130Z
UID:5548-1656356400-1656363600@svosnabrueck.de
SUMMARY:Erwachsenentraining (fällt aus)
DESCRIPTION:
URL:https://svosnabrueck.de/event/erwachsenentraining-faellt-aus-2/
END:VEVENT
BEGIN:VEVENT
DTSTART;TZID=UTC:20220628T193000
DTEND;TZID=UTC:20220628T193000
DTSTAMP:20260425T031743
CREATED:20220617T111819Z
LAST-MODIFIED:20220617T111819Z
UID:5597-1656444600-1656444600@svosnabrueck.de
SUMMARY:OSV-Sommerturnier Runde 1
DESCRIPTION:
URL:https://svosnabrueck.de/event/osv-sommerturnier-runde-1-2/
END:VEVENT
END:VCALENDAR