BEGIN:VCALENDAR
VERSION:2.0
PRODID:-//OSV - ECPv6.15.20//NONSGML v1.0//EN
CALSCALE:GREGORIAN
METHOD:PUBLISH
X-ORIGINAL-URL:https://svosnabrueck.de
X-WR-CALDESC:Veranstaltungen für OSV
REFRESH-INTERVAL;VALUE=DURATION:PT1H
X-Robots-Tag:noindex
X-PUBLISHED-TTL:PT1H
BEGIN:VTIMEZONE
TZID:Europe/Berlin
BEGIN:DAYLIGHT
TZOFFSETFROM:+0100
TZOFFSETTO:+0200
TZNAME:CEST
DTSTART:20230326T010000
END:DAYLIGHT
BEGIN:STANDARD
TZOFFSETFROM:+0200
TZOFFSETTO:+0100
TZNAME:CET
DTSTART:20231029T010000
END:STANDARD
BEGIN:DAYLIGHT
TZOFFSETFROM:+0100
TZOFFSETTO:+0200
TZNAME:CEST
DTSTART:20240331T010000
END:DAYLIGHT
BEGIN:STANDARD
TZOFFSETFROM:+0200
TZOFFSETTO:+0100
TZNAME:CET
DTSTART:20241027T010000
END:STANDARD
BEGIN:DAYLIGHT
TZOFFSETFROM:+0100
TZOFFSETTO:+0200
TZNAME:CEST
DTSTART:20250330T010000
END:DAYLIGHT
BEGIN:STANDARD
TZOFFSETFROM:+0200
TZOFFSETTO:+0100
TZNAME:CET
DTSTART:20251026T010000
END:STANDARD
END:VTIMEZONE
BEGIN:VEVENT
DTSTART;TZID=Europe/Berlin:20241130T160000
DTEND;TZID=Europe/Berlin:20241130T160000
DTSTAMP:20260423T084650
CREATED:20241125T162557Z
LAST-MODIFIED:20241125T162557Z
UID:9911-1732982400-1732982400@svosnabrueck.de
SUMMARY:TSV Riemsloh 2 : OSV 4
DESCRIPTION:
URL:https://svosnabrueck.de/event/tsv-riemsloh-2-osv-4-3/
END:VEVENT
BEGIN:VEVENT
DTSTART;TZID=Europe/Berlin:20241130T160000
DTEND;TZID=Europe/Berlin:20241130T160000
DTSTAMP:20260423T084650
CREATED:20241125T162743Z
LAST-MODIFIED:20241125T162743Z
UID:9913-1732982400-1732982400@svosnabrueck.de
SUMMARY:SV Bad Essen 2 : OSV 5
DESCRIPTION:
URL:https://svosnabrueck.de/event/sv-bad-essen-2-osv-5-3/
END:VEVENT
BEGIN:VEVENT
DTSTART;TZID=Europe/Berlin:20241130T160000
DTEND;TZID=Europe/Berlin:20241130T160000
DTSTAMP:20260423T084650
CREATED:20241125T162805Z
LAST-MODIFIED:20241125T162805Z
UID:9915-1732982400-1732982400@svosnabrueck.de
SUMMARY:Dissen-Bad Roth : OSV 6
DESCRIPTION:
URL:https://svosnabrueck.de/event/dissen-bad-roth-osv-6/
END:VEVENT
END:VCALENDAR