BEGIN:VCALENDAR
VERSION:2.0
PRODID:-//OSV - ECPv6.15.20//NONSGML v1.0//EN
CALSCALE:GREGORIAN
METHOD:PUBLISH
X-WR-CALNAME:OSV
X-ORIGINAL-URL:https://svosnabrueck.de
X-WR-CALDESC:Veranstaltungen für OSV
REFRESH-INTERVAL;VALUE=DURATION:PT1H
X-Robots-Tag:noindex
X-PUBLISHED-TTL:PT1H
BEGIN:VTIMEZONE
TZID:Europe/Berlin
BEGIN:DAYLIGHT
TZOFFSETFROM:+0100
TZOFFSETTO:+0200
TZNAME:CEST
DTSTART:20230326T010000
END:DAYLIGHT
BEGIN:STANDARD
TZOFFSETFROM:+0200
TZOFFSETTO:+0100
TZNAME:CET
DTSTART:20231029T010000
END:STANDARD
BEGIN:DAYLIGHT
TZOFFSETFROM:+0100
TZOFFSETTO:+0200
TZNAME:CEST
DTSTART:20240331T010000
END:DAYLIGHT
BEGIN:STANDARD
TZOFFSETFROM:+0200
TZOFFSETTO:+0100
TZNAME:CET
DTSTART:20241027T010000
END:STANDARD
BEGIN:DAYLIGHT
TZOFFSETFROM:+0100
TZOFFSETTO:+0200
TZNAME:CEST
DTSTART:20250330T010000
END:DAYLIGHT
BEGIN:STANDARD
TZOFFSETFROM:+0200
TZOFFSETTO:+0100
TZNAME:CET
DTSTART:20251026T010000
END:STANDARD
END:VTIMEZONE
BEGIN:VEVENT
DTSTART;TZID=Europe/Berlin:20241102T160000
DTEND;TZID=Europe/Berlin:20241102T160000
DTSTAMP:20260423T101645
CREATED:20241028T060008Z
LAST-MODIFIED:20241028T060008Z
UID:9781-1730563200-1730563200@svosnabrueck.de
SUMMARY:OSV 6 : SV Hellern 5
DESCRIPTION:
URL:https://svosnabrueck.de/event/osv-6-sv-hellern-5/
END:VEVENT
BEGIN:VEVENT
DTSTART;TZID=Europe/Berlin:20241102T160000
DTEND;TZID=Europe/Berlin:20241102T160000
DTSTAMP:20260423T101645
CREATED:20241028T060031Z
LAST-MODIFIED:20241028T060031Z
UID:9784-1730563200-1730563200@svosnabrueck.de
SUMMARY:OSV 4 : SV Bad Essen 2
DESCRIPTION:
URL:https://svosnabrueck.de/event/osv-4-sv-bad-essen-2-4/
END:VEVENT
BEGIN:VEVENT
DTSTART;TZID=Europe/Berlin:20241102T160000
DTEND;TZID=Europe/Berlin:20241102T160000
DTSTAMP:20260423T101645
CREATED:20241028T060056Z
LAST-MODIFIED:20241028T060056Z
UID:9786-1730563200-1730563200@svosnabrueck.de
SUMMARY:OSV 5 : SG Osnabrück 3
DESCRIPTION:
URL:https://svosnabrueck.de/event/osv-5-sg-osnabrueck-3/
END:VEVENT
END:VCALENDAR