BEGIN:VCALENDAR
VERSION:2.0
PRODID:-//OSV - ECPv6.15.20//NONSGML v1.0//EN
CALSCALE:GREGORIAN
METHOD:PUBLISH
X-WR-CALNAME:OSV
X-ORIGINAL-URL:https://svosnabrueck.de
X-WR-CALDESC:Veranstaltungen für OSV
REFRESH-INTERVAL;VALUE=DURATION:PT1H
X-Robots-Tag:noindex
X-PUBLISHED-TTL:PT1H
BEGIN:VTIMEZONE
TZID:Europe/Berlin
BEGIN:DAYLIGHT
TZOFFSETFROM:+0100
TZOFFSETTO:+0200
TZNAME:CEST
DTSTART:20230326T010000
END:DAYLIGHT
BEGIN:STANDARD
TZOFFSETFROM:+0200
TZOFFSETTO:+0100
TZNAME:CET
DTSTART:20231029T010000
END:STANDARD
BEGIN:DAYLIGHT
TZOFFSETFROM:+0100
TZOFFSETTO:+0200
TZNAME:CEST
DTSTART:20240331T010000
END:DAYLIGHT
BEGIN:STANDARD
TZOFFSETFROM:+0200
TZOFFSETTO:+0100
TZNAME:CET
DTSTART:20241027T010000
END:STANDARD
BEGIN:DAYLIGHT
TZOFFSETFROM:+0100
TZOFFSETTO:+0200
TZNAME:CEST
DTSTART:20250330T010000
END:DAYLIGHT
BEGIN:STANDARD
TZOFFSETFROM:+0200
TZOFFSETTO:+0100
TZNAME:CET
DTSTART:20251026T010000
END:STANDARD
END:VTIMEZONE
BEGIN:VEVENT
DTSTART;TZID=Europe/Berlin:20240511T160000
DTEND;TZID=Europe/Berlin:20240511T160000
DTSTAMP:20260423T185733
CREATED:20240429T155114Z
LAST-MODIFIED:20240429T155114Z
UID:9093-1715443200-1715443200@svosnabrueck.de
SUMMARY:OSV 4 : Hagener SV 3
DESCRIPTION:
URL:https://svosnabrueck.de/event/osv-4-hagener-sv-3/
END:VEVENT
BEGIN:VEVENT
DTSTART;TZID=Europe/Berlin:20240511T160000
DTEND;TZID=Europe/Berlin:20240511T160000
DTSTAMP:20260423T185733
CREATED:20240429T155137Z
LAST-MODIFIED:20240429T155137Z
UID:9095-1715443200-1715443200@svosnabrueck.de
SUMMARY:OSV 5 : Dissen-Bad Roth
DESCRIPTION:
URL:https://svosnabrueck.de/event/osv-5-dissen-bad-roth/
END:VEVENT
BEGIN:VEVENT
DTSTART;TZID=Europe/Berlin:20240511T160000
DTEND;TZID=Europe/Berlin:20240511T160000
DTSTAMP:20260423T185733
CREATED:20240429T155157Z
LAST-MODIFIED:20240429T155157Z
UID:9097-1715443200-1715443200@svosnabrueck.de
SUMMARY:Hagener SV 4 : OSV 6
DESCRIPTION:
URL:https://svosnabrueck.de/event/hagener-sv-4-osv-6/
END:VEVENT
END:VCALENDAR