BEGIN:VCALENDAR
VERSION:2.0
PRODID:-//OSV - ECPv6.15.20//NONSGML v1.0//EN
CALSCALE:GREGORIAN
METHOD:PUBLISH
X-ORIGINAL-URL:https://svosnabrueck.de
X-WR-CALDESC:Veranstaltungen für OSV
REFRESH-INTERVAL;VALUE=DURATION:PT1H
X-Robots-Tag:noindex
X-PUBLISHED-TTL:PT1H
BEGIN:VTIMEZONE
TZID:Europe/Berlin
BEGIN:DAYLIGHT
TZOFFSETFROM:+0100
TZOFFSETTO:+0200
TZNAME:CEST
DTSTART:20230326T010000
END:DAYLIGHT
BEGIN:STANDARD
TZOFFSETFROM:+0200
TZOFFSETTO:+0100
TZNAME:CET
DTSTART:20231029T010000
END:STANDARD
BEGIN:DAYLIGHT
TZOFFSETFROM:+0100
TZOFFSETTO:+0200
TZNAME:CEST
DTSTART:20240331T010000
END:DAYLIGHT
BEGIN:STANDARD
TZOFFSETFROM:+0200
TZOFFSETTO:+0100
TZNAME:CET
DTSTART:20241027T010000
END:STANDARD
BEGIN:DAYLIGHT
TZOFFSETFROM:+0100
TZOFFSETTO:+0200
TZNAME:CEST
DTSTART:20250330T010000
END:DAYLIGHT
BEGIN:STANDARD
TZOFFSETFROM:+0200
TZOFFSETTO:+0100
TZNAME:CET
DTSTART:20251026T010000
END:STANDARD
END:VTIMEZONE
BEGIN:VEVENT
DTSTART;TZID=Europe/Berlin:20240217T160000
DTEND;TZID=Europe/Berlin:20240217T160000
DTSTAMP:20260423T231922
CREATED:20240212T180635Z
LAST-MODIFIED:20240212T180635Z
UID:8728-1708185600-1708185600@svosnabrueck.de
SUMMARY:TSV Riemsloh 2  : OSV 4
DESCRIPTION:
URL:https://svosnabrueck.de/event/tsv-riemsloh-2-osv-4-2/
END:VEVENT
BEGIN:VEVENT
DTSTART;TZID=Europe/Berlin:20240217T160000
DTEND;TZID=Europe/Berlin:20240217T160000
DTSTAMP:20260423T231922
CREATED:20240212T180702Z
LAST-MODIFIED:20240212T180702Z
UID:8730-1708185600-1708185600@svosnabrueck.de
SUMMARY:OSV 5 : SV Hellern 5
DESCRIPTION:
URL:https://svosnabrueck.de/event/osv-5-sv-hellern-5-2/
END:VEVENT
END:VCALENDAR