BEGIN:VCALENDAR
VERSION:2.0
PRODID:-//OSV - ECPv6.15.20//NONSGML v1.0//EN
CALSCALE:GREGORIAN
METHOD:PUBLISH
X-ORIGINAL-URL:https://svosnabrueck.de
X-WR-CALDESC:Veranstaltungen für OSV
REFRESH-INTERVAL;VALUE=DURATION:PT1H
X-Robots-Tag:noindex
X-PUBLISHED-TTL:PT1H
BEGIN:VTIMEZONE
TZID:Europe/Berlin
BEGIN:DAYLIGHT
TZOFFSETFROM:+0100
TZOFFSETTO:+0200
TZNAME:CEST
DTSTART:20220327T010000
END:DAYLIGHT
BEGIN:STANDARD
TZOFFSETFROM:+0200
TZOFFSETTO:+0100
TZNAME:CET
DTSTART:20221030T010000
END:STANDARD
BEGIN:DAYLIGHT
TZOFFSETFROM:+0100
TZOFFSETTO:+0200
TZNAME:CEST
DTSTART:20230326T010000
END:DAYLIGHT
BEGIN:STANDARD
TZOFFSETFROM:+0200
TZOFFSETTO:+0100
TZNAME:CET
DTSTART:20231029T010000
END:STANDARD
BEGIN:DAYLIGHT
TZOFFSETFROM:+0100
TZOFFSETTO:+0200
TZNAME:CEST
DTSTART:20240331T010000
END:DAYLIGHT
BEGIN:STANDARD
TZOFFSETFROM:+0200
TZOFFSETTO:+0100
TZNAME:CET
DTSTART:20241027T010000
END:STANDARD
END:VTIMEZONE
BEGIN:VEVENT
DTSTART;TZID=Europe/Berlin:20230603T160000
DTEND;TZID=Europe/Berlin:20230603T160000
DTSTAMP:20260424T102500
CREATED:20230529T115532Z
LAST-MODIFIED:20230529T115532Z
UID:7432-1685808000-1685808000@svosnabrueck.de
SUMMARY:OSV 4 : SG Osnabrück 3
DESCRIPTION:
URL:https://svosnabrueck.de/event/osv-4-sg-osnabrueck-3-2/
END:VEVENT
BEGIN:VEVENT
DTSTART;TZID=Europe/Berlin:20230603T160000
DTEND;TZID=Europe/Berlin:20230603T160000
DTSTAMP:20260424T102500
CREATED:20230529T115557Z
LAST-MODIFIED:20230529T115642Z
UID:7434-1685808000-1685808000@svosnabrueck.de
SUMMARY:OSV 5 : Gaste-Hasbergen
DESCRIPTION:
URL:https://svosnabrueck.de/event/osv-5-gaste-hasbergen/
END:VEVENT
END:VCALENDAR