BEGIN:VCALENDAR
VERSION:2.0
PRODID:-//OSV - ECPv6.15.20//NONSGML v1.0//EN
CALSCALE:GREGORIAN
METHOD:PUBLISH
X-WR-CALNAME:OSV
X-ORIGINAL-URL:https://svosnabrueck.de
X-WR-CALDESC:Veranstaltungen für OSV
REFRESH-INTERVAL;VALUE=DURATION:PT1H
X-Robots-Tag:noindex
X-PUBLISHED-TTL:PT1H
BEGIN:VTIMEZONE
TZID:UTC
BEGIN:STANDARD
TZOFFSETFROM:+0000
TZOFFSETTO:+0000
TZNAME:UTC
DTSTART:20210101T000000
END:STANDARD
END:VTIMEZONE
BEGIN:VEVENT
DTSTART;TZID=UTC:20220829T193000
DTEND;TZID=UTC:20220829T213000
DTSTAMP:20260425T004139
CREATED:20220811T174706Z
LAST-MODIFIED:20220811T174706Z
UID:5741-1661801400-1661808600@svosnabrueck.de
SUMMARY:Erwachsenentraining
DESCRIPTION:
URL:https://svosnabrueck.de/event/erwachsenentraining-9/
END:VEVENT
END:VCALENDAR