BEGIN:VCALENDAR
VERSION:2.0
PRODID:-//OSV - ECPv6.15.20//NONSGML v1.0//EN
CALSCALE:GREGORIAN
METHOD:PUBLISH
X-WR-CALNAME:OSV
X-ORIGINAL-URL:https://svosnabrueck.de
X-WR-CALDESC:Veranstaltungen für OSV
REFRESH-INTERVAL;VALUE=DURATION:PT1H
X-Robots-Tag:noindex
X-PUBLISHED-TTL:PT1H
BEGIN:VTIMEZONE
TZID:UTC
BEGIN:STANDARD
TZOFFSETFROM:+0000
TZOFFSETTO:+0000
TZNAME:UTC
DTSTART:20210101T000000
END:STANDARD
END:VTIMEZONE
BEGIN:VEVENT
DTSTART;TZID=UTC:20220714T180000
DTEND;TZID=UTC:20220714T200000
DTSTAMP:20260425T031504
CREATED:20220707T194138Z
LAST-MODIFIED:20220707T194138Z
UID:5672-1657821600-1657828800@svosnabrueck.de
SUMMARY:Jugendtraining
DESCRIPTION:
URL:https://svosnabrueck.de/event/jugendtraining-32/
END:VEVENT
END:VCALENDAR