BEGIN:VCALENDAR
VERSION:2.0
PRODID:-//OSV - ECPv6.15.20//NONSGML v1.0//EN
CALSCALE:GREGORIAN
METHOD:PUBLISH
X-WR-CALNAME:OSV
X-ORIGINAL-URL:https://svosnabrueck.de
X-WR-CALDESC:Veranstaltungen für OSV
REFRESH-INTERVAL;VALUE=DURATION:PT1H
X-Robots-Tag:noindex
X-PUBLISHED-TTL:PT1H
BEGIN:VTIMEZONE
TZID:UTC
BEGIN:STANDARD
TZOFFSETFROM:+0000
TZOFFSETTO:+0000
TZNAME:UTC
DTSTART:20210101T000000
END:STANDARD
END:VTIMEZONE
BEGIN:VEVENT
DTSTART;TZID=UTC:20220628T193000
DTEND;TZID=UTC:20220628T193000
DTSTAMP:20260425T031508
CREATED:20220617T111819Z
LAST-MODIFIED:20220617T111819Z
UID:5597-1656444600-1656444600@svosnabrueck.de
SUMMARY:OSV-Sommerturnier Runde 1
DESCRIPTION:
URL:https://svosnabrueck.de/event/osv-sommerturnier-runde-1-2/
END:VEVENT
END:VCALENDAR