BEGIN:VCALENDAR
VERSION:2.0
PRODID:-//OSV - ECPv6.15.20//NONSGML v1.0//EN
CALSCALE:GREGORIAN
METHOD:PUBLISH
X-ORIGINAL-URL:https://svosnabrueck.de
X-WR-CALDESC:Veranstaltungen für OSV
REFRESH-INTERVAL;VALUE=DURATION:PT1H
X-Robots-Tag:noindex
X-PUBLISHED-TTL:PT1H
BEGIN:VTIMEZONE
TZID:UTC
BEGIN:STANDARD
TZOFFSETFROM:+0000
TZOFFSETTO:+0000
TZNAME:UTC
DTSTART:20210101T000000
END:STANDARD
END:VTIMEZONE
BEGIN:VEVENT
DTSTART;TZID=UTC:20220625T160000
DTEND;TZID=UTC:20220625T160000
DTSTAMP:20260425T044127
CREATED:20220511T133455Z
LAST-MODIFIED:20220511T133455Z
UID:5418-1656172800-1656172800@svosnabrueck.de
SUMMARY:OSV 5 : SV Hellern 6
DESCRIPTION:
URL:https://svosnabrueck.de/event/osv-5-sv-hellern-6/
END:VEVENT
BEGIN:VEVENT
DTSTART;TZID=UTC:20220625T160000
DTEND;TZID=UTC:20220625T160000
DTSTAMP:20260425T044127
CREATED:20220511T133549Z
LAST-MODIFIED:20220511T133549Z
UID:5420-1656172800-1656172800@svosnabrueck.de
SUMMARY:Rochade Hollage 2 : OSV 4
DESCRIPTION:
URL:https://svosnabrueck.de/event/rochade-hollage-2-osv-4/
END:VEVENT
BEGIN:VEVENT
DTSTART;TZID=UTC:20220625T160000
DTEND;TZID=UTC:20220625T160000
DTSTAMP:20260425T044127
CREATED:20220511T133657Z
LAST-MODIFIED:20220511T133657Z
UID:5424-1656172800-1656172800@svosnabrueck.de
SUMMARY:OSV 2 : SV Lingen 2
DESCRIPTION:
URL:https://svosnabrueck.de/event/osv-2-sv-lingen-2/
END:VEVENT
END:VCALENDAR